{"text_format":"1","workbook":"xlsx","n_sheets":7,"sheets":["SUSCEPTIBLES LISTADO","base","Instructivo","Susceptibles _","1. Lista Consolidado Susceptibl","2. Susceptibles x Nivel","3. Susceptibles"],"not_rendered":{"charts":0,"images":5,"macros":1,"external_links":0,"defined_names":25,"comments":0,"pivot_tables":0},"unopened":[],"bounds":{"document_bytes":16777216,"sheet_cells":100000,"rows_first":2000,"rows_last":500,"rows_between":2000,"halvings":0,"cell_chars":16384,"cell_head_chars":4096},"cells_cut":0,"cells_raw":0,"read":"whole","date_system":"1900"}

{"sheet":"SUSCEPTIBLES LISTADO","index":0,"n_rows":136,"n_cols":38,"rows_kept":136,"cut":false,"hidden":true,"merged":[[6,0,6,37],[8,30,8,36],[1,0,1,37],[2,0,2,37],[3,0,3,37],[4,0,4,37],[5,0,5,37],[135,0,135,1],[7,0,7,37],[8,2,8,8],[8,9,8,15],[8,16,8,22],[8,23,8,29],[8,37,9,37]]}
[]
["INSTITUTO DE SALUD DEL ESTADO DE MÉXICO"]
["SUBDIRECCIÓN DE EPIDEMIOLOGÍA"]
["DEPARTAMENTO DE SALUD DE LA INFANCIA Y ADOLESCENCIA"]
["PROGRAMA DE VACUNACIÓN UNIVERSAL"]
["CÁLCULO DE SUSCEPTIBLES POR ESTADO/JURISDICCIÓN/MUNICIPIO Y UNIDADES MÉDICAS"]
["CAMPAÑA DE VACUNACIÓN DE SEGUIMIENTO DE SARAMPIÓN RUBEOLA DE ALTA CALIDAD (CVS) "]
[]
["INSTITUCIÓN:",null,"2015 (5 AÑOS)",null,null,null,null,null,null,"2016 (9 AÑOS)",null,null,null,null,null,null,"2017 (8 AÑOS)",null,null,null,null,null,null,"2018 (7 AÑOS)",null,null,null,null,null,null,"2019 (6 AÑOS)",null,null,null,null,null,null,"% TOTAL DE SUSCEPTIBLES"]
["No.","MUNICIPIO/DISTRITO","POBLACIÓN 12 A 23 MESES","VACUNADOS CON SRP 1a DOSIS","% DE COBERTURA","NÚMERO DE NIÑOS NO VACUNADOS CON SRP","VACUNADOS Y NO INMUNIZADOS (5% DE LOS VACUNADOS)","TOTAL DE SUSCEPTIBLES","% DE SUSCEPTIBLES POR COHORTE ANUAL","POBLACIÓN 6 AÑOS","VACUNADOS CON SRP 2a DOSIS","% DE COBERTURA","NÚMERO DE NIÑOS NO VACUNADOS CON SRP","VACUNADOS Y NO INMUNIZADOS (5% DE LOS VACUNADOS)","TOTAL DE SUSCEPTIBLES","% DE SUSCEPTIBLES POR COHORTE ANUAL","POBLACIÓN 6 AÑOS","VACUNADOS CON SRP 2a DOSIS","% DE COBERTURA","NÚMERO DE NIÑOS NO VACUNADOS CON SRP","VACUNADOS Y NO INMUNIZADOS (5% DE LOS VACUNADOS)","TOTAL DE SUSCEPTIBLES","% DE SUSCEPTIBLES POR COHORTE ANUAL","POBLACIÓN 6 AÑOS","VACUNADOS CON SRP 2a DOSIS","% DE COBERTURA","NÚMERO DE NIÑOS NO VACUNADOS CON SRP","VACUNADOS Y NO INMUNIZADOS (5% DE LOS VACUNADOS)","TOTAL DE SUSCEPTIBLES","% DE SUSCEPTIBLES POR COHORTE ANUAL","POBLACIÓN 6 AÑOS","VACUNADOS CON SRP 2a DOSIS","% DE COBERTURA","NÚMERO DE NIÑOS NO VACUNADOS CON SRP","VACUNADOS Y NO INMUNIZADOS (5% DE LOS VACUNADOS)","TOTAL DE SUSCEPTIBLES","% DE SUSCEPTIBLES POR COHORTE ANUAL"]
[1,"1   ACAMBAY DE RUÍZ CASTAÑEDA",1217,1415,{"$f":"D11/C11*100","v":116.2695152013147},{"$f":"C11-D11","v":-198},{"$f":"D11*5/100","v":70.75},{"$f":"F11+G11","v":-127.25},{"$f":"H11/C11*100","v":-10.456039441248972},1342,1189,{"$f":"K11/J11*100","v":88.599105812220571},{"$f":"J11-K11","v":153},{"$f":"K11*5/100","v":59.45},{"$f":"M11+N11","v":212.45},{"$f":"O11/J11*100","v":15.83084947839046},1249,1033,{"$f":"R11/Q11*100","v":82.706164931945551},{"$f":"Q11-R11","v":216},{"$f":"R11*5/100","v":51.65},{"$f":"T11+U11","v":267.64999999999998},{"$f":"V11/Q11*100","v":21.429143314651718},1301,2177,{"$f":"Y11/X11*100","v":167.33282090699461},{"$f":"X11-Y11","v":-876},{"$f":"Y11*5/100","v":108.85},{"$f":"AA11+AB11","v":-767.15},{"$f":"AC11/X11*100","v":-58.966179861644882},1301,18,{"$f":"AF11/AE11*100","v":1.3835511145272867},{"$f":"AE11-AF11","v":1283},{"$f":"AF11*5/100","v":0.9},{"$f":"AH11+AI11","v":1283.9000000000001},{"$f":"AJ11/AE11*100","v":98.685626441199076},{"$f":"SUM(H11,O11,V11,AC11,AJ11)*100","v":86960.000000000015}]
[2,"14  ATLACOMULCO",1779,1885,{"$f":"D12/C12*100","v":105.95840359752671},{"$f":"C12-D12","v":-106},{"$f":"D12*5/100","v":94.25},{"$f":"F12+G12","v":-11.75},{"$f":"H12/C12*100","v":-0.66048341765036545},2042,1974,{"$f":"K12/J12*100","v":96.669931439764937},{"$f":"J12-K12","v":68},{"$f":"K12*5/100","v":98.7},{"$f":"M12+N12","v":166.7},{"$f":"O12/J12*100","v":8.1635651322233098},1857,1030,{"$f":"R12/Q12*100","v":55.465805061927838},{"$f":"Q12-R12","v":827},{"$f":"R12*5/100","v":51.5},{"$f":"T12+U12","v":878.5},{"$f":"V12/Q12*100","v":47.307485191168553},1885,2938,{"$f":"Y12/X12*100","v":155.86206896551724},{"$f":"X12-Y12","v":-1053},{"$f":"Y12*5/100","v":146.9},{"$f":"AA12+AB12","v":-906.1},{"$f":"AC12/X12*100","v":-48.068965517241381},1885,35,1.8567639257294428,1850,1.75,1851.75,{"$f":"AJ12/AE12*100","v":98.236074270557026},{"$f":"SUM(H12,O12,V12,AC12,AJ12)*100","v":197910}]
[3,"64  EL ORO",664,776,116.86746987951808,-112,38.799999999999997,-73.2,-11.024096385542169,746,667,89.410187667560322,79,33.35,112.35,15.060321715817693,707,177,25.035360678925034,530,8.85,538.85,76.216407355021218,722,1291,178.80886426592798,-569,64.55,-504.45,-69.868421052631575,722,2,0.2770083102493075,720,0.1,720.1,99.73684210526315,79365.000000000015]
[4,"85  TEMASCALCINGO",1707,1356,79.437609841827765,351,67.8,418.8,24.534270650263622,1528,1258,82.329842931937165,270,62.9,332.9,21.786649214659683,1411,271,19.206236711552091,1140,13.55,1153.55,81.754075124025519,1433,2207,154.01256106071179,-774,110.35,-663.65,-46.311933007676203,1436,113,7.8690807799442899,1323,5.65,1328.65,92.524373259052922,257025]
[5,"42  IXTLAHUACA",2349.9999999999995,1943,82.680851063829806,406.99999999999955,97.15,504.14999999999952,21.453191489361686,2159,2174,100.69476609541455,-15,108.7,93.7,4.3399722093561834,2442,869,35.585585585585584,1573,43.45,1616.45,66.193693693693703,2640,2700,102.27272727272727,-60,135,75,2.8409090909090908,3375,1008,29.866666666666671,2367,50.4,2417.4,71.626666666666665,470670]
[6,"47  JIQUIPILCO",1676.9999999999998,1032,61.53846153846154,644.99999999999977,51.6,696.5999999999998,41.538461538461533,1651,1489,90.187764990914602,162,74.45,236.45,14.321623258631133,1736,616,35.483870967741936,1120,30.8,1150.8,66.290322580645153,1513,1578,104.29610046265698,-65,78.900000000000006,13.900000000000006,0.91870456047587612,1519,666,43.844634628044766,853,33.299999999999997,886.3,58.347597103357472,298404.99999999994]
[7,"48  JOCOTITLÁN",1263,1030,81.551860649247814,233,51.5,284.5,22.525732383214571,1170,1217,104.01709401709402,-47,60.85,13.850000000000001,1.1837606837606838,1191,511,42.905121746431568,680,25.55,705.55,59.240134340890002,1306,1493,114.31852986217459,-187,74.650000000000006,-112.35,-8.6026033690658483,1281,689,53.786104605776742,592,34.450000000000003,626.45000000000005,48.903200624512102,151800]
[8,"56  MORELOS",759.99999999999989,625,82.236842105263179,134.99999999999989,31.25,166.24999999999989,21.874999999999989,681,678,99.559471365638757,3,33.9,36.9,5.4185022026431717,693,291,41.99134199134199,402,14.55,416.55,60.108225108225113,620,648,104.51612903225806,-28,32.4,4.3999999999999986,0.70967741935483852,592,237,40.033783783783782,355,11.85,366.85,61.967905405405411,99095]
[9,"74  SAN FELIPE DEL PROGRESO",3152.0000000000005,2735,86.770304568527905,417.00000000000045,136.75,553.75000000000045,17.56821065989849,3133,2967,94.701563996169796,166,148.35,314.35000000000002,10.033514203638685,3328,1183,35.546875,2145,59.15,2204.15,66.23046875,3459,3478,100.54929170280428,-19,173.9,154.9,4.4781728823359357,3693,1105,29.921473057135124,2588,55.25,2643.25,71.574600595721634,587040]
[10,"124 SAN JOSÉ DEL RINCÓN",2161,1957,90.559925960203614,204,97.85,301.85000000000002,13.968070337806571,2879,3279,113.89371309482459,-400,163.95,-236.05,-8.1990274400833627,2661,1252,47.049981210071401,1409,62.6,1471.6,55.302517850432167,2629,2636,100.266260935717,-7,131.80000000000001,124.80000000000001,4.7470521110688484,2613,903,34.557979334098739,1710,45.15,1755.15,67.169919632606195,341735]
[11,"3   ACULCO",1078,856,79.406307977736546,222,42.8,264.8,24.564007421150279,1109,982,88.548241659152396,127,49.1,176.1,15.879170423805231,980,13,1.3265306122448979,967,0.65,967.65,98.739795918367349,1112,1378,123.92086330935253,-266,68.900000000000006,-197.1,-17.724820143884891,1074,373,34.729981378026068,701,18.649999999999999,719.65,67.006517690875228,193110]
[12,"26  CHAPA DE MOTA",654,436,66.666666666666657,218,21.8,239.8,36.666666666666671,603,557,92.371475953565508,46,27.85,73.849999999999994,12.247097844112769,633,19,3.0015797788309637,614,0.95,614.95000000000005,97.1484992101106,682,916,134.3108504398827,-234,45.8,-188.2,-27.595307917888562,680,76,11.176470588235295,604,3.8,607.79999999999995,89.382352941176464,134820]
[13,"45  JILOTEPEC",1844,1679,91.052060737527114,165,83.95,248.95,13.500542299349242,1686,1670,99.051008303677349,16,83.5,99.5,5.9015421115065241,1635,3,0.1834862385321101,1632,0.15,1632.15,99.825688073394502,1739,2030,116.73375503162737,-291,101.5,-189.5,-10.897067280046004,1527,705,46.168958742632618,822,35.25,857.25,56.139489194499014,264835.00000000006]
[14,"71  POLOTITLÁN",279,203,72.759856630824373,76,10.15,86.15,30.878136200716849,239,263,110.04184100418411,-24,13.15,-10.85,-4.539748953974895,459,9,1.9607843137254901,450,0.45,450.45,98.137254901960773,272,435,159.9264705882353,-163,21.75,-141.25,-51.930147058823529,298,56,18.791946308724832,242,2.8,244.8,82.147651006711413,62929.999999999993]
[15,"79  SOYANIQUILPAN DE JUÁREZ",242,180,74.380165289256198,62,9,71,29.338842975206614,214,255,119.1588785046729,-41,12.75,-28.25,-13.200934579439252,226,965,426.99115044247787,-739,48.25,-690.75,-305.64159292035396,233,379,162.66094420600859,-146,18.95,-127.05,-54.527896995708161,260,64,24.615384615384617,196,3.2,199.2,76.615384615384613,-57584.999999999993]
[16,"102 TIMILPAN",337,323,95.845697329376861,14,16.149999999999999,30.15,8.9465875370919878,284,296,104.22535211267605,-12,14.8,2.8000000000000007,0.98591549295774672,353,387,109.63172804532577,-34,19.350000000000001,-14.649999999999999,-4.1501416430594897,323,508,157.27554179566562,-185,25.4,-159.6,-49.411764705882348,399,75,18.796992481203006,324,3.75,327.75,82.142857142857139,18645]
[17,"112 VILLA DEL CARBÓN",1085,928,85.52995391705069,157,46.4,203.4,18.746543778801843,1119,931,83.199285075960688,188,46.55,234.55,20.960679177837356,1007,2479,246.17676266137042,-1472,123.95,-1348.05,-133.86792452830187,1012,1325,130.92885375494072,-313,66.25,-246.75,-24.382411067193676,1023,235,22.971652003910066,788,11.75,799.75,78.17693059628543,-35709.999999999993]
[18,"6   ALMOLOYA DEL RÍO",167,189,113.17365269461077,-22,9.4499999999999993,-12.55,-7.5149700598802394,364,250,68.681318681318686,114,12.5,126.5,34.752747252747248,364,464,127.47252747252746,-100,23.2,-76.8,-21.098901098901099,376,278,73.936170212765958,98,13.9,111.9,29.760638297872344,382,8,2.0942408376963351,374,0.4,374.4,98.010471204188477,52345.000000000007]
[19,"12  ATIZAPÁN",187,252,134.75935828877004,-65,12.6,-52.4,-28.021390374331549,191,298,156.02094240837695,-107,14.9,-92.1,-48.219895287958117,191,1255,657.06806282722516,-1064,62.75,-1001.25,-524.21465968586392,194,257,132.4742268041237,-63,12.85,-50.15,-25.850515463917525,197,7,3.5532994923857872,190,0.35,190.35,96.6243654822335,-100555]
[20,"18  CALIMAYA",856,738,86.214953271028037,118,36.9,154.9,18.095794392523366,925,625,67.567567567567565,300,31.25,331.25,35.810810810810814,925,80,8.6486486486486491,845,4,849,91.783783783783775,938,1631,173.88059701492537,-693,81.55,-611.45000000000005,-65.18656716417911,957,3,0.31347962382445138,954,0.15,954.15,99.702194357366764,167785]
[21,"19  CAPULHUAC",650,621,95.538461538461533,29,31.05,60.05,9.2384615384615376,803,449,55.915317559153181,354,22.45,376.45,46.880448318804483,803,303,37.733499377334994,500,15.15,515.15,64.153175591531749,816,641,78.553921568627445,175,32.049999999999997,207.05,25.373774509803919,828,11,1.3285024154589371,817,0.55000000000000004,817.55,98.737922705314006,197625]
[22,"27  CHAPULTEPEC",148,132,89.189189189189193,16,6.6,22.6,15.270270270270272,201,253,125.87064676616914,-52,12.65,-39.35,-19.5771144278607,201,678,337.31343283582089,-477,33.9,-443.1,-220.44776119402988,204,252,123.52941176470588,-48,12.6,-35.4,-17.352941176470587,201,6,2.9850746268656714,195,0.3,195.3,97.164179104477626,-29995]
[23,"43  XALATLACO",451,624,138.35920177383591,-173,31.2,-141.80000000000001,-31.441241685144128,347,473,136.31123919308357,-126,23.65,-102.35,-29.49567723342939,347,288,82.997118155619603,59,14.4,73.400000000000006,21.152737752161386,351,573,163.24786324786325,-222,28.65,-193.35,-55.085470085470078,355,43,12.112676056338028,312,2.15,314.14999999999998,88.492957746478865,-4995.0000000000045]
[24,"49  JOQUICINGO",225,273,121.33333333333334,-48,13.65,-34.35,-15.266666666666667,358,308,86.033519553072622,50,15.4,65.400000000000006,18.268156424581008,358,846,236.31284916201119,-488,42.3,-445.7,-124.49720670391061,365,323,88.493150684931507,42,16.149999999999999,58.15,15.931506849315069,371,1164,313.74663072776281,-793,58.2,-734.8,-198.05929919137466,-109130]
[25,"55  MEXICALTZINGO",206,176,85.436893203883486,30,8.8000000000000007,38.799999999999997,18.834951456310677,216,212,98.148148148148152,4,10.6,14.6,6.7592592592592595,216,18,8.3333333333333321,198,0.9,198.9,92.083333333333343,219,268,122.37442922374429,-49,13.4,-35.6,-16.25570776255708,222,535,240.99099099099101,-313,26.75,-286.25,-128.94144144144144,-6954.9999999999982]
[26,"72  RAYÓN",251,344,137.05179282868525,-93,17.2,-75.8,-30.199203187250994,301,279,92.691029900332225,22,13.95,35.950000000000003,11.943521594684386,204,9,4.4117647058823533,195,0.45,195.45,95.808823529411754,207,249,120.28985507246377,-42,12.45,-29.55,-14.275362318840578,210,1613,768.09523809523807,-1403,80.650000000000006,-1322.35,-629.69047619047615,-119630]
[27,"73  SAN ANTONIO LA ISLA",245,296,120.81632653061224,-51,14.8,-36.200000000000003,-14.775510204081636,253,610,241.10671936758891,-357,30.5,-326.5,-129.0513833992095,253,123,48.616600790513836,130,6.15,136.15,53.814229249011859,257,506,196.88715953307394,-249,25.3,-223.7,-87.04280155642023,261,664,254.40613026819926,-403,33.200000000000003,-369.8,-141.68582375478928,-82005]
[28,"90  TENANGO DEL VALLE",1475,1540,104.40677966101694,-65,77,12,0.81355932203389836,1621,1692,104.38001233806293,-71,84.6,13.599999999999994,0.83898827884022176,1658,260,15.681544028950542,1398,13,1411,85.10253317249699,1682,1283,76.278240190249704,399,64.150000000000006,463.15,27.535671819262781,1706,73,4.2790152403282526,1633,3.65,1636.65,95.934935521688175,353640]
[29,"98  TEXCALYACAC",97,121,124.74226804123711,-24,6.05,-17.95,-18.505154639175256,105,126,120,-21,6.3,-14.7,-13.999999999999998,105,191,181.9047619047619,-86,9.5500000000000007,-76.45,-72.80952380952381,107,136,127.10280373831775,-29,6.8,-22.2,-20.747663551401867,109,99,90.825688073394488,10,4.95,14.95,13.715596330275229,-11634.999999999998]
[30,"101 TIANGUISTENCO",1481,1305,88.116137744767059,176,65.25,241.25,16.289669142471304,1436,1502,104.59610027855153,-66,75.099999999999994,9.0999999999999943,0.63370473537604421,1436,178,12.395543175487465,1258,8.9,1266.9000000000001,88.224233983286922,1458,1418,97.256515775034288,40,70.900000000000006,110.9,7.6063100137174207,1480,46,3.1081081081081083,1434,2.2999999999999998,1436.3,97.047297297297291,306445]
[31,"5   ALMOLOYA DE JUÁREZ",2905,3675,126.50602409638554,-770,183.75,-586.25,-20.180722891566266,3228,2751,85.223048327137548,477,137.55000000000001,614.54999999999995,19.038104089219328,3212,371,11.550435865504358,2841,18.55,2859.55,89.027085927770869,3955,4689,118.55878634639696,-734,234.45,-499.55,-12.630847029077119,4044,139,3.4371909000989116,3905,6.95,3911.95,96.734668644906037,630025]
[32,"54  METEPEC",2536,1379,54.376971608832804,1157,68.95,1225.95,48.341876971608833,2647,1294,48.885530789573103,1353,64.7,1417.7,53.558745749905555,3021,173,5.7265806024495198,2848,8.65,2856.65,94.559748427672957,3337,2722,81.57027270002996,615,136.1,751.1,22.508240934971532,3608,151,4.1851441241685148,3457,7.55,3464.55,96.024113082039918,971595.00000000012]
[33,"106 TOLUCA",13189,12809,97.118811130487529,380,640.45000000000005,1020.45,7.7371294260368497,12611,8557,67.853461263975888,4054,427.85,4481.8500000000004,35.539211799222905,11365,1055,9.2828860536735593,10310,52.75,10362.75,91.181258249010128,10802,10398,96.25995186076652,404,519.9,923.9,8.5530457322718014,11416,7,6.1317449194113527E-2,11409,0.35,11409.35,99.941748423265594,2819830.0000000005]
[34,"118 ZINACANTEPEC",2768,3361,121.42341040462428,-593,168.05,-424.95,-15.352239884393063,2979,2616,87.814702920443096,363,130.80000000000001,493.8,16.576032225579056,3146,196,6.2301335028607756,2950,9.8000000000000007,2959.8,94.081373172282269,3179,2253,70.871343189682293,926,112.65,1038.6500000000001,32.672223969801827,3075,29,0.94308943089430908,3046,1.45,3047.45,99.104065040650397,711475]
[35,"37  HUIXQUILUCAN",4273,3806,89.070910367423352,467,190.3,657.3,15.382635150947809,3657,4055,110.88323762646979,-398,202.75,-195.25,-5.3390757451462951,3657,91,2.4883784522832921,3566,4.55,3570.55,97.636040470330869,4915,5223,106.26653102746695,-308,261.14999999999998,-46.850000000000023,-0.95320447609359149,3910,300,7.6726342710997448,3610,15,3625,92.710997442455252,761075]
[36,"51  LERMA",2313,1888,81.625594466061386,425,94.4,519.4,22.455685257241676,2126,2088,98.2126058325494,38,104.4,142.4,6.6980244590780806,2126,663,31.185324553151457,1463,33.15,1496.15,70.373941674506128,2410,2203,91.410788381742734,207,110.15,317.14999999999998,13.159751037344398,1553,6,0.38634900193174504,1547,0.3,1547.3,99.632968448164831,402239.99999999994]
[37,"62  OCOYOACAC",898,864,96.213808463251667,34,43.2,77.2,8.5968819599109132,906,909,100.33112582781456,-3,45.45,42.45,4.6854304635761599,906,169,18.653421633554085,737,8.4499999999999993,745.45,82.279249448123622,1074,875,81.471135940409681,199,43.75,242.75,22.602420856610799,906,43,4.7461368653421632,863,2.15,865.15,95.49116997792494,197300]
[38,"67  OTZOLOTEPEC",1957,1560,79.713847726111396,397,78,475,24.271844660194176,1910,2033,106.43979057591623,-123,101.65,-21.349999999999994,-1.1178010471204185,1910,132,6.9109947643979055,1778,6.6,1784.6,93.434554973821974,2015,2353,116.77419354838709,-338,117.65,-220.35,-10.93548387096774,1856,19,1.0237068965517242,1837,0.95,1837.95,99.027478448275858,385585.00000000006]
[39,"76  SAN MATEO ATENCO",312,1103,353.52564102564099,-791,55.15,-735.85,-235.84935897435898,1014,333,32.840236686390533,681,16.649999999999999,697.65,68.801775147928993,1014,2,0.19723865877712032,1012,0.1,1012.1,99.812623274161737,1170,566,48.376068376068375,604,28.3,632.29999999999995,54.042735042735032,988,70,7.0850202429149798,918,3.5,921.5,93.269230769230774,252769.99999999997]
[40,"87  TEMOAYA",2471,1691,68.433832456495352,780,84.55,864.55,34.987859166329422,2359,2807,118.99109792284865,-448,140.35,-307.64999999999998,-13.041543026706231,2359,12,0.5086901229334464,2347,0.6,2347.6,99.516744383213222,2594,2700,104.08635312259061,-106,135,29,1.1179645335389361,2176,14,0.64338235294117641,2162,0.7,2162.6999999999998,99.38878676470587,509620]
[41,"115 XONACATLÁN",1141,1705,149.43032427695005,-564,85.25,-478.75,-41.958808063102545,1089,1678,154.08631772268134,-589,83.9,-505.1,-46.382001836547296,1089,4,0.3673094582185491,1085,0.2,1085.2,99.651056014692386,1200,1700,141.66666666666669,-500,85,-415,-34.583333333333336,980,47,4.795918367346939,933,2.35,935.35,95.443877551020407,62170.000000000007]
[42,"8   AMATEPEC",600,611,101.83333333333333,-11,30.55,19.55,3.2583333333333333,452,359,79.424778761061944,93,17.95,110.95,24.54646017699115,535,9,1.6822429906542056,526,0.45,526.45000000000005,98.401869158878512,527,893,169.44971537001899,-366,44.65,-321.35000000000002,-60.977229601518033,511,13,2.5440313111545985,498,0.65,498.65,97.583170254403129,83425]
[43,"77  SAN SIMÓN DE GUERRERO",147,114,77.551020408163268,33,5.7,38.700000000000003,26.326530612244898,130,71,54.615384615384613,59,3.55,62.55,48.115384615384613,165,8,4.8484848484848486,157,0.4,157.4,95.393939393939391,154,233,151.29870129870127,-79,11.65,-67.349999999999994,-43.733766233766232,149,5,3.3557046979865772,144,0.25,144.25,96.812080536912745,33554.999999999993]
[44,"82  TEJUPILCO",1717,1642,95.631916132789755,75,82.1,157.1,9.1496796738497377,1626,1173,72.140221402214024,453,58.65,511.65,31.466789667896677,1597,22,1.3775829680651221,1575,1.1000000000000001,1576.1,98.691296180338128,1573,1090,69.294342021614753,483,54.5,537.5,34.170375079465984,1521,146,9.5989480604865207,1375,7.3,1382.3,90.880999342537805,416464.99999999994]
[45,"86  TEMASCALTEPEC",821,564,68.696711327649211,257,28.2,285.2,34.738124238733256,729,408,55.967078189300409,321,20.399999999999999,341.4,46.831275720164605,829,6,0.72376357056694818,823,0.3,823.3,99.31242460796139,804,922,114.67661691542288,-118,46.1,-71.900000000000006,-8.9427860696517421,776,40,5.1546391752577314,736,2,738,95.103092783505147,211600]
[46,"105 TLATLAYA",753,637,84.594953519256308,116,31.85,147.85,19.634794156706505,876,587,67.009132420091319,289,29.35,318.35000000000002,36.341324200913242,536,1,0.18656716417910446,535,0.05,535.04999999999995,99.822761194029837,528,527,99.810606060606062,1,26.35,27.35,5.1799242424242431,511,71,13.894324853228962,440,3.55,443.55,86.800391389432491,147215]
[47,"123 LUVIANOS",755,616,81.589403973509931,139,30.8,169.8,22.490066225165563,580,546,94.137931034482762,34,27.3,61.3,10.568965517241379,731,31,4.2407660738714092,700,1.55,701.55,95.971272229822162,722,488,67.59002770083103,234,24.4,258.39999999999998,35.78947368421052,700,21,3,679,1.05,680.05,97.149999999999991,187110]
[48,"4   ALMOLOYA DE ALQUISIRAS",298,673,225.83892617449663,-375,33.65,-341.35,-114.54697986577183,308.23783783783784,350,113.54868125701458,-41.762162162162156,17.5,-24.262162162162156,-7.8712471941638595,308,232,75.324675324675326,76,11.6,87.6,28.441558441558438,367,582,158.58310626702999,-215,29.1,-185.9,-50.653950953678475,382,26,6.8062827225130889,356,1.3,357.3,93.534031413612567,-10661.216216216219]
[49,"21  COATEPEC HARINAS",694,989,142.50720461095102,-295,49.45,-245.55,-35.381844380403457,807.83260158804319,1017,125.89241855314752,-209.16739841195681,50.85,-158.31739841195682,-19.597797625490148,808,516,63.861386138613859,292,25.8,317.8,39.331683168316836,863,1371,158.86442641946698,-508,68.55,-439.45,-50.92120509849363,924,68,7.3593073593073601,856,3.4,859.4,93.008658008658003,33388.260158804318]
[50,"40  IXTAPAN DE LA SAL",670,1221,182.23880597014926,-551,61.05,-489.95,-73.126865671641795,605.73762711864401,763,125.96212713900856,-157.26237288135599,38.15,-119.11237288135598,-19.664020782058138,606,11,1.8151815181518154,595,0.55000000000000004,595.54999999999995,98.275577557755767,672,1048,155.95238095238096,-376,52.4,-323.60000000000002,-48.154761904761905,681,142,20.851688693098385,539,7.1,546.1,80.190895741556531,20898.762711864401]
[51,"52  MALINALCO",517,437,84.526112185686657,80,21.85,101.85,19.700193423597678,481.29377334993774,575,119.46965280640158,-93.706226650062263,28.75,-64.956226650062263,-13.496170166081512,481,227,47.193347193347194,254,11.35,265.35000000000002,55.166320166320169,507,799,157.59368836291912,-292,39.950000000000003,-252.05,-49.714003944773175,527,25,4.7438330170777991,502,1.25,503.25,95.493358633776097,55344.377334993784]
[52,"63  OCUILAN",615,632,102.76422764227642,-17,31.6,14.600000000000001,2.3739837398373984,695.7445544554455,829,119.15292684523455,-133.2554455445545,41.45,-91.805445544554502,-13.195280502972818,696,21,3.0172413793103448,675,1.05,676.05,97.13362068965516,737,1203,163.22930800542741,-466,60.15,-405.85,-55.067842605156038,760,11,1.4473684210526316,749,0.55000000000000004,749.55,98.625,94254.455445544532]
[53,"80  SULTEPEC",513,528,102.92397660818713,-15,26.4,11.399999999999999,2.2222222222222219,513.10391061452515,640,124.73107040511466,-126.89608938547485,32,-94.896089385474852,-18.494516884858935,513,44,8.5769980506822598,469,2.2000000000000002,471.2,91.851851851851848,594,892,150.16835016835017,-298,44.6,-253.4,-42.659932659932657,600,24,4,576,1.2,577.20000000000005,96.2,71150.391061452523]
[54,"88  TENANCINGO",1747,2809,160.7899255867201,-1062,140.44999999999999,-921.55,-52.750429307384081,1654.0434065934066,2144,129.62174943254277,-489.95659340659336,107.2,-382.75659340659337,-23.140661960915622,1654,67,4.0507859733978231,1587,3.35,1590.35,96.151753325272054,1747,2684,153.63480251860332,-937,134.19999999999999,-802.8,-45.953062392673147,1807,344,19.037078029883787,1463,17.2,1480.2,81.914775871610402,96344.340659340669]
[55,"97  TEXCALTITLÁN",359,650,181.05849582172701,-291,32.5,-258.5,-72.005571030640667,355.23099630996313,413,116.26237695756411,-57.769003690036868,20.65,-37.11900369003687,-10.449258109685907,355,112,31.549295774647888,243,5.6,248.6,70.028169014084511,405,624,154.07407407407408,-219,31.2,-187.8,-46.370370370370374,411,125,30.413625304136254,286,6.25,292.25,71.107055961070557,5743.0996309963093]
[56,"107 TONATICO",213,249,116.90140845070422,-36,12.45,-23.55,-11.056338028169014,213,242,113.6150234741784,-29,12.1,-16.899999999999999,-7.9342723004694831,197,354,179.69543147208122,-157,17.7,-139.30000000000001,-70.710659898477175,295,453,153.5593220338983,-158,22.65,-135.35,-45.881355932203391,271,253,93.357933579335793,18,12.65,30.65,11.309963099630997,-28445.000000000004]
[57,"113 VILLA GUERRERO",1296,2046,157.87037037037038,-750,102.3,-647.70000000000005,-49.976851851851855,1304.0391542678151,1469,112.64999177304659,-164.96084573218491,73.45,-91.510845732184904,-7.0174921843942588,1304,510,39.110429447852759,794,25.5,819.5,62.845092024539873,1431,2418,168.97274633123689,-987,120.9,-866.1,-60.524109014675055,1451,49,3.3769813921433496,1402,2.4500000000000002,1404.45,96.791867677463813,61863.91542678151]
[58,"117 ZACUALPAN",279,370,132.61648745519713,-91,18.5,-72.5,-25.985663082437277,297.45572254335264,398,133.80142651045941,-100.54427745664736,19.899999999999999,-80.644277456647359,-27.111355184936432,297,20,6.7340067340067336,277,1,278,93.602693602693591,384,498,129.6875,-114,24.9,-89.1,-23.203125,384,1001,260.67708333333337,-617,50.05,-566.95000000000005,-147.64322916666669,-53119.427745664732]
[59,"119 ZUMPAHUACÁN",363,425,117.07988980716253,-62,21.25,-40.75,-11.225895316804408,356.40108303249099,427,119.8088390660342,-70.598916967509012,21.35,-49.248916967509011,-13.818397112732479,356,437,122.75280898876404,-81,21.85,-59.15,-16.615168539325843,414,636,153.62318840579709,-222,31.8,-190.2,-45.942028985507243,391,81,20.716112531969312,310,4.05,314.05,80.319693094629159,-2529.8916967509003]
[60,"7   AMANALCO",523,500,95.602294455066911,23,25,48,9.1778202676864247,520,495,95.192307692307693,25,24.75,49.75,9.5673076923076916,525,8,1.5238095238095237,517,0.4,517.4,98.552380952380943,550,844,153.45454545454544,-294,42.2,-251.8,-45.781818181818181,525,671,127.80952380952382,-146,33.549999999999997,-112.45,-21.419047619047621,25089.999999999996]
[61,"32  DONATO GUERRA",803,736,91.656288916562886,67,36.799999999999997,103.8,12.926525529265254,834,562,67.386091127098325,272,28.1,300.10000000000002,35.983213429256601,837,3,0.35842293906810035,834,0.15,834.15,99.659498207885306,1019,1394,136.80078508341512,-375,69.7,-305.3,-29.960745829244356,838,10,1.1933174224343674,828,0.5,828.5,98.866348448687347,176125]
[62,"41  IXTAPAN DEL ORO",151,119,78.807947019867555,32,5.95,37.950000000000003,25.132450331125828,157,96,61.146496815286625,61,4.8,65.8,41.910828025477706,162,39,24.074074074074073,123,1.95,124.95,77.129629629629633,162,185,114.19753086419753,-23,9.25,-13.75,-8.4876543209876552,161,60,37.267080745341616,101,3,104,64.596273291925471,31895]
[63,"66  OTZOLOAPAN",120,121,100.83333333333333,-1,6.05,5.05,4.208333333333333,92,85,92.391304347826093,7,4.25,11.25,12.228260869565217,95,1996,2101.0526315789475,-1901,99.8,-1801.2,-1896,95,71,74.73684210526315,24,3.55,27.55,28.999999999999996,95,4,4.2105263157894735,91,0.2,91.2,96.000000000000014,-166615]
[64,"78  SANTO TOMÁS",200,184,92,16,9.1999999999999993,25.2,12.6,213,108,50.704225352112672,105,5.4,110.4,51.830985915492953,217,27,12.442396313364055,190,1.35,191.35,88.179723502304142,217,399,183.87096774193549,-182,19.95,-162.05000000000001,-74.677419354838719,217,15,6.9124423963133648,202,0.75,202.75,93.433179723502306,36765]
[65,"110 VALLE DE BRAVO",1473,1118,75.899524779361855,355,55.9,410.9,27.895451459606246,1293,980,75.792730085073472,313,49,362,27.996906419180199,1294,1,7.7279752704791344E-2,1293,0.05,1293.05,99.926584234930445,1304,2123,162.80674846625766,-819,106.15,-712.85,-54.666411042944787,1294,6,0.46367851622874806,1288,0.3,1288.3,99.559505409582684,264139.99999999994]
[66,"111 VILLA DE ALLENDE",1199,1016,{"$f":"D76/C76*100","v":84.737281067556296},{"$f":"C76-D76","v":183},{"$f":"D76*5/100","v":50.8},{"$f":"F76+G76","v":233.8},{"$f":"H76/C76*100","v":19.499582985821519},1262,1042,{"$f":"K76/J76*100","v":82.567353407290014},{"$f":"J76-K76","v":220},{"$f":"K76*5/100","v":52.1},{"$f":"M76+N76","v":272.10000000000002},{"$f":"O76/J76*100","v":21.561014263074487},1264,92,{"$f":"R76/Q76*100","v":7.2784810126582276},{"$f":"Q76-R76","v":1172},{"$f":"R76*5/100","v":4.5999999999999996},{"$f":"T76+U76","v":1176.5999999999999},{"$f":"V76/Q76*100","v":93.085443037974684},1173,1844,{"$f":"Y76/X76*100","v":157.20375106564367},{"$f":"X76-Y76","v":-671},{"$f":"Y76*5/100","v":92.2},{"$f":"AA76+AB76","v":-578.79999999999995},{"$f":"AC76/X76*100","v":-49.343563512361463},1264,36,2.8481012658227849,1228,1.8,1229.8,{"$f":"AJ76/AE76*100","v":97.294303797468345},{"$f":"SUM(H76,O76,V76,AC76,AJ76)*100","v":233350}]
[67,"114 VILLA VICTORIA",2301,1928,83.789656671012608,373,96.4,469.4,20.399826162538027,2512,1559,62.062101910828027,953,77.95,1030.95,41.041003184713375,2515,3,0.11928429423459246,2512,0.15,2512.15,99.886679920477135,2383,4078,171.12882920688207,-1695,203.9,-1491.1,-62.57238774653797,2523,211,8.3630598493856532,2312,10.55,2322.5500000000002,92.055093143083639,484395.00000000006]
[68,"116 ZACAZONAPAN",118,94,79.66101694915254,24,4.7,28.7,24.322033898305083,70,54,77.142857142857153,16,2.7,18.7,26.714285714285712,82,22,26.829268292682929,60,1.1000000000000001,61.1,74.512195121951223,95,90,94.73684210526315,5,4.5,9.5,10,82,87,106.09756097560977,-5,4.3499999999999996,-0.65000000000000036,-0.79268292682926866,11735]
[69,"13  ATIZAPÁN DE ZARAGOZA",4756,4084,85.87047939444912,672,204.2,876.2,18.423044575273341,7134,4934,69.161760583123083,2200,246.7,2446.6999999999998,34.296327446033075,6546,10,0.15276504735716467,6536,0.5,6536.5,99.854873205010691,6414,5516,85.9993763642033,898,275.8,1173.8,18.300592454006861,6414,2368,36.919239164328033,4046,118.4,4164.3999999999996,64.926722793888359,1519759.9999999998]
[70,"38  ISIDRO FABELA",234,166,70.940170940170944,68,8.3000000000000007,76.3,32.606837606837608,318,221,69.496855345911939,97,11.05,108.05,33.977987421383645,226,28,12.389380530973451,198,1.4,199.4,88.230088495575217,247,130,52.631578947368418,117,6.5,123.5,50,247,22,8.9068825910931171,225,1.1000000000000001,226.1,91.538461538461533,73335]
[71,"60  NICOLÁS ROMERO",4490,3238,72.115812917594653,1252,161.9,1413.9,31.48997772828508,6749,3499,51.844717735960884,3250,174.95,3424.95,50.747518150837159,4255,364,8.5546415981198596,3891,18.2,3909.2,91.873090481786136,5674,5047,88.949594642227709,627,252.35,879.35,15.497885089883681,5501,19,0.34539174695509911,5482,0.95,5482.95,99.671877840392654,1511034.9999999998]
[72,"23  COYOTEPEC",378,461,121.95767195767195,-83,23.05,-59.95,-15.859788359788359,473,897,189.64059196617336,-424,44.85,-379.15,-80.15856236786469,547,262,47.897623400365632,285,13.1,298.10000000000002,54.497257769652649,572,924,161.53846153846155,-352,46.2,-305.8,-53.46153846153846,728,9,1.2362637362637363,719,0.45,719.45,98.82554945054946,27265.000000000007]
[73,"24  CUAUTITLÁN",1030,929,90.194174757281559,101,46.45,147.44999999999999,14.315533980582524,1303,645,49.501151189562549,658,32.25,690.25,52.973906369915582,1186,15,1.2647554806070826,1171,0.75,1171.75,98.798482293423277,1513,936,61.863846662260414,577,46.8,623.79999999999995,41.229345670852609,1666,10,0.60024009603841544,1656,0.5,1656.5,99.429771908763513,428975]
[74,"53  MELCHOR OCAMPO",547,775,141.68190127970749,-228,38.75,-189.25,-34.597806215722123,564,702,124.46808510638299,-138,35.1,-102.9,-18.24468085106383,657,62,9.43683409436834,595,3.1,598.1,91.035007610350078,669,988,147.68310911808669,-319,49.4,-269.60000000000002,-40.298953662182363,649,3,0.46224961479198773,646,0.15,646.15,99.560862865947612,68250]
[75,"91  TEOLOYUCAN",615,900,146.34146341463415,-285,45,-240,-39.024390243902438,722,1519,210.38781163434902,-797,75.95,-721.05,-99.868421052631575,834,593,71.103117505995201,241,29.65,270.64999999999998,32.452038369304553,884,1389,157.12669683257917,-505,69.45,-435.55,-49.270361990950228,1184,10,0.84459459459459463,1174,0.5,1174.5,99.19763513513513,4854.9999999999955]
[76,"95  TEPOTZOTLÁN",920,877,95.326086956521735,43,43.85,86.85,9.4402173913043459,859,1397,162.63096623981374,-538,69.849999999999994,-468.15,-54.499417927823046,972,23,2.3662551440329218,949,1.1499999999999999,950.15,97.752057613168716,813,1432,176.13776137761377,-619,71.599999999999994,-547.4,-67.330873308733089,793,10,1.2610340479192939,783,0.5,783.5,98.802017654476671,80495]
[77,"108 TULTEPEC",973,1313,134.94347379239466,-340,65.650000000000006,-274.35000000000002,-28.196300102774924,1013,1595,157.45310957551825,-582,79.75,-502.25,-49.580454096742351,1403,192,13.684960798289382,1211,9.6,1220.5999999999999,86.999287241625083,1411,2159,153.01204819277109,-748,107.95,-640.04999999999995,-45.361445783132524,1625,574,35.323076923076925,1051,28.7,1079.7,66.44307692307693,88365]
[78,"109 TULTITLÁN",4361,3598,82.504012841091495,763,179.9,942.9,21.621187800963082,4066,5069,124.66797835710773,-1003,253.45,-749.55,-18.434579439252335,4511,267,5.9188649966747953,4244,13.35,4257.3500000000004,94.377078253158956,4454,6377,143.17467444993264,-1923,318.85000000000002,-1604.15,-36.015940727436011,4570,106,2.3194748358862145,4464,5.3,4469.3,97.796498905908109,731585]
[79,"121 CUAUTITLÁN IZCALLI",3465,2458,70.93795093795093,1007,122.9,1129.9000000000001,32.60894660894661,3536,3066,86.708144796380097,470,153.30000000000001,623.29999999999995,17.627262443438912,3841,111,2.8898724290549334,3730,5.55,3735.55,97.254621192397821,3687,3472,94.168700840791971,215,173.6,388.6,10.539734201247628,3640,467,12.829670329670328,3173,23.35,3196.35,87.811813186813183,907370.00000000012]
[80,"46  JILOTZINGO",250,288,115.19999999999999,-38,14.4,-23.6,-9.4400000000000013,350,403,115.14285714285715,-53,20.149999999999999,-32.85,-9.3857142857142861,365,243,66.575342465753423,122,12.15,134.15,36.753424657534254,365,396,108.49315068493151,-31,19.8,-11.2,-3.0684931506849313,450,276,61.333333333333329,174,13.8,187.8,41.733333333333334,25430]
[81,"57  NAUCALPAN DE JUÁREZ",11241,7482,66.559914598345344,3759,374.1,4133.1000000000004,36.768081131571925,9769,9746,99.764561367591369,23,487.3,510.3,5.2236667007882076,9755,204,2.0912352639671963,9551,10.199999999999999,9561.2000000000007,98.013326499231169,9771,10254,104.94319926312559,-483,512.70000000000005,29.700000000000045,0.30396070003070358,9700,213,2.1958762886597936,9487,10.65,9497.65,97.913917525773201,2373195.0000000005]
[82,"2   ACOLMAN",3214,1385,43.092719352831359,1829,69.25,1898.25,59.061916614810208,2552,1720,67.398119122257043,832,86,918,35.971786833855802,2949,350,11.86842997626314,2599,17.5,2616.5,88.724991522550013,2373,2585,108.9338390223346,-212,129.25,-82.75,-3.4871470712178678,2413,250,10.360547036883547,2163,12.5,2175.5,90.157480314960623,752550]
[83,"16  AXAPUSCO",524,320,61.068702290076338,204,16,220,41.984732824427482,551,332,60.254083484573506,219,16.600000000000001,235.6,42.758620689655167,525,104,19.80952380952381,421,5.2,426.2,81.180952380952377,495,596,120.4040404040404,-101,29.8,-71.2,-14.383838383838384,505,2306,456.63366336633658,-1801,115.3,-1685.7,-333.80198019801981,-87510.000000000015]
[84,"61  NOPALTEPEC",175,177,101.14285714285714,-2,8.85,6.85,3.9142857142857137,188,158,84.042553191489361,30,7.9,37.9,20.159574468085108,175,2230,1274.2857142857142,-2055,111.5,-1943.5,-1110.5714285714284,175,232,132.57142857142856,-57,11.6,-45.4,-25.94285714285714,178,119,66.853932584269657,59,5.95,64.95,36.488764044943821,-187920]
[85,"65  OTUMBA",697,584,83.787661406025819,113,29.2,142.19999999999999,20.401721664275467,735,498,67.755102040816325,237,24.9,261.89999999999998,35.632653061224481,706,23,3.2577903682719547,683,1.1499999999999999,684.15,96.905099150141638,646,802,124.1486068111455,-156,40.1,-115.9,-17.941176470588236,657,1580,240.48706240487064,-923,79,-844,-128.4627092846271,12835.000000000002]
[86,"75  SAN MARTÍN DE LAS PIRÁMIDES",501,351,70.05988023952095,150,17.55,167.55,33.443113772455092,455,366,80.439560439560438,89,18.3,107.3,23.58241758241758,514,167,32.490272373540854,347,8.35,355.35,69.134241245136195,447,556,124.38478747203578,-109,27.8,-81.2,-18.165548098434005,454,62,13.656387665198238,392,3.1,395.1,87.026431718061687,94410]
[87,"84  TEMASCALAPA",713,579,81.206171107994379,134,28.95,162.94999999999999,22.854137447405328,736,660,89.673913043478265,76,33,109,14.809782608695651,718,1118,155.71030640668525,-400,55.9,-344.1,-47.924791086350979,652,1034,158.58895705521471,-382,51.7,-330.3,-50.659509202453989,663,153,23.076923076923077,510,7.65,517.65,78.07692307692308,11519.999999999993]
[88,"92  TEOTIHUACÁN",1078,688,63.821892393320965,390,34.4,424.4,39.369202226345081,876,788,89.954337899543376,88,39.4,127.4,14.543378995433789,1087,102,9.3836246550137989,985,5.0999999999999996,990.1,91.085556577736895,930,1850,198.92473118279571,-920,92.5,-827.5,-88.978494623655919,945,81,8.5714285714285712,864,4.05,868.05,91.857142857142847,158245]
[89,"104 TLALNEPANTLA DE BAZ",6186,4834,78.144196572906566,1352,241.7,1593.7,25.763013255738766,5931,4237,71.43820603608161,1694,211.85,1905.85,32.133704265722471,6500,null,0,6500,0,6500,100,5433,8033,147.85569666850728,-2600,401.65,-2198.35,-40.462911835081904,5233,15,0.28664246130326776,5218,0.75,5218.75,99.7276896617619,1301995]
[90,"10  APAXCO",423,488,115.3664302600473,-65,24.4,-40.6,-9.5981087470449165,426,329,77.230046948356815,97,16.45,113.45,26.631455399061032,296,null,0,296,0,296,100,389,669,171.97943444730078,-280,33.450000000000003,-246.55,-63.38046272493574,380,16,4.2105263157894735,364,0.8,364.8,96.000000000000014,48710]
[91,"35  HUEHUETOCA",1025,1876,183.02439024390245,-851,93.8,-757.2,-73.873170731707319,1481,1294,87.373396353814996,187,64.7,251.7,16.995273463875758,1848,null,0,1848,0,1848,100,1631,2920,179.03126916002452,-1289,146,-1143,-70.079705702023304,1017,270,26.548672566371685,747,13.5,760.5,74.778761061946909,96000]
[92,"36  HUEYPOXTLA",450,872,193.77777777777777,-422,43.6,-378.4,-84.088888888888874,454,603,132.81938325991189,-149,30.15,-118.85,-26.178414096916296,611,null,0,611,0,611,100,735,1462,198.91156462585033,-727,73.099999999999994,-653.9,-88.965986394557817,713,17,2.3842917251051894,696,0.85,696.85,97.734922861150082,15670.000000000004]
[93,"44  JALTENCO",346,537,155.20231213872833,-191,26.85,-164.15,-47.442196531791907,414,508,122.70531400966182,-94,25.4,-68.599999999999994,-16.570048309178741,254,null,0,254,0,254,100,278,444,159.71223021582733,-166,22.2,-143.80000000000001,-51.726618705035975,289,300,103.80622837370241,-11,15,4,1.3840830449826991,-11855.000000000002]
[94,"59  NEXTLALPAN",561,657,117.11229946524064,-96,32.85,-63.15,-11.256684491978609,559,747,133.63148479427548,-188,37.35,-150.65,-26.949910554561718,510,null,0,510,0,510,100,795,1120,140.88050314465409,-325,56,-269,-33.836477987421382,694,17,2.4495677233429394,677,0.85,677.85,97.672910662824208,70505]
[95,"81  TECÁMAC",5109,3181,62.262673713055392,1928,159.05000000000001,2087.0500000000002,40.850459972597378,5272,4552,86.342943854324744,720,227.6,947.6,17.974203338391504,3478,null,0,3478,0,3478,100,4984,6230,125,-1246,311.5,-934.5,-18.75,4271,3,7.0241161320533832E-2,4268,0.15,4268.1499999999996,99.933270896745483,984629.99999999988]
[96,"96  TEQUIXQUIAC",409,673,164.5476772616137,-264,33.65,-230.35,-56.320293398533003,641,666,103.90015600624025,-25,33.299999999999997,8.2999999999999972,1.2948517940717625,471,null,0,471,0,471,100,503,1180,234.59244532803183,-677,59,-618,-122.86282306163021,555,11,1.9819819819819819,544,0.55000000000000004,544.54999999999995,98.117117117117118,17549.999999999993]
[97,"120 ZUMPANGO",2558,2848,111.33698201720095,-290,142.4,-147.6,-5.7701329163408914,2700,2417,89.518518518518519,283,120.85,403.85,14.957407407407409,2774,null,0,2774,0,2774,100,2761,4445,160.99239406012313,-1684,222.25,-1461.75,-52.942774357116981,2166,10,0.46168051708217916,2156,0.5,2156.5,99.561403508771932,372500]
[98,"125 TONANITLA",195,172,88.205128205128204,23,8.6,31.6,16.205128205128204,150,178,118.66666666666667,-28,8.9,-19.100000000000001,-12.733333333333336,143,null,0,143,0,143,100,172,243,141.27906976744185,-71,12.15,-58.85,-34.215116279069768,158,15,9.4936708860759502,143,0.75,143.75,90.98101265822784,24040]
[99,"9   AMECAMECA",708,946,133.61581920903956,-238,47.3,-190.7,-26.935028248587567,616,445,72.240259740259745,171,22.25,193.25,31.371753246753247,730,null,0,730,0,730,100,968,1076,111.15702479338843,-108,53.8,-54.2,-5.5991735537190088,963,10,1.0384215991692627,953,0.5,953.5,99.013499480789207,163185]
[100,"15  ATLAUTLA",467,652,139.61456102783728,-185,32.6,-152.4,-32.633832976445397,377,343,90.981432360742716,34,17.149999999999999,51.15,13.567639257294427,463,null,0,463,0,463,100,134,267,199.25373134328359,-133,13.35,-119.65,-89.291044776119406,132,602,456.06060606060606,-470,30.1,-439.9,-333.25757575757575,-19780]
[101,"17  AYAPANGO",398,119,29.899497487437188,279,5.95,284.95,71.595477386934675,132,59,44.696969696969695,73,2.95,75.95,57.537878787878796,175,null,0,175,0,175,100,655,60,9.1603053435114496,595,3,598,91.297709923664129,651,837,128.57142857142858,-186,41.85,-144.15,-22.142857142857146,98975.000000000015]
[102,"22  COCOTITLÁN",287,220,76.655052264808361,67,11,78,27.177700348432055,154,190,123.37662337662339,-36,9.5,-26.5,-17.20779220779221,227,null,0,227,0,227,100,251,256,101.99203187250995,-5,12.8,7.8000000000000007,3.1075697211155382,248,7140,2879.0322580645161,-6892,357,-6535,-2635.0806451612902,-624870]
[103,"25  CHALCO",3910,3922,100.30690537084399,-12,196.1,184.1,4.7084398976982103,4348,4596,105.70377184912603,-248,229.8,-18.199999999999989,-0.41858325666973295,3317,null,0,3317,0,3317,100,195,5820,2984.6153846153848,-5625,291,-5334,-2735.3846153846152,193,3945,2044.0414507772023,-3752,197.25,-3554.75,-1841.8393782383419,-540585]
[104,"34  ECATZINGO",352,261,74.147727272727266,91,13.05,104.05,29.55965909090909,127,140,110.23622047244095,-13,7,-6,-4.7244094488188972,241,null,0,241,0,241,100,4746,137,2.8866413822166033,4609,6.85,4615.8500000000004,97.257690686894236,4731,697,14.732614669203128,4034,34.85,4068.85,86.00401606425703,902375]
[105,"39  IXTAPALUCA",5747,3865,67.252479554550206,1882,193.25,2075.25,36.11014442317731,6236,4602,73.797305965362412,1634,230.1,1864.1,29.892559332905705,5547,null,0,5547,0,5547,100,5557,4764,85.729710275328415,793,238.2,1031.2,18.556775238438007,5539,243,4.3870734789673227,5296,12.15,5308.15,95.832280194981038,1582570]
[106,"50  JUCHITEPEC",394,392,99.492385786802032,2,19.600000000000001,21.6,5.4822335025380715,315,380,120.63492063492063,-65,19,-46,-14.603174603174605,548,null,0,548,0,548,100,426,433,101.6431924882629,-7,21.65,14.649999999999999,3.4389671361502345,424,54,12.735849056603774,370,2.7,372.7,87.90094339622641,91095]
[107,"68  OZUMBA",461,440,95.44468546637745,21,22,43,9.3275488069414312,368,444,120.65217391304348,-76,22.2,-53.8,-14.619565217391303,474,null,0,474,0,474,100,163,434,266.25766871165644,-271,21.7,-249.3,-152.94478527607362,162,245,151.23456790123458,-83,12.25,-70.75,-43.672839506172842,14314.999999999998]
[108,"83  TEMAMATLA",173,161,93.063583815028906,12,8.0500000000000007,20.05,11.589595375722544,150,210,140,-60,10.5,-49.5,-33,267,null,0,267,0,267,100,243,165,67.901234567901241,78,8.25,86.25,35.493827160493829,241,146,60.580912863070537,95,7.3,102.3,42.448132780082986,42610]
[109,"89  TENANGO DEL AIRE",394,199,50.507614213197968,195,9.9499999999999993,204.95,52.017766497461928,143,180,125.87412587412588,-37,9,-28,-19.58041958041958,240,null,0,240,0,240,100,444,227,51.126126126126124,217,11.35,228.35,51.430180180180173,442,1977,447.28506787330321,-1535,98.85,-1436.15,-324.92081447963801,-79085.000000000015]
[110,"94  TEPETLIXPA",460,403,87.608695652173921,57,20.149999999999999,77.150000000000006,16.771739130434785,243,239,98.353909465020578,4,11.95,15.95,6.5637860082304531,474,null,0,474,0,474,100,621,303,48.792270531400966,318,15.15,333.15,53.647342995169076,618,4,0.64724919093851141,614,0.2,614.20000000000005,99.385113268608421,151445]
[111,"103 TLALMANALCO",409,392,95.843520782396084,17,19.600000000000001,36.6,8.9486552567237165,602,456,75.747508305647841,146,22.8,168.8,28.039867109634553,1046,null,0,1046,0,1046,100,445,860,193.25842696629215,-415,43,-372,-83.595505617977523,441,51,11.564625850340136,390,2.5499999999999998,392.55,89.013605442176868,127195]
[112,"122 VALLE DE CHALCO SOLIDARIDAD",6310,5430,86.053882725832011,880,271.5,1151.5,18.248811410459588,4736,6599,139.33699324324326,-1863,329.95,-1533.05,-32.370143581081081,5545,null,0,5545,0,5545,100,5423,6284,115.87682094781486,-861,314.2,-546.79999999999995,-10.082979900424119,5416,681,12.573855243722305,4735,34.049999999999997,4769.05,88.054837518463813,938570.00000000012]
[113,"20  COACALCO DE BERRIOZÁBAL",2063,1124,54.483761512360637,939,56.2,995.2,48.240426563257394,1866.0000000000002,2298,123.15112540192925,-431.99999999999977,114.9,-317.0999999999998,-16.993569131832782,1915,null,0,1915,0,1915,100,1962,2604,132.72171253822631,-642,130.19999999999999,-511.8,-26.085626911314986,2404,224,9.3178036605657244,2180,11.2,2191.1999999999998,91.148086522462563,427250]
[114,"33  ECATEPEC DE MORELOS",17739,12594,70.996110265516648,5145,629.70000000000005,5774.7,32.553695247759173,18527.800000000007,22690,122.46462073208903,-4162.1999999999935,1134.5,-3027.6999999999935,-16.341389695484583,19003,null,0,19003,0,19003,100,19478,24179,124.13492144984085,-4701,1208.95,-3492.05,-17.928175377348804,19442,null,0,19442,0,19442,100,3769995.0000000009]
[115,"58  NEZAHUALCÓYOTL",12672,11060,87.279040404040416,1612,553,2165,17.084911616161616,14408,4530,31.440866185452528,9878,226.5,10104.5,70.131177123820095,17952,null,0,17952,0,17952,100,17952,10173,56.667780748663098,7779,508.65,8287.65,46.165608288770052,18279,null,0,18279,0,18279,100,5678815]
[116,"70  LA PAZ",4671,4080,87.347463070006427,591,204,795,17.019910083493901,5035,1722,34.200595829195628,3313,86.1,3399.1,67.509433962264154,5920,null,0,5920,0,5920,100,5920,2177,36.773648648648646,3743,108.85,3851.85,65.06503378378379,6030,null,0,6030,0,6030,100,1999595]
[117,"11  ATENCO",1033,955,92.449177153920616,78,47.75,125.75,12.173281703775411,843.7831954690464,673,79.759824989864768,170.7831954690464,33.65,204.43319546904641,24.228166259628466,782.00330832487725,null,0,782.00330832487725,0,782.00330832487725,100,905,949,104.86187845303867,-44,47.45,3.4500000000000028,0.38121546961325997,910,null,0,910,0,910,100,202563.65037939238]
[118,"28  CHIAUTLA",543,366,67.403314917127076,177,18.3,195.3,35.966850828729285,371.94347197091668,583,156.74424850386578,-211.05652802908332,29.15,-181.90652802908332,-48.90703607867249,344.71061660503062,null,0,344.71061660503062,0,344.71061660503062,100,440,558,126.81818181818181,-118,27.9,-90.1,-20.477272727272727,398,null,0,398,0,398,100,66600.408857594739]
[119,"29  CHICOLOAPAN",1724,1495,86.716937354988403,229,74.75,303.75,17.618909512761022,5197.5239237338519,927,17.835415740309898,4270.5239237338519,46.35,4316.8739237338523,83.056355046705605,4816.9730391444746,null,0,4816.9730391444746,0,4816.9730391444746,100,1928,2131,110.52904564315354,-203,106.55,-96.45,-5.0025933609958511,2527,null,0,2527,0,2527,100,1186814.6962878327]
[120,"30  CHICONCUAC",471,402,85.350318471337587,69,20.100000000000001,89.1,18.917197452229299,297.9104163553352,324,108.75752649532946,-26.089583644664799,16.2,-9.8895836446647998,-3.3196501705629906,276.09809299983857,null,0,276.09809299983857,0,276.09809299983857,100,334,522,156.2874251497006,-188,26.1,-161.9,-48.473053892215574,349,null,0,349,0,349,100,54240.850935517381]
[121,"31  CHIMALHUACÁN",10064,7478,74.304451510333863,2586,373.9,2959.9,29.410771065182828,7979.6110947208281,9026,113.1132819990619,-1046.3889052791719,451.3,-595.08890527917197,-7.457617899108798,7395.3621128337527,null,0,7395.3621128337527,0,7395.3621128337527,100,9656,9646,99.89643744821872,10,482.3,492.3,5.0983844241922123,9515,null,0,9515,0,9515,100,1976747.320755458]
[122,"69  PAPALOTLA",83,52,62.650602409638559,31,2.6,33.6,40.481927710843372,55.274961653084411,58,104.92996876961837,-2.7250383469155892,2.9,0.1749616530844107,0.31652966886255202,51.227854634168786,null,0,51.227854634168786,0,51.227854634168786,100,57,70,122.80701754385966,-13,3.5,-9.5,-16.666666666666664,60,null,0,60,0,60,100,13550.281628725321]
[123,"93  TEPETLAOXTOC",624,333,53.365384615384613,291,16.649999999999999,307.64999999999998,49.302884615384613,436.93678201434017,457,104.59178966191986,-20.063217985659833,22.85,2.7867820143401687,0.63779982117612322,404.94526425606477,null,0,404.94526425606477,0,404.94526425606477,100,468,479,102.35042735042734,-11,23.95,12.95,2.767094017094017,412,null,0,412,0,412,100,114033.20462704051]
[124,"99  TEXCOCO",3269,2572,78.678494952584884,697,128.6,825.6,25.255429795044353,2506.7679072946439,2454,97.894982333981133,52.767907294643919,122.7,175.46790729464391,6.9997667827179306,2323.2280605177712,null,0,2323.2280605177712,0,2323.2280605177712,100,2512,3145,125.19904458598725,-633,157.25,-475.75,-18.939092356687897,3553,null,0,3553,0,3553,100,640154.59678124147]
[125,"100 TEZOYUCA",740,437,59.054054054054049,303,21.85,324.85000000000002,43.898648648648653,515.65531773394798,286,55.463405527713675,229.65531773394798,14.3,243.95531773394799,47.309764748672009,477.90020776498835,null,0,477.90020776498835,0,477.90020776498835,100,596,631,105.87248322147651,-35,31.55,-3.4499999999999993,-0.57885906040268442,587,null,0,587,0,587,100,163025.55254989362]
["TOTAL",null,{"$f":"SUM(C11:C135)","v":216286},{"$f":"SUM(D11:D135)","v":187981},{"$f":"D136/C136*100","v":86.913161277197787},{"$f":"C136-D136","v":28305},{"$f":"D136*5/100","v":9399.0499999999993},{"$f":"F136+G136","v":37704.050000000003},{"$f":"H136/C136*100","v":17.432496786662107},{"$f":"SUM(J11:J135)","v":220736.32773865748},{"$f":"SUM(K11:K135)","v":194093},{"$f":"K136/J136*100","v":87.929794786564514},{"$f":"J136-K136","v":26643.327738657477},{"$f":"K136*5/100","v":9704.65},{"$f":"M136+N136","v":36347.977738657479},{"$f":"O136/J136*100","v":16.466694952763714},{"$f":"SUM(Q11:Q135)","v":222006.44855708096},{"$f":"SUM(R11:R135)","v":29956},{"$f":"R136/Q136*100","v":13.493301746276931},{"$f":"Q136-R136","v":192050.44855708096},{"$f":"R136*5/100","v":1497.8},{"$f":"T136+U136","v":193548.24855708095},{"$f":"V136/Q136*100","v":87.181363341036914},{"$f":"SUM(X11:X135)","v":228780},{"$f":"SUM(Y11:Y135)","v":251774},{"$f":"Y136/X136*100","v":110.05070373284379},{"$f":"X136-Y136","v":-22994},{"$f":"Y136*5/100","v":12588.7},{"$f":"AA136+AB136","v":-10405.299999999999},{"$f":"AC136/X136*100","v":-4.5481685462015902},{"$f":"SUM(AE11:AE135)","v":228350},{"$f":"SUM(AF11:AF135)","v":41170},18.029340924020147,187180,2058.5,189238.5,{"$f":"AJ136/AE136*100","v":82.872126122180873},{"$f":"SUM(H136,O136,V136,AC136)/X136*100","v":112.4202186798402}]

{"sheet":"base","index":1,"n_rows":18,"n_cols":11,"rows_kept":18,"cut":false,"hidden":true,"merged":[[0,1,8,2],[9,1,17,1],[9,2,17,2]]}
[null,null,null,"Población de 12 a 23 meses",{"$f":"SUMIFS(pob1223m2015,estado,$B1)","v":0},{"$f":"SUMIFS(pob1223m2016,estado,$B1)","v":0},{"$f":"SUMIFS(pob1223m2017,estado,$B1)","v":0},{"$f":"SUMIFS(pob1223m2018,estado,$B1)","v":0},{"$f":"SUMIFS(pob1223m2019,estado,$B1)","v":0},{"$f":"SUMIFS(pob1223m2020,estado,$B1)","v":0},{"$f":"SUM(E1:J1)","v":0}]
[null,null,null,"Número de niños vacunados con SRP1 de 12 a 23 meses",{"$f":"SUMIFS(vacSRP1a2015,estado,$B1)","v":0},{"$f":"SUMIFS(vacSRP1a2016,estado,$B1)","v":0},{"$f":"SUMIFS(vacSRP1a2017,estado,$B1)","v":0},{"$f":"SUMIFS(vacSRP1a2018,estado,$B1)","v":0},{"$f":"SUMIFS(vacSRP1a2019,estado,$B1)","v":0},{"$f":"SUMIFS(vacSRP1a2020,estado,$B1)","v":0},{"$f":"SUM(E2:J2)","v":0}]
[null,null,null,"% de Cobertura",{"$f":"E2/E1","v":{"$error":"#DIV/0!"}},{"$f":"F2/F1","v":{"$error":"#DIV/0!"}},{"$f":"G2/G1","v":{"$error":"#DIV/0!"}},{"$error":"#DIV/0!"},{"$error":"#DIV/0!"},{"$error":"#DIV/0!"},{"$error":"#DIV/0!"}]
[null,null,null,"Número de niños vacunados con SRP de 2 a 4 años (Esquema tardío)",{"$f":"SUMIFS(vacSRP1a4a2015,estado,$B1)","v":0},{"$f":"SUMIFS(vacSRP1a4a2016,estado,$B1)","v":0},{"$f":"SUMIFS(vacSRP1a4a2017,estado,$B1)","v":0},{"$f":"SUMIFS(vacSRP1a4a2018,estado,$B1)","v":0},{"$f":"SUMIFS(vacSRP1a4a2019,estado,$B1)","v":0},{"$f":"SUMIFS(vacSRP1a4a2020,estado,$B1)","v":0},{"$f":"SUM(E4:J4)","v":0}]
[null,null,null,"Total de niños vacunados",{"$f":"E4+E2","v":0},{"$f":"F4+F2","v":0},{"$f":"G4+G2","v":0},0,0,0,{"$f":"K4+K2","v":0}]
[null,null,null,"Número de niños no vacunados con SRP",{"$f":"E1-E5","v":0},{"$f":"F1-F5","v":0},{"$f":"G1-G5","v":0},0,0,0,{"$f":"K1-K5","v":0}]
[null,null,null,"Vacunados y no inmunizados (10% de los vacunados)",{"$f":"E5*10/100","v":0},{"$f":"F5*10/100","v":0},{"$f":"G5*10/100","v":0},0,0,0,{"$f":"K5*10/100","v":0}]
[null,null,null,"Total de susceptibles",{"$f":"E7+E6","v":0},{"$f":"F7+F6","v":0},{"$f":"G7+G6","v":0},0,0,0,0]
[null,null,null,"% de susceptibles por cohorte anual",{"$f":"E8/E1","v":{"$error":"#DIV/0!"}},{"$f":"F8/F1","v":{"$error":"#DIV/0!"}},{"$f":"G8/G1","v":{"$error":"#DIV/0!"}},{"$error":"#DIV/0!"},{"$error":"#DIV/0!"},{"$error":"#DIV/0!"},{"$error":"#DIV/0!"}]
[null,null,null,"Población de 12 a 23 meses",{"$f":"SUMIFS(pob1223m2015,municipio,$C10)","v":0},{"$f":"SUMIFS(pob1223m2016,municipio,$C10)","v":0},{"$f":"SUMIFS(pob1223m2017,municipio,$C10)","v":0},{"$f":"SUMIFS(pob1223m2018,municipio,$C10)","v":0},{"$f":"SUMIFS(pob1223m2019,municipio,$C10)","v":0},{"$f":"SUMIFS(pob1223m2020,municipio,$C10)","v":0},{"$f":"SUM(E10:J10)","v":0}]
[null,null,null,"Número de niños vacunados con SRP1 de 12 a 23 meses",{"$f":"SUMIFS(vacSRP1a2015,municipio,$C10)","v":0},{"$f":"SUMIFS(vacSRP1a2016,municipio,$C10)","v":0},{"$f":"SUMIFS(vacSRP1a2017,municipio,$C10)","v":0},{"$f":"SUMIFS(vacSRP1a2018,municipio,$C10)","v":0},{"$f":"SUMIFS(vacSRP1a2019,municipio,$C10)","v":0},{"$f":"SUMIFS(vacSRP1a2020,municipio,$C10)","v":0},{"$f":"SUM(E11:J11)","v":0}]
[null,null,null,"% de Cobertura",{"$f":"E11/E10","v":{"$error":"#DIV/0!"}},{"$f":"F11/F10","v":{"$error":"#DIV/0!"}},{"$f":"G11/G10","v":{"$error":"#DIV/0!"}},{"$error":"#DIV/0!"},{"$error":"#DIV/0!"},{"$error":"#DIV/0!"},{"$error":"#DIV/0!"}]
[null,null,null,"Número de niños vacunados con SRP de 2 a 4 años (Esquema tardío)",{"$f":"SUMIFS(vacSRP1a4a2015,municipio,$C10)","v":0},{"$f":"SUMIFS(vacSRP1a4a2016,municipio,$C10)","v":0},{"$f":"SUMIFS(vacSRP1a4a2017,municipio,$C10)","v":0},{"$f":"SUMIFS(vacSRP1a4a2018,municipio,$C10)","v":0},{"$f":"SUMIFS(vacSRP1a4a2019,municipio,$C10)","v":0},{"$f":"SUMIFS(vacSRP1a4a2020,municipio,$C10)","v":0},{"$f":"SUM(E13:J13)","v":0}]
[null,null,null,"Total de niños vacunados",{"$f":"E13+E11","v":0},{"$f":"F13+F11","v":0},{"$f":"G13+G11","v":0},0,0,0,{"$f":"K13+K11","v":0}]
[null,null,null,"Número de niños no vacunados con SRP",{"$f":"E10-E14","v":0},{"$f":"F10-F14","v":0},{"$f":"G10-G14","v":0},0,0,0,{"$f":"K10-K14","v":0}]
[null,null,null,"Vacunados y no inmunizados (10% de los vacunados)",{"$f":"E14*10/100","v":0},{"$f":"F14*10/100","v":0},{"$f":"G14*10/100","v":0},0,0,0,{"$f":"K14*10/100","v":0}]
[null,null,null,"Total de susceptibles",{"$f":"E16+E15","v":0},{"$f":"F16+F15","v":0},{"$f":"G16+G15","v":0},0,0,0,0]
[null,null,null,"% de susceptibles por cohorte anual",{"$f":"E17/E10","v":{"$error":"#DIV/0!"}},{"$f":"F17/F10","v":{"$error":"#DIV/0!"}},{"$f":"G17/G10","v":{"$error":"#DIV/0!"}},{"$error":"#DIV/0!"},{"$error":"#DIV/0!"},{"$error":"#DIV/0!"},{"$error":"#DIV/0!"}]

{"sheet":"Instructivo","index":2,"n_rows":49,"n_cols":1,"rows_kept":49,"cut":false,"hidden":false,"merged":[]}
["Anexo 2. Instructivo para llenado de calculadora de susceptibles cohortes SRP en campaña de vacunación de seguimiento"]
[]
["1. Pestaña de susceptibles por nivel (establecimiento de salud, red,  municipio o región sanitaria)"]
[]
["Procediendo a  ingresar la siguiente información, a partir del año que realizo su última CVS:"]
[]
["POBLACIÓN DE 12 A 23 MESES"]
["NÚMERO DE NIÑOS VACUNADOS CON SRP 1 DE 12 A 23 MESES"]
["NÚMERO DE NIÑOS VACUNADOS CON SRP DE 2 A 4 AÑOS  (ESQUEMA TARDIO)"]
[]
["Observación :Cuando  la fila de niños vacunados es mayor que la población meta, al calcular el número de niños  no vacunados  es igual  a   la población meta de12 a 23 meses  menos los vacunados , si el número es negativo simplemente pone cero, no tiene niños no vacunados. "]
[]
["2. Pestaña de lista de consolidado susceptibles"]
[]
["En esta pestaña usted encontrará en el lado superior izquierdo un botón que dice Agregar Registro, dele enter  y le aparecerá un  tablero  de datos para cálculo de susceptibles de SRP, por una cohorte de años del 2015 al 2020, proceda a:"]
[]
["ü  Ingrese el nombre del establecimiento de salud, red,municipio, según sea el caso  "]
[]
["ü  Seleccionar el año a partir del año que realizo su última CVS, en el caso de Honduras será el 2016, ya que su última CVS la realizó en 2016"]
[]
["ü  Ingrese por cada año la siguiente información"]
[]
["POBLACIÓN DE 12 A 23 MESES"]
["NÚMERO DE NIÑOS VACUNADOS CON SRP 1 DE 12 A 23 MESES"]
["NÚMERO DE NIÑOS VACUNADOS CON SRP1 DE 2 A 4 AÑOS  (ESQUEMA TARDÍO)"]
[]
["Hasta completar la cohorte de años, en este caso, 2016, 2017, 2018, 2019 y año 2020"]
[]
["ü  En el lado inferior izquierdo del tablero encontrara 3 botones, así:"]
[]
["ü  Agregar  Registro: Una vez completada la información por cada año de la cohorte definida, le dará enter a este botón y  automáticamente lo guardará en el listado y calculara las variables de: "]
[]
["ü  % DE COBERTURA TOTAL DE VACUNADOS"]
[]
["ü  NÚMERO DE NIÑOS NO VACUNADOS CON SRP"]
[]
["ü  VACUNADOS Y NO INMUNIZADOS (10% DE LOS VACUNADOS)"]
[]
["ü  TOTAL DE SUSCEPTIBLES"]
[]
["ü  % DE SUSCEPTIBLES POR COHORTE ANUAL "]
[]
["Limpiar: este botón le permitirá ingresar la información siguiente  según gestión, recordándole que por  municipio deberá siempre utilizar al final el botón agregar información, así sucesivamente hasta completar el 100% de los establecimientos de salud del municipio, el total de municipios, de la red  o región sanitaria."]
[]
["Cancelar, utilizar este botón una vez haya finalizado y proceda a cerrar el tablero   "]
[]
["El  mismo procedimiento utilizar si quiere conocer la cohorte de susceptibles para SRP2."]
[]
["Para  el cálculo de susceptibles de Polio, puede utilizar el mismo formato, solo elimine la columna de % de vacunados y no inmunizados  "]

{"sheet":"Susceptibles _","index":3,"n_rows":22,"n_cols":11,"rows_kept":22,"cut":false,"hidden":true,"merged":[[0,1,4,7],[11,7,12,7],[7,1,7,7],[8,1,8,7],[5,1,5,7],[6,1,6,7],[10,2,10,6]]}
[]
[]
[]
[]
[]
[null,"CÁLCULO DE SUSCEPTIBLES POR  ESTABLECIMIENTO, RED, MUNICIPIO Y REGION SANITARIA"]
[null,"CAMPAÑA DE VACUNACIÓN DE SEGUIMIENTO DE POLIO,  SARAMPIÓN RUBEOLA DE ALTA CALIDAD (CVS) "]
[]
[]
[]
[null,"NOMBRE DE LA MUNICIPIO/REGIÓN SANITARIA: Municipio 1","POBLACIÓN DE 1  A  5 AÑOS",null,null,null,null,null,null,"RIESGO","%  DE SUSCEPTIBLES"]
[null,"NOMBRE DEL ESTABLECIMIENTO DE SALUD: ",5,4,3,2,1,"TOTAL",null,"ALTO","90-100%"]
[null,"VARIABLES/AÑOS",2016,2017,2018,2019,2020,null,null,"MEDIO","50-89"]
[null,"POBLACIÓN DE 12 A 23 MESES",{"$f":"'1. Lista Consolidado Susceptibl'!$N$558","v":0},{"$f":"'1. Lista Consolidado Susceptibl'!$W$558","v":0},{"$f":"'1. Lista Consolidado Susceptibl'!$AF$558","v":0},{"$f":"'1. Lista Consolidado Susceptibl'!$AO$558","v":0},{"$f":"'1. Lista Consolidado Susceptibl'!$AX$558","v":0},{"$f":"SUM(C14:G14)","v":0},null,"BAJO","<50"]
[null,"NÚMERO DE NIÑOS VACUNADOS CON SRP 1 DE 12 A 23 MESES ",{"$f":"'1. Lista Consolidado Susceptibl'!$O$558","v":0},{"$f":"'1. Lista Consolidado Susceptibl'!$X$558","v":0},{"$f":"'1. Lista Consolidado Susceptibl'!$AG$558","v":0},{"$f":"'1. Lista Consolidado Susceptibl'!$AP$558","v":0},{"$f":"'1. Lista Consolidado Susceptibl'!$AY$558","v":0},{"$f":"SUM(C15:G15)","v":0}]
[null,"% DE COBERTURA",{"$f":"IFERROR(C15/C14,\"\")","v":""},"","","","",""]
[null,"NÚMERO DE NIÑOS VACUNADOS CON SRP DE 2 A 4 AÑOS  (ESQUEMA TARDIO)",{"$f":"'1. Lista Consolidado Susceptibl'!$Q$558","v":0},{"$f":"'1. Lista Consolidado Susceptibl'!$Z$558","v":0},{"$f":"'1. Lista Consolidado Susceptibl'!$AI$558","v":0},{"$f":"'1. Lista Consolidado Susceptibl'!$AR$558","v":0},{"$f":"'1. Lista Consolidado Susceptibl'!$BA$558","v":0},{"$f":"SUM(C17:G17)","v":0}]
[null,"TOTAL DE NIÑOS VACUNADOS ",{"$f":"+C15+C17","v":0},0,0,0,0,0]
[null,"NÚMERO DE NIÑOS NO VACUNADOS CON SRP",{"$f":"+C14-C18","v":0},0,0,0,0,0]
[null,"VACUNADOS Y NO INMUNIZADOS (10% DE LOS VACUNADOS)",{"$f":"+C18*0.1","v":0},0,0,0,0,0]
[null,"TOTAL DE SUSCEPTIBLES",{"$f":"+C19+C20","v":0},0,0,0,0,0]
[null,"% DE SUSCEPTIBLES POR COHORTE ANUAL",{"$f":"IFERROR(C21/C14,\"\")","v":""},"","","","",""]

{"sheet":"1. Lista Consolidado Susceptibl","index":4,"n_rows":558,"n_cols":62,"rows_kept":558,"cut":false,"hidden":false,"merged":[[557,0,557,3],[5,22,5,30],[5,49,5,57],[5,31,5,39],[5,40,5,48],[0,0,0,36],[1,0,1,36],[5,13,5,21],[5,0,6,0],[5,4,5,12]]}
["CÁLCULO DE SUSCEPTIBLES POR  ESTABLECIMIENTO Y MUNICIPIO "]
["anexo 2. "]
[]
[]
[]
["No.",null,null,null,"2015 (6 AÑOS)",null,null,null,null,null,null,null,null,"2016 (5 AÑOS)",null,null,null,null,null,null,null,null,"2017 (4 AÑOS)",null,null,null,null,null,null,null,null,"2018 (3 AÑOS)",null,null,null,null,null,null,null,null,"2019 (2AÑOS)",null,null,null,null,null,null,null,null,"2020 (1 AÑO)"]
[null,"ESTADO/PROVINCIA/REGION","MUNICIPIO/DISTRITO/JURIDICCION","ESTABLECIMIENTO DE SALUD","POBLACIÓN\n12 A 23 MESES ","VACUNADOS CON SRP 1a DOSIS ","% DE COBERTURA","VACUNADOS CON SRP1 2 A 4 AÑOS (ESQUEMA TARDIO)","TOTAL DE VACUNADOS  ","NÚMERO DE NIÑOS NO VACUNADOS CON SRP","VACUNADOS Y NO INMUNIZADOS (10% DE LOS VACUNADOS)","TOTAL DE SUSCEPTIBLES","% DE SUSCEPTIBLES POR COHORTE ANUAL","POBLACIÓN\n12 A 23 MESES ","VACUNADOS CON SRP 1a DOSIS ","% DE COBERTURA","VACUNADOS CON SRP1 2 A 4 AÑOS (ESQUEMA TARDIO)","TOTAL DE VACUNADOS  ","NÚMERO DE NIÑOS NO VACUNADOS CON SRP","VACUNADOS Y NO INMUNIZADOS (10% DE LOS VACUNADOS)","TOTAL DE SUSCEPTIBLES","% DE SUSCEPTIBLES POR COHORTE ANUAL","POBLACIÓN\n12 A 23 MESES ","VACUNADOS CON SRP 1a DOSIS ","% DE COBERTURA","VACUNADOS CON SRP1 2 A 4 AÑOS (ESQUEMA TARDIO )","TOTAL DE VACUNADOS  ","NÚMERO DE NIÑOS NO VACUNADOS CON SRP","VACUNADOS Y NO INMUNIZADOS (10% DE LOS VACUNADOS)","TOTAL DE SUSCEPTIBLES","% DE SUSCEPTIBLES POR COHORTE ANUAL","POBLACIÓN\n12 A 23 MESES ","VACUNADOS CON SRP 1a DOSIS ","% DE COBERTURA","VACUNADOS CON SRP1 2 A 4 AÑOS (ESQUEMA TARDIO )","TOTAL DE VACUNADOS  ","NÚMERO DE NIÑOS NO VACUNADOS CON SRP","VACUNADOS Y NO INMUNIZADOS (10% DE LOS VACUNADOS)","TOTAL DE SUSCEPTIBLES","% DE SUSCEPTIBLES POR COHORTE ANUAL","POBLACIÓN\n12 A 23 MESES ","VACUNADOS CON SRP 1a DOSIS","% DE COBERTURA","VACUNADOS CON SRP1 2 A 4 AÑOS (ESQUEMA TARDIO )","TOTAL DE VACUNADOS  ","NÚMERO DE NIÑOS NO VACUNADOS CON SRP","VACUNADOS Y NO INMUNIZADOS (10% DE LOS VACUNADOS)","TOTAL DE SUSCEPTIBLES","% DE SUSCEPTIBLES POR COHORTE ANUAL","POBLACIÓN\n12 A 23 MESES","VACUNADOS CON SRP 1a DOSIS","% DE COBERTURA","VACUNADOS CON SRP1 2 A 4 AÑOS (ESQUEMA TARDIO )","TOTAL DE VACUNADOS  ","NÚMERO DE NIÑOS NO VACUNADOS CON SRP","VACUNADOS Y NO INMUNIZADOS (10% DE LOS VACUNADOS)","TOTAL DE SUSCEPTIBLES","% DE SUSCEPTIBLES POR COHORTE ANUAL","TOTAL DE POBLACION \n1 A 5 AÑOS  ","TOTAL DE POBLACION SUSCEPTIBLES ","% TOTAL DE SUSCEPTIBLES","COHORTE DE NACIMIENTO DEL AÑO ACTUAL"]
[1,null,null,null,null,null,{"$f":"IFERROR(F8/E8,\"\")","v":""},null,{"$f":"+F8+H8","v":0},{"$f":"+E8-I8","v":0},{"$f":"+I8*0.1","v":0},{"$f":"+J8+K8","v":0},{"$f":"IFERROR(+L8/E8,\"\")","v":""},null,null,{"$f":"IFERROR(O8/N8,\"\")","v":""},null,{"$f":"+O8+Q8","v":0},{"$f":"+N8-R8","v":0},{"$f":"+R8*0.1","v":0},{"$f":"+S8+T8","v":0},{"$f":"IFERROR(+U8/N8,\"\")","v":""},null,null,{"$f":"IFERROR(X8/W8,\"\")","v":""},null,{"$f":"+X8+Z8","v":0},{"$f":"+W8-AA8","v":0},{"$f":"+AA8*0.1","v":0},{"$f":"+AB8+AC8","v":0},{"$f":"IFERROR(+AD8/W8,\"\")","v":""},null,null,{"$f":"IFERROR(AG8/AF8,\"\")","v":""},null,{"$f":"+AG8+AI8","v":0},{"$f":"+AF8-AJ8","v":0},{"$f":"+AJ8*0.1","v":0},{"$f":"+AK8+AL8","v":0},{"$f":"IFERROR(+AM8/AF8,\"\")","v":""},null,null,{"$f":"IFERROR(AP8/AO8,\"\")","v":""},null,{"$f":"+AP8+AR8","v":0},{"$f":"+AO8-AS8","v":0},{"$f":"+AS8*0.1","v":0},{"$f":"+AT8+AU8","v":0},{"$f":"IFERROR(+AV8/AO8,\"\")","v":""},null,null,{"$f":"IFERROR(AY8/AX8,\"\")","v":""},null,{"$f":"+AY8+BA8","v":0},{"$f":"+AX8-BB8","v":0},{"$f":"+BB8*0.1","v":0},{"$f":"+BC8+BD8","v":0},{"$f":"IFERROR(+BE8/AX8,\"\")","v":""},{"$f":"+W8+AF8+AO8+AX8","v":0},{"$f":"U8+AD8+AM8+AV8+BE8","v":0},{"$f":"IFERROR(BH8/BJ8,\"\")","v":""}]
[2,null,null,null,null,null,{"$f":"IFERROR(F9/E9,\"\")","v":""},null,{"$f":"+F9+H9","v":0},{"$f":"+E9-I9","v":0},{"$f":"+I9*0.1","v":0},{"$f":"+J9+K9","v":0},{"$f":"IFERROR(+L9/E9,\"\")","v":""},null,null,{"$f":"IFERROR(O9/N9,\"\")","v":""},null,{"$f":"+O9+Q9","v":0},{"$f":"+N9-R9","v":0},{"$f":"+R9*0.1","v":0},{"$f":"+S9+T9","v":0},{"$f":"IFERROR(+U9/N9,\"\")","v":""},null,null,{"$f":"IFERROR(X9/W9,\"\")","v":""},null,{"$f":"+X9+Z9","v":0},{"$f":"+W9-AA9","v":0},{"$f":"+AA9*0.1","v":0},{"$f":"+AB9+AC9","v":0},{"$f":"IFERROR(+AD9/W9,\"\")","v":""},null,null,{"$f":"IFERROR(AG9/AF9,\"\")","v":""},null,{"$f":"+AG9+AI9","v":0},{"$f":"+AF9-AJ9","v":0},{"$f":"+AJ9*0.1","v":0},{"$f":"+AK9+AL9","v":0},{"$f":"IFERROR(+AM9/AF9,\"\")","v":""},null,null,{"$f":"IFERROR(AP9/AO9,\"\")","v":""},null,{"$f":"+AP9+AR9","v":0},{"$f":"+AO9-AS9","v":0},{"$f":"+AS9*0.1","v":0},{"$f":"+AT9+AU9","v":0},{"$f":"IFERROR(+AV9/AO9,\"\")","v":""},null,null,{"$f":"IFERROR(AY9/AX9,\"\")","v":""},null,{"$f":"+AY9+BA9","v":0},{"$f":"+AX9-BB9","v":0},{"$f":"+BB9*0.1","v":0},{"$f":"+BC9+BD9","v":0},{"$f":"IFERROR(+BE9/AX9,\"\")","v":""},{"$f":"+W9+AF9+AO9+AX9","v":0},{"$f":"U9+AD9+AM9+AV9+BE9","v":0},{"$f":"IFERROR(BH9/BJ9,\"\")","v":""}]
[3,null,null,null,null,null,"",null,0,0,0,0,"",null,null,"",null,0,0,0,0,"",null,null,"",null,0,0,0,0,"",null,null,"",null,0,0,0,0,"",null,null,"",null,0,0,0,0,"",null,null,"",null,0,0,0,0,"",0,0,""]
[4,null,null,null,null,null,"",null,0,0,0,0,"",null,null,"",null,0,0,0,0,"",null,null,"",null,0,0,0,0,"",null,null,"",null,0,0,0,0,"",null,null,"",null,0,0,0,0,"",null,null,"",null,0,0,0,0,"",0,0,""]
[5,null,null,null,null,null,"",null,0,0,0,0,"",null,null,"",null,0,0,0,0,"",null,null,"",null,0,0,0,0,"",null,null,"",null,0,0,0,0,"",null,null,"",null,0,0,0,0,"",null,null,"",null,0,0,0,0,"",0,0,""]
[6,null,null,null,null,null,"",null,0,0,0,0,"",null,null,"",null,0,0,0,0,"",null,null,"",null,0,0,0,0,"",null,null,"",null,0,0,0,0,"",null,null,"",null,0,0,0,0,"",null,null,"",null,0,0,0,0,"",0,0,""]
[7,null,null,null,null,null,"",null,0,0,0,0,"",null,null,"",null,0,0,0,0,"",null,null,"",null,0,0,0,0,"",null,null,"",null,0,0,0,0,"",null,null,"",null,0,0,0,0,"",null,null,"",null,0,0,0,0,"",0,0,""]
[8,null,null,null,null,null,"",null,0,0,0,0,"",null,null,"",null,0,0,0,0,"",null,null,"",null,0,0,0,0,"",null,null,"",null,0,0,0,0,"",null,null,"",null,0,0,0,0,"",null,null,"",null,0,0,0,0,"",0,0,""]
[9,null,null,null,null,null,"",null,0,0,0,0,"",null,null,"",null,0,0,0,0,"",null,null,"",null,0,0,0,0,"",null,null,"",null,0,0,0,0,"",null,null,"",null,0,0,0,0,"",null,null,"",null,0,0,0,0,"",0,0,""]
[10,null,null,null,null,null,"",null,0,0,0,0,"",null,null,"",null,0,0,0,0,"",null,null,"",null,0,0,0,0,"",null,null,"",null,0,0,0,0,"",null,null,"",null,0,0,0,0,"",null,null,"",null,0,0,0,0,"",0,0,""]
[11,null,null,null,null,null,"",null,0,0,0,0,"",null,null,"",null,0,0,0,0,"",null,null,"",null,0,0,0,0,"",null,null,"",null,0,0,0,0,"",null,null,"",null,0,0,0,0,"",null,null,"",null,0,0,0,0,"",0,0,""]
[12,null,null,null,null,null,"",null,0,0,0,0,"",null,null,"",null,0,0,0,0,"",null,null,"",null,0,0,0,0,"",null,null,"",null,0,0,0,0,"",null,null,"",null,0,0,0,0,"",null,null,"",null,0,0,0,0,"",0,0,""]
[13,null,null,null,null,null,"",null,0,0,0,0,"",null,null,"",null,0,0,0,0,"",null,null,"",null,0,0,0,0,"",null,null,"",null,0,0,0,0,"",null,null,"",null,0,0,0,0,"",null,null,"",null,0,0,0,0,"",0,0,""]
[14,null,null,null,null,null,"",null,0,0,0,0,"",null,null,"",null,0,0,0,0,"",null,null,"",null,0,0,0,0,"",null,null,"",null,0,0,0,0,"",null,null,"",null,0,0,0,0,"",null,null,"",null,0,0,0,0,"",0,0,""]
[15,null,null,null,null,null,"",null,0,0,0,0,"",null,null,"",null,0,0,0,0,"",null,null,"",null,0,0,0,0,"",null,null,"",null,0,0,0,0,"",null,null,"",null,0,0,0,0,"",null,null,"",null,0,0,0,0,"",0,0,""]
[16,null,null,null,null,null,"",null,0,0,0,0,"",null,null,"",null,0,0,0,0,"",null,null,"",null,0,0,0,0,"",null,null,"",null,0,0,0,0,"",null,null,"",null,0,0,0,0,"",null,null,"",null,0,0,0,0,"",0,0,""]
[17,null,null,null,null,null,"",null,0,0,0,0,"",null,null,"",null,0,0,0,0,"",null,null,"",null,0,0,0,0,"",null,null,"",null,0,0,0,0,"",null,null,"",null,0,0,0,0,"",null,null,"",null,0,0,0,0,"",0,0,""]
[18,null,null,null,null,null,"",null,0,0,0,0,"",null,null,"",null,0,0,0,0,"",null,null,"",null,0,0,0,0,"",null,null,"",null,0,0,0,0,"",null,null,"",null,0,0,0,0,"",null,null,"",null,0,0,0,0,"",0,0,""]
[19,null,null,null,null,null,"",null,0,0,0,0,"",null,null,"",null,0,0,0,0,"",null,null,"",null,0,0,0,0,"",null,null,"",null,0,0,0,0,"",null,null,"",null,0,0,0,0,"",null,null,"",null,0,0,0,0,"",0,0,""]
[20,null,null,null,null,null,"",null,0,0,0,0,"",null,null,"",null,0,0,0,0,"",null,null,"",null,0,0,0,0,"",null,null,"",null,0,0,0,0,"",null,null,"",null,0,0,0,0,"",null,null,"",null,0,0,0,0,"",0,0,""]
[21,null,null,null,null,null,"",null,0,0,0,0,"",null,null,{"$f":"IFERROR(O28/N28,\"\")","v":""},null,{"$f":"+O28+Q28","v":0},{"$f":"+N28-R28","v":0},{"$f":"+R28*0.1","v":0},{"$f":"+S28+T28","v":0},{"$f":"IFERROR(+U28/N28,\"\")","v":""},null,null,{"$f":"IFERROR(X28/W28,\"\")","v":""},null,{"$f":"+X28+Z28","v":0},{"$f":"+W28-AA28","v":0},{"$f":"+AA28*0.1","v":0},{"$f":"+AB28+AC28","v":0},{"$f":"IFERROR(+AD28/W28,\"\")","v":""},null,null,{"$f":"IFERROR(AG28/AF28,\"\")","v":""},null,{"$f":"+AG28+AI28","v":0},{"$f":"+AF28-AJ28","v":0},{"$f":"+AJ28*0.1","v":0},{"$f":"+AK28+AL28","v":0},{"$f":"IFERROR(+AM28/AF28,\"\")","v":""},null,null,{"$f":"IFERROR(AP28/AO28,\"\")","v":""},null,{"$f":"+AP28+AR28","v":0},{"$f":"+AO28-AS28","v":0},{"$f":"+AS28*0.1","v":0},{"$f":"+AT28+AU28","v":0},{"$f":"IFERROR(+AV28/AO28,\"\")","v":""},null,null,{"$f":"IFERROR(AY28/AX28,\"\")","v":""},null,{"$f":"+AY28+BA28","v":0},{"$f":"+AX28-BB28","v":0},{"$f":"+BB28*0.1","v":0},{"$f":"+BC28+BD28","v":0},{"$f":"IFERROR(+BE28/AX28,\"\")","v":""},{"$f":"+W28+AF28+AO28+AX28","v":0},{"$f":"U28+AD28+AM28+AV28+BE28","v":0},{"$f":"IFERROR(BH28/BJ28,\"\")","v":""}]
[22,null,null,null,null,null,"",null,0,0,0,0,"",null,null,"",null,0,0,0,0,"",null,null,"",null,0,0,0,0,"",null,null,"",null,0,0,0,0,"",null,null,"",null,0,0,0,0,"",null,null,"",null,0,0,0,0,"",0,0,""]
[23,null,null,null,null,null,"",null,0,0,0,0,"",null,null,"",null,0,0,0,0,"",null,null,"",null,0,0,0,0,"",null,null,"",null,0,0,0,0,"",null,null,"",null,0,0,0,0,"",null,null,"",null,0,0,0,0,"",0,0,""]
[24,null,null,null,null,null,"",null,0,0,0,0,"",null,null,"",null,0,0,0,0,"",null,null,"",null,0,0,0,0,"",null,null,"",null,0,0,0,0,"",null,null,"",null,0,0,0,0,"",null,null,"",null,0,0,0,0,"",0,0,""]
[25,null,null,null,null,null,"",null,0,0,0,0,"",null,null,"",null,0,0,0,0,"",null,null,"",null,0,0,0,0,"",null,null,"",null,0,0,0,0,"",null,null,"",null,0,0,0,0,"",null,null,"",null,0,0,0,0,"",0,0,""]
[26,null,null,null,null,null,"",null,0,0,0,0,"",null,null,"",null,0,0,0,0,"",null,null,"",null,0,0,0,0,"",null,null,"",null,0,0,0,0,"",null,null,"",null,0,0,0,0,"",null,null,"",null,0,0,0,0,"",0,0,""]
[27,null,null,null,null,null,"",null,0,0,0,0,"",null,null,"",null,0,0,0,0,"",null,null,"",null,0,0,0,0,"",null,null,"",null,0,0,0,0,"",null,null,"",null,0,0,0,0,"",null,null,"",null,0,0,0,0,"",0,0,""]
[28,null,null,null,null,null,"",null,0,0,0,0,"",null,null,"",null,0,0,0,0,"",null,null,"",null,0,0,0,0,"",null,null,"",null,0,0,0,0,"",null,null,"",null,0,0,0,0,"",null,null,"",null,0,0,0,0,"",0,0,""]
[29,null,null,null,null,null,"",null,0,0,0,0,"",null,null,"",null,0,0,0,0,"",null,null,"",null,0,0,0,0,"",null,null,"",null,0,0,0,0,"",null,null,"",null,0,0,0,0,"",null,null,"",null,0,0,0,0,"",0,0,""]
[30,null,null,null,null,null,"",null,0,0,0,0,"",null,null,"",null,0,0,0,0,"",null,null,"",null,0,0,0,0,"",null,null,"",null,0,0,0,0,"",null,null,"",null,0,0,0,0,"",null,null,"",null,0,0,0,0,"",0,0,""]
[31,null,null,null,null,null,"",null,0,0,0,0,"",null,null,"",null,0,0,0,0,"",null,null,"",null,0,0,0,0,"",null,null,"",null,0,0,0,0,"",null,null,"",null,0,0,0,0,"",null,null,"",null,0,0,0,0,"",0,0,""]
[32,null,null,null,null,null,"",null,0,0,0,0,"",null,null,"",null,0,0,0,0,"",null,null,"",null,0,0,0,0,"",null,null,"",null,0,0,0,0,"",null,null,"",null,0,0,0,0,"",null,null,"",null,0,0,0,0,"",0,0,""]
[33,null,null,null,null,null,"",null,0,0,0,0,"",null,null,"",null,0,0,0,0,"",null,null,"",null,0,0,0,0,"",null,null,"",null,0,0,0,0,"",null,null,"",null,0,0,0,0,"",null,null,"",null,0,0,0,0,"",0,0,""]
[34,null,null,null,null,null,"",null,0,0,0,0,"",null,null,"",null,0,0,0,0,"",null,null,"",null,0,0,0,0,"",null,null,"",null,0,0,0,0,"",null,null,"",null,0,0,0,0,"",null,null,"",null,0,0,0,0,"",0,0,""]
[35,null,null,null,null,null,"",null,0,0,0,0,"",null,null,"",null,0,0,0,0,"",null,null,"",null,0,0,0,0,"",null,null,"",null,0,0,0,0,"",null,null,"",null,0,0,0,0,"",null,null,"",null,0,0,0,0,"",0,0,""]
[36,null,null,null,null,null,"",null,0,0,0,0,"",null,null,"",null,0,0,0,0,"",null,null,"",null,0,0,0,0,"",null,null,"",null,0,0,0,0,"",null,null,"",null,0,0,0,0,"",null,null,"",null,0,0,0,0,"",0,0,""]
[37,null,null,null,null,null,"",null,0,0,0,0,"",null,null,"",null,0,0,0,0,"",null,null,"",null,0,0,0,0,"",null,null,"",null,0,0,0,0,"",null,null,"",null,0,0,0,0,"",null,null,"",null,0,0,0,0,"",0,0,""]
[38,null,null,null,null,null,"",null,0,0,0,0,"",null,null,"",null,0,0,0,0,"",null,null,"",null,0,0,0,0,"",null,null,"",null,0,0,0,0,"",null,null,"",null,0,0,0,0,"",null,null,"",null,0,0,0,0,"",0,0,""]
[39,null,null,null,null,null,"",null,0,0,0,0,"",null,null,"",null,0,0,0,0,"",null,null,"",null,0,0,0,0,"",null,null,"",null,0,0,0,0,"",null,null,"",null,0,0,0,0,"",null,null,"",null,0,0,0,0,"",0,0,""]
[40,null,null,null,null,null,"",null,0,0,0,0,"",null,null,"",null,0,0,0,0,"",null,null,"",null,0,0,0,0,"",null,null,"",null,0,0,0,0,"",null,null,"",null,0,0,0,0,"",null,null,"",null,0,0,0,0,"",0,0,""]
[41,null,null,null,null,null,"",null,0,0,0,0,"",null,null,"",null,0,0,0,0,"",null,null,"",null,0,0,0,0,"",null,null,"",null,0,0,0,0,"",null,null,"",null,0,0,0,0,"",null,null,"",null,0,0,0,0,"",0,0,""]
[42,null,null,null,null,null,"",null,0,0,0,0,"",null,null,"",null,0,0,0,0,"",null,null,"",null,0,0,0,0,"",null,null,"",null,0,0,0,0,"",null,null,"",null,0,0,0,0,"",null,null,"",null,0,0,0,0,"",0,0,""]
[43,null,null,null,null,null,"",null,0,0,0,0,"",null,null,"",null,0,0,0,0,"",null,null,"",null,0,0,0,0,"",null,null,"",null,0,0,0,0,"",null,null,"",null,0,0,0,0,"",null,null,"",null,0,0,0,0,"",0,0,""]
[44,null,null,null,null,null,"",null,0,0,0,0,"",null,null,"",null,0,0,0,0,"",null,null,"",null,0,0,0,0,"",null,null,"",null,0,0,0,0,"",null,null,"",null,0,0,0,0,"",null,null,"",null,0,0,0,0,"",0,0,""]
[45,null,null,null,null,null,"",null,0,0,0,0,"",null,null,"",null,0,0,0,0,"",null,null,"",null,0,0,0,0,"",null,null,"",null,0,0,0,0,"",null,null,"",null,0,0,0,0,"",null,null,"",null,0,0,0,0,"",0,0,""]
[46,null,null,null,null,null,"",null,0,0,0,0,"",null,null,"",null,0,0,0,0,"",null,null,"",null,0,0,0,0,"",null,null,"",null,0,0,0,0,"",null,null,"",null,0,0,0,0,"",null,null,"",null,0,0,0,0,"",0,0,""]
[47,null,null,null,null,null,"",null,0,0,0,0,"",null,null,"",null,0,0,0,0,"",null,null,"",null,0,0,0,0,"",null,null,"",null,0,0,0,0,"",null,null,"",null,0,0,0,0,"",null,null,"",null,0,0,0,0,"",0,0,""]
[48,null,null,null,null,null,"",null,0,0,0,0,"",null,null,"",null,0,0,0,0,"",null,null,"",null,0,0,0,0,"",null,null,"",null,0,0,0,0,"",null,null,"",null,0,0,0,0,"",null,null,"",null,0,0,0,0,"",0,0,""]
[49,null,null,null,null,null,"",null,0,0,0,0,"",null,null,"",null,0,0,0,0,"",null,null,"",null,0,0,0,0,"",null,null,"",null,0,0,0,0,"",null,null,"",null,0,0,0,0,"",null,null,"",null,0,0,0,0,"",0,0,""]
[50,null,null,null,null,null,"",null,0,0,0,0,"",null,null,"",null,0,0,0,0,"",null,null,"",null,0,0,0,0,"",null,null,"",null,0,0,0,0,"",null,null,"",null,0,0,0,0,"",null,null,"",null,0,0,0,0,"",0,0,""]
[51,null,null,null,null,null,"",null,0,0,0,0,"",null,null,"",null,0,0,0,0,"",null,null,"",null,0,0,0,0,"",null,null,"",null,0,0,0,0,"",null,null,"",null,0,0,0,0,"",null,null,"",null,0,0,0,0,"",0,0,""]
[52,null,null,null,null,null,"",null,0,0,0,0,"",null,null,"",null,0,0,0,0,"",null,null,"",null,0,0,0,0,"",null,null,"",null,0,0,0,0,"",null,null,"",null,0,0,0,0,"",null,null,"",null,0,0,0,0,"",0,0,""]
[53,null,null,null,null,null,"",null,0,0,0,0,"",null,null,"",null,0,0,0,0,"",null,null,"",null,0,0,0,0,"",null,null,"",null,0,0,0,0,"",null,null,"",null,0,0,0,0,"",null,null,"",null,0,0,0,0,"",0,0,""]
[54,null,null,null,null,null,"",null,0,0,0,0,"",null,null,"",null,0,0,0,0,"",null,null,"",null,0,0,0,0,"",null,null,"",null,0,0,0,0,"",null,null,"",null,0,0,0,0,"",null,null,"",null,0,0,0,0,"",0,0,""]
[55,null,null,null,null,null,"",null,0,0,0,0,"",null,null,"",null,0,0,0,0,"",null,null,"",null,0,0,0,0,"",null,null,"",null,0,0,0,0,"",null,null,"",null,0,0,0,0,"",null,null,"",null,0,0,0,0,"",0,0,""]
[56,null,null,null,null,null,"",null,0,0,0,0,"",null,null,"",null,0,0,0,0,"",null,null,"",null,0,0,0,0,"",null,null,"",null,0,0,0,0,"",null,null,"",null,0,0,0,0,"",null,null,"",null,0,0,0,0,"",0,0,""]
[57,null,null,null,null,null,"",null,0,0,0,0,"",null,null,"",null,0,0,0,0,"",null,null,"",null,0,0,0,0,"",null,null,"",null,0,0,0,0,"",null,null,"",null,0,0,0,0,"",null,null,"",null,0,0,0,0,"",0,0,""]
[58,null,null,null,null,null,"",null,0,0,0,0,"",null,null,"",null,0,0,0,0,"",null,null,"",null,0,0,0,0,"",null,null,"",null,0,0,0,0,"",null,null,"",null,0,0,0,0,"",null,null,"",null,0,0,0,0,"",0,0,""]
[59,null,null,null,null,null,"",null,0,0,0,0,"",null,null,"",null,0,0,0,0,"",null,null,"",null,0,0,0,0,"",null,null,"",null,0,0,0,0,"",null,null,"",null,0,0,0,0,"",null,null,"",null,0,0,0,0,"",0,0,""]
[60,null,null,null,null,null,"",null,0,0,0,0,"",null,null,"",null,0,0,0,0,"",null,null,"",null,0,0,0,0,"",null,null,"",null,0,0,0,0,"",null,null,"",null,0,0,0,0,"",null,null,"",null,0,0,0,0,"",0,0,""]
[61,null,null,null,null,null,"",null,0,0,0,0,"",null,null,"",null,0,0,0,0,"",null,null,"",null,0,0,0,0,"",null,null,"",null,0,0,0,0,"",null,null,"",null,0,0,0,0,"",null,null,"",null,0,0,0,0,"",0,0,""]
[62,null,null,null,null,null,"",null,0,0,0,0,"",null,null,"",null,0,0,0,0,"",null,null,"",null,0,0,0,0,"",null,null,"",null,0,0,0,0,"",null,null,"",null,0,0,0,0,"",null,null,"",null,0,0,0,0,"",0,0,""]
[63,null,null,null,null,null,"",null,0,0,0,0,"",null,null,"",null,0,0,0,0,"",null,null,"",null,0,0,0,0,"",null,null,"",null,0,0,0,0,"",null,null,"",null,0,0,0,0,"",null,null,"",null,0,0,0,0,"",0,0,""]
[64,null,null,null,null,null,"",null,0,0,0,0,"",null,null,"",null,0,0,0,0,"",null,null,"",null,0,0,0,0,"",null,null,"",null,0,0,0,0,"",null,null,"",null,0,0,0,0,"",null,null,"",null,0,0,0,0,"",0,0,""]
[65,null,null,null,null,null,{"$f":"IFERROR(F72/E72,\"\")","v":""},null,{"$f":"+F72+H72","v":0},{"$f":"+E72-I72","v":0},{"$f":"+I72*0.1","v":0},{"$f":"+J72+K72","v":0},{"$f":"IFERROR(+L72/E72,\"\")","v":""},null,null,"",null,0,0,0,0,"",null,null,"",null,0,0,0,0,"",null,null,"",null,0,0,0,0,"",null,null,"",null,0,0,0,0,"",null,null,"",null,0,0,0,0,"",0,0,""]
[66,null,null,null,null,null,"",null,0,0,0,0,"",null,null,{"$f":"IFERROR(O73/N73,\"\")","v":""},null,{"$f":"+O73+Q73","v":0},{"$f":"+N73-R73","v":0},{"$f":"+R73*0.1","v":0},{"$f":"+S73+T73","v":0},{"$f":"IFERROR(+U73/N73,\"\")","v":""},null,null,{"$f":"IFERROR(X73/W73,\"\")","v":""},null,{"$f":"+X73+Z73","v":0},{"$f":"+W73-AA73","v":0},{"$f":"+AA73*0.1","v":0},{"$f":"+AB73+AC73","v":0},{"$f":"IFERROR(+AD73/W73,\"\")","v":""},null,null,{"$f":"IFERROR(AG73/AF73,\"\")","v":""},null,{"$f":"+AG73+AI73","v":0},{"$f":"+AF73-AJ73","v":0},{"$f":"+AJ73*0.1","v":0},{"$f":"+AK73+AL73","v":0},{"$f":"IFERROR(+AM73/AF73,\"\")","v":""},null,null,{"$f":"IFERROR(AP73/AO73,\"\")","v":""},null,{"$f":"+AP73+AR73","v":0},{"$f":"+AO73-AS73","v":0},{"$f":"+AS73*0.1","v":0},{"$f":"+AT73+AU73","v":0},{"$f":"IFERROR(+AV73/AO73,\"\")","v":""},null,null,{"$f":"IFERROR(AY73/AX73,\"\")","v":""},null,{"$f":"+AY73+BA73","v":0},{"$f":"+AX73-BB73","v":0},{"$f":"+BB73*0.1","v":0},{"$f":"+BC73+BD73","v":0},{"$f":"IFERROR(+BE73/AX73,\"\")","v":""},{"$f":"+W73+AF73+AO73+AX73","v":0},{"$f":"U73+AD73+AM73+AV73+BE73","v":0},{"$f":"IFERROR(BH73/BJ73,\"\")","v":""}]
[67,null,null,null,null,null,"",null,0,0,0,0,"",null,null,"",null,0,0,0,0,"",null,null,"",null,0,0,0,0,"",null,null,"",null,0,0,0,0,"",null,null,"",null,0,0,0,0,"",null,null,"",null,0,0,0,0,"",0,0,""]
[68,null,null,null,null,null,"",null,0,0,0,0,"",null,null,"",null,0,0,0,0,"",null,null,"",null,0,0,0,0,"",null,null,"",null,0,0,0,0,"",null,null,"",null,0,0,0,0,"",null,null,"",null,0,0,0,0,"",0,0,""]
[69,null,null,null,null,null,"",null,0,0,0,0,"",null,null,"",null,0,0,0,0,"",null,null,"",null,0,0,0,0,"",null,null,"",null,0,0,0,0,"",null,null,"",null,0,0,0,0,"",null,null,"",null,0,0,0,0,"",0,0,""]
[70,null,null,null,null,null,"",null,0,0,0,0,"",null,null,"",null,0,0,0,0,"",null,null,"",null,0,0,0,0,"",null,null,"",null,0,0,0,0,"",null,null,"",null,0,0,0,0,"",null,null,"",null,0,0,0,0,"",0,0,""]
[71,null,null,null,null,null,"",null,0,0,0,0,"",null,null,"",null,0,0,0,0,"",null,null,"",null,0,0,0,0,"",null,null,"",null,0,0,0,0,"",null,null,"",null,0,0,0,0,"",null,null,"",null,0,0,0,0,"",0,0,""]
[72,null,null,null,null,null,"",null,0,0,0,0,"",null,null,"",null,0,0,0,0,"",null,null,"",null,0,0,0,0,"",null,null,"",null,0,0,0,0,"",null,null,"",null,0,0,0,0,"",null,null,"",null,0,0,0,0,"",0,0,""]
[73,null,null,null,null,null,"",null,0,0,0,0,"",null,null,"",null,0,0,0,0,"",null,null,"",null,0,0,0,0,"",null,null,"",null,0,0,0,0,"",null,null,"",null,0,0,0,0,"",null,null,"",null,0,0,0,0,"",0,0,""]
[74,null,null,null,null,null,"",null,0,0,0,0,"",null,null,"",null,0,0,0,0,"",null,null,"",null,0,0,0,0,"",null,null,"",null,0,0,0,0,"",null,null,"",null,0,0,0,0,"",null,null,"",null,0,0,0,0,"",0,0,""]
[75,null,null,null,null,null,"",null,0,0,0,0,"",null,null,"",null,0,0,0,0,"",null,null,"",null,0,0,0,0,"",null,null,"",null,0,0,0,0,"",null,null,"",null,0,0,0,0,"",null,null,"",null,0,0,0,0,"",0,0,""]
[76,null,null,null,null,null,"",null,0,0,0,0,"",null,null,"",null,0,0,0,0,"",null,null,"",null,0,0,0,0,"",null,null,"",null,0,0,0,0,"",null,null,"",null,0,0,0,0,"",null,null,"",null,0,0,0,0,"",0,0,""]
[77,null,null,null,null,null,"",null,0,0,0,0,"",null,null,"",null,0,0,0,0,"",null,null,"",null,0,0,0,0,"",null,null,"",null,0,0,0,0,"",null,null,"",null,0,0,0,0,"",null,null,"",null,0,0,0,0,"",0,0,""]
[78,null,null,null,null,null,"",null,0,0,0,0,"",null,null,"",null,0,0,0,0,"",null,null,"",null,0,0,0,0,"",null,null,"",null,0,0,0,0,"",null,null,"",null,0,0,0,0,"",null,null,"",null,0,0,0,0,"",0,0,""]
[79,null,null,null,null,null,"",null,0,0,0,0,"",null,null,"",null,0,0,0,0,"",null,null,"",null,0,0,0,0,"",null,null,"",null,0,0,0,0,"",null,null,"",null,0,0,0,0,"",null,null,"",null,0,0,0,0,"",0,0,""]
[80,null,null,null,null,null,"",null,0,0,0,0,"",null,null,"",null,0,0,0,0,"",null,null,"",null,0,0,0,0,"",null,null,"",null,0,0,0,0,"",null,null,"",null,0,0,0,0,"",null,null,"",null,0,0,0,0,"",0,0,""]
[81,null,null,null,null,null,"",null,0,0,0,0,"",null,null,"",null,0,0,0,0,"",null,null,"",null,0,0,0,0,"",null,null,"",null,0,0,0,0,"",null,null,"",null,0,0,0,0,"",null,null,"",null,0,0,0,0,"",0,0,""]
[82,null,null,null,null,null,"",null,0,0,0,0,"",null,null,"",null,0,0,0,0,"",null,null,"",null,0,0,0,0,"",null,null,"",null,0,0,0,0,"",null,null,"",null,0,0,0,0,"",null,null,"",null,0,0,0,0,"",0,0,""]
[83,null,null,null,null,null,"",null,0,0,0,0,"",null,null,"",null,0,0,0,0,"",null,null,"",null,0,0,0,0,"",null,null,"",null,0,0,0,0,"",null,null,"",null,0,0,0,0,"",null,null,"",null,0,0,0,0,"",0,0,""]
[84,null,null,null,null,null,"",null,0,0,0,0,"",null,null,"",null,0,0,0,0,"",null,null,"",null,0,0,0,0,"",null,null,"",null,0,0,0,0,"",null,null,"",null,0,0,0,0,"",null,null,"",null,0,0,0,0,"",0,0,""]
[85,null,null,null,null,null,"",null,0,0,0,0,"",null,null,"",null,0,0,0,0,"",null,null,"",null,0,0,0,0,"",null,null,"",null,0,0,0,0,"",null,null,"",null,0,0,0,0,"",null,null,"",null,0,0,0,0,"",0,0,""]
[86,null,null,null,null,null,"",null,0,0,0,0,"",null,null,"",null,0,0,0,0,"",null,null,"",null,0,0,0,0,"",null,null,"",null,0,0,0,0,"",null,null,"",null,0,0,0,0,"",null,null,"",null,0,0,0,0,"",0,0,""]
[87,null,null,null,null,null,"",null,0,0,0,0,"",null,null,"",null,0,0,0,0,"",null,null,"",null,0,0,0,0,"",null,null,"",null,0,0,0,0,"",null,null,"",null,0,0,0,0,"",null,null,"",null,0,0,0,0,"",0,0,""]
[88,null,null,null,null,null,"",null,0,0,0,0,"",null,null,"",null,0,0,0,0,"",null,null,"",null,0,0,0,0,"",null,null,"",null,0,0,0,0,"",null,null,"",null,0,0,0,0,"",null,null,"",null,0,0,0,0,"",0,0,""]
[89,null,null,null,null,null,"",null,0,0,0,0,"",null,null,"",null,0,0,0,0,"",null,null,"",null,0,0,0,0,"",null,null,"",null,0,0,0,0,"",null,null,"",null,0,0,0,0,"",null,null,"",null,0,0,0,0,"",0,0,""]
[90,null,null,null,null,null,"",null,0,0,0,0,"",null,null,"",null,0,0,0,0,"",null,null,"",null,0,0,0,0,"",null,null,"",null,0,0,0,0,"",null,null,"",null,0,0,0,0,"",null,null,"",null,0,0,0,0,"",0,0,""]
[91,null,null,null,null,null,"",null,0,0,0,0,"",null,null,"",null,0,0,0,0,"",null,null,"",null,0,0,0,0,"",null,null,"",null,0,0,0,0,"",null,null,"",null,0,0,0,0,"",null,null,"",null,0,0,0,0,"",0,0,""]
[92,null,null,null,null,null,"",null,0,0,0,0,"",null,null,"",null,0,0,0,0,"",null,null,"",null,0,0,0,0,"",null,null,"",null,0,0,0,0,"",null,null,"",null,0,0,0,0,"",null,null,"",null,0,0,0,0,"",0,0,""]
[93,null,null,null,null,null,"",null,0,0,0,0,"",null,null,"",null,0,0,0,0,"",null,null,"",null,0,0,0,0,"",null,null,"",null,0,0,0,0,"",null,null,"",null,0,0,0,0,"",null,null,"",null,0,0,0,0,"",0,0,""]
[94,null,null,null,null,null,"",null,0,0,0,0,"",null,null,"",null,0,0,0,0,"",null,null,"",null,0,0,0,0,"",null,null,"",null,0,0,0,0,"",null,null,"",null,0,0,0,0,"",null,null,"",null,0,0,0,0,"",0,0,""]
[95,null,null,null,null,null,"",null,0,0,0,0,"",null,null,"",null,0,0,0,0,"",null,null,"",null,0,0,0,0,"",null,null,"",null,0,0,0,0,"",null,null,"",null,0,0,0,0,"",null,null,"",null,0,0,0,0,"",0,0,""]
[96,null,null,null,null,null,"",null,0,0,0,0,"",null,null,"",null,0,0,0,0,"",null,null,"",null,0,0,0,0,"",null,null,"",null,0,0,0,0,"",null,null,"",null,0,0,0,0,"",null,null,"",null,0,0,0,0,"",0,0,""]
[97,null,null,null,null,null,"",null,0,0,0,0,"",null,null,"",null,0,0,0,0,"",null,null,"",null,0,0,0,0,"",null,null,"",null,0,0,0,0,"",null,null,"",null,0,0,0,0,"",null,null,"",null,0,0,0,0,"",0,0,""]
[98,null,null,null,null,null,"",null,0,0,0,0,"",null,null,"",null,0,0,0,0,"",null,null,"",null,0,0,0,0,"",null,null,"",null,0,0,0,0,"",null,null,"",null,0,0,0,0,"",null,null,"",null,0,0,0,0,"",0,0,""]
[99,null,null,null,null,null,"",null,0,0,0,0,"",null,null,"",null,0,0,0,0,"",null,null,"",null,0,0,0,0,"",null,null,"",null,0,0,0,0,"",null,null,"",null,0,0,0,0,"",null,null,"",null,0,0,0,0,"",0,0,""]
[100,null,null,null,null,null,"",null,0,0,0,0,"",null,null,"",null,0,0,0,0,"",null,null,"",null,0,0,0,0,"",null,null,"",null,0,0,0,0,"",null,null,"",null,0,0,0,0,"",null,null,"",null,0,0,0,0,"",0,0,""]
[101,null,null,null,null,null,"",null,0,0,0,0,"",null,null,"",null,0,0,0,0,"",null,null,"",null,0,0,0,0,"",null,null,"",null,0,0,0,0,"",null,null,"",null,0,0,0,0,"",null,null,"",null,0,0,0,0,"",0,0,""]
[102,null,null,null,null,null,"",null,0,0,0,0,"",null,null,"",null,0,0,0,0,"",null,null,"",null,0,0,0,0,"",null,null,"",null,0,0,0,0,"",null,null,"",null,0,0,0,0,"",null,null,"",null,0,0,0,0,"",0,0,""]
[103,null,null,null,null,null,"",null,0,0,0,0,"",null,null,"",null,0,0,0,0,"",null,null,"",null,0,0,0,0,"",null,null,"",null,0,0,0,0,"",null,null,"",null,0,0,0,0,"",null,null,"",null,0,0,0,0,"",0,0,""]
[104,null,null,null,null,null,"",null,0,0,0,0,"",null,null,"",null,0,0,0,0,"",null,null,"",null,0,0,0,0,"",null,null,"",null,0,0,0,0,"",null,null,"",null,0,0,0,0,"",null,null,"",null,0,0,0,0,"",0,0,""]
[105,null,null,null,null,null,"",null,0,0,0,0,"",null,null,"",null,0,0,0,0,"",null,null,"",null,0,0,0,0,"",null,null,"",null,0,0,0,0,"",null,null,"",null,0,0,0,0,"",null,null,"",null,0,0,0,0,"",0,0,""]
[106,null,null,null,null,null,"",null,0,0,0,0,"",null,null,"",null,0,0,0,0,"",null,null,"",null,0,0,0,0,"",null,null,"",null,0,0,0,0,"",null,null,"",null,0,0,0,0,"",null,null,"",null,0,0,0,0,"",0,0,""]
[107,null,null,null,null,null,"",null,0,0,0,0,"",null,null,"",null,0,0,0,0,"",null,null,"",null,0,0,0,0,"",null,null,"",null,0,0,0,0,"",null,null,"",null,0,0,0,0,"",null,null,"",null,0,0,0,0,"",0,0,""]
[108,null,null,null,null,null,"",null,0,0,0,0,"",null,null,"",null,0,0,0,0,"",null,null,"",null,0,0,0,0,"",null,null,"",null,0,0,0,0,"",null,null,"",null,0,0,0,0,"",null,null,"",null,0,0,0,0,"",0,0,""]
[109,null,null,null,null,null,"",null,0,0,0,0,"",null,null,"",null,0,0,0,0,"",null,null,"",null,0,0,0,0,"",null,null,"",null,0,0,0,0,"",null,null,"",null,0,0,0,0,"",null,null,"",null,0,0,0,0,"",0,0,""]
[110,null,null,null,null,null,"",null,0,0,0,0,"",null,null,"",null,0,0,0,0,"",null,null,"",null,0,0,0,0,"",null,null,"",null,0,0,0,0,"",null,null,"",null,0,0,0,0,"",null,null,"",null,0,0,0,0,"",0,0,""]
[111,null,null,null,null,null,"",null,0,0,0,0,"",null,null,"",null,0,0,0,0,"",null,null,"",null,0,0,0,0,"",null,null,"",null,0,0,0,0,"",null,null,"",null,0,0,0,0,"",null,null,"",null,0,0,0,0,"",0,0,""]
[112,null,null,null,null,null,"",null,0,0,0,0,"",null,null,"",null,0,0,0,0,"",null,null,"",null,0,0,0,0,"",null,null,"",null,0,0,0,0,"",null,null,"",null,0,0,0,0,"",null,null,"",null,0,0,0,0,"",0,0,""]
[113,null,null,null,null,null,"",null,0,0,0,0,"",null,null,"",null,0,0,0,0,"",null,null,"",null,0,0,0,0,"",null,null,"",null,0,0,0,0,"",null,null,"",null,0,0,0,0,"",null,null,"",null,0,0,0,0,"",0,0,""]
[114,null,null,null,null,null,"",null,0,0,0,0,"",null,null,"",null,0,0,0,0,"",null,null,"",null,0,0,0,0,"",null,null,"",null,0,0,0,0,"",null,null,"",null,0,0,0,0,"",null,null,"",null,0,0,0,0,"",0,0,""]
[115,null,null,null,null,null,"",null,0,0,0,0,"",null,null,"",null,0,0,0,0,"",null,null,"",null,0,0,0,0,"",null,null,"",null,0,0,0,0,"",null,null,"",null,0,0,0,0,"",null,null,"",null,0,0,0,0,"",0,0,""]
[116,null,null,null,null,null,"",null,0,0,0,0,"",null,null,"",null,0,0,0,0,"",null,null,"",null,0,0,0,0,"",null,null,"",null,0,0,0,0,"",null,null,"",null,0,0,0,0,"",null,null,"",null,0,0,0,0,"",0,0,""]
[117,null,null,null,null,null,"",null,0,0,0,0,"",null,null,"",null,0,0,0,0,"",null,null,"",null,0,0,0,0,"",null,null,"",null,0,0,0,0,"",null,null,"",null,0,0,0,0,"",null,null,"",null,0,0,0,0,"",0,0,""]
[118,null,null,null,null,null,"",null,0,0,0,0,"",null,null,"",null,0,0,0,0,"",null,null,"",null,0,0,0,0,"",null,null,"",null,0,0,0,0,"",null,null,"",null,0,0,0,0,"",null,null,"",null,0,0,0,0,"",0,0,""]
[119,null,null,null,null,null,"",null,0,0,0,0,"",null,null,"",null,0,0,0,0,"",null,null,"",null,0,0,0,0,"",null,null,"",null,0,0,0,0,"",null,null,"",null,0,0,0,0,"",null,null,"",null,0,0,0,0,"",0,0,""]
[120,null,null,null,null,null,"",null,0,0,0,0,"",null,null,"",null,0,0,0,0,"",null,null,"",null,0,0,0,0,"",null,null,"",null,0,0,0,0,"",null,null,"",null,0,0,0,0,"",null,null,"",null,0,0,0,0,"",0,0,""]
[121,null,null,null,null,null,"",null,0,0,0,0,"",null,null,"",null,0,0,0,0,"",null,null,"",null,0,0,0,0,"",null,null,"",null,0,0,0,0,"",null,null,"",null,0,0,0,0,"",null,null,"",null,0,0,0,0,"",0,0,""]
[122,null,null,null,null,null,"",null,0,0,0,0,"",null,null,"",null,0,0,0,0,"",null,null,"",null,0,0,0,0,"",null,null,"",null,0,0,0,0,"",null,null,"",null,0,0,0,0,"",null,null,"",null,0,0,0,0,"",0,0,""]
[123,null,null,null,null,null,"",null,0,0,0,0,"",null,null,"",null,0,0,0,0,"",null,null,"",null,0,0,0,0,"",null,null,"",null,0,0,0,0,"",null,null,"",null,0,0,0,0,"",null,null,"",null,0,0,0,0,"",0,0,""]
[124,null,null,null,null,null,"",null,0,0,0,0,"",null,null,"",null,0,0,0,0,"",null,null,"",null,0,0,0,0,"",null,null,"",null,0,0,0,0,"",null,null,"",null,0,0,0,0,"",null,null,"",null,0,0,0,0,"",0,0,""]
[125,null,null,null,null,null,"",null,0,0,0,0,"",null,null,"",null,0,0,0,0,"",null,null,"",null,0,0,0,0,"",null,null,"",null,0,0,0,0,"",null,null,"",null,0,0,0,0,"",null,null,"",null,0,0,0,0,"",0,0,""]
[126,null,null,null,null,null,"",null,0,0,0,0,"",null,null,"",null,0,0,0,0,"",null,null,"",null,0,0,0,0,"",null,null,"",null,0,0,0,0,"",null,null,"",null,0,0,0,0,"",null,null,"",null,0,0,0,0,"",0,0,""]
[127,null,null,null,null,null,"",null,0,0,0,0,"",null,null,"",null,0,0,0,0,"",null,null,"",null,0,0,0,0,"",null,null,"",null,0,0,0,0,"",null,null,"",null,0,0,0,0,"",null,null,"",null,0,0,0,0,"",0,0,""]
[128,null,null,null,null,null,"",null,0,0,0,0,"",null,null,"",null,0,0,0,0,"",null,null,"",null,0,0,0,0,"",null,null,"",null,0,0,0,0,"",null,null,"",null,0,0,0,0,"",null,null,"",null,0,0,0,0,"",0,0,""]
[129,null,null,null,null,null,{"$f":"IFERROR(F136/E136,\"\")","v":""},null,{"$f":"+F136+H136","v":0},{"$f":"+E136-I136","v":0},{"$f":"+I136*0.1","v":0},{"$f":"+J136+K136","v":0},{"$f":"IFERROR(+L136/E136,\"\")","v":""},null,null,"",null,0,0,0,0,"",null,null,"",null,0,0,0,0,"",null,null,"",null,0,0,0,0,"",null,null,"",null,0,0,0,0,"",null,null,"",null,0,0,0,0,"",0,0,""]
[130,null,null,null,null,null,"",null,0,0,0,0,"",null,null,{"$f":"IFERROR(O137/N137,\"\")","v":""},null,{"$f":"+O137+Q137","v":0},{"$f":"+N137-R137","v":0},{"$f":"+R137*0.1","v":0},{"$f":"+S137+T137","v":0},{"$f":"IFERROR(+U137/N137,\"\")","v":""},null,null,{"$f":"IFERROR(X137/W137,\"\")","v":""},null,{"$f":"+X137+Z137","v":0},{"$f":"+W137-AA137","v":0},{"$f":"+AA137*0.1","v":0},{"$f":"+AB137+AC137","v":0},{"$f":"IFERROR(+AD137/W137,\"\")","v":""},null,null,{"$f":"IFERROR(AG137/AF137,\"\")","v":""},null,{"$f":"+AG137+AI137","v":0},{"$f":"+AF137-AJ137","v":0},{"$f":"+AJ137*0.1","v":0},{"$f":"+AK137+AL137","v":0},{"$f":"IFERROR(+AM137/AF137,\"\")","v":""},null,null,{"$f":"IFERROR(AP137/AO137,\"\")","v":""},null,{"$f":"+AP137+AR137","v":0},{"$f":"+AO137-AS137","v":0},{"$f":"+AS137*0.1","v":0},{"$f":"+AT137+AU137","v":0},{"$f":"IFERROR(+AV137/AO137,\"\")","v":""},null,null,{"$f":"IFERROR(AY137/AX137,\"\")","v":""},null,{"$f":"+AY137+BA137","v":0},{"$f":"+AX137-BB137","v":0},{"$f":"+BB137*0.1","v":0},{"$f":"+BC137+BD137","v":0},{"$f":"IFERROR(+BE137/AX137,\"\")","v":""},{"$f":"+W137+AF137+AO137+AX137","v":0},{"$f":"U137+AD137+AM137+AV137+BE137","v":0},{"$f":"IFERROR(BH137/BJ137,\"\")","v":""}]
[131,null,null,null,null,null,"",null,0,0,0,0,"",null,null,"",null,0,0,0,0,"",null,null,"",null,0,0,0,0,"",null,null,"",null,0,0,0,0,"",null,null,"",null,0,0,0,0,"",null,null,"",null,0,0,0,0,"",0,0,""]
[132,null,null,null,null,null,"",null,0,0,0,0,"",null,null,"",null,0,0,0,0,"",null,null,"",null,0,0,0,0,"",null,null,"",null,0,0,0,0,"",null,null,"",null,0,0,0,0,"",null,null,"",null,0,0,0,0,"",0,0,""]
[133,null,null,null,null,null,"",null,0,0,0,0,"",null,null,"",null,0,0,0,0,"",null,null,"",null,0,0,0,0,"",null,null,"",null,0,0,0,0,"",null,null,"",null,0,0,0,0,"",null,null,"",null,0,0,0,0,"",0,0,""]
[134,null,null,null,null,null,"",null,0,0,0,0,"",null,null,"",null,0,0,0,0,"",null,null,"",null,0,0,0,0,"",null,null,"",null,0,0,0,0,"",null,null,"",null,0,0,0,0,"",null,null,"",null,0,0,0,0,"",0,0,""]
[135,null,null,null,null,null,"",null,0,0,0,0,"",null,null,"",null,0,0,0,0,"",null,null,"",null,0,0,0,0,"",null,null,"",null,0,0,0,0,"",null,null,"",null,0,0,0,0,"",null,null,"",null,0,0,0,0,"",0,0,""]
[136,null,null,null,null,null,"",null,0,0,0,0,"",null,null,"",null,0,0,0,0,"",null,null,"",null,0,0,0,0,"",null,null,"",null,0,0,0,0,"",null,null,"",null,0,0,0,0,"",null,null,"",null,0,0,0,0,"",0,0,""]
[137,null,null,null,null,null,"",null,0,0,0,0,"",null,null,"",null,0,0,0,0,"",null,null,"",null,0,0,0,0,"",null,null,"",null,0,0,0,0,"",null,null,"",null,0,0,0,0,"",null,null,"",null,0,0,0,0,"",0,0,""]
[138,null,null,null,null,null,"",null,0,0,0,0,"",null,null,"",null,0,0,0,0,"",null,null,"",null,0,0,0,0,"",null,null,"",null,0,0,0,0,"",null,null,"",null,0,0,0,0,"",null,null,"",null,0,0,0,0,"",0,0,""]
[139,null,null,null,null,null,"",null,0,0,0,0,"",null,null,"",null,0,0,0,0,"",null,null,"",null,0,0,0,0,"",null,null,"",null,0,0,0,0,"",null,null,"",null,0,0,0,0,"",null,null,"",null,0,0,0,0,"",0,0,""]
[140,null,null,null,null,null,"",null,0,0,0,0,"",null,null,"",null,0,0,0,0,"",null,null,"",null,0,0,0,0,"",null,null,"",null,0,0,0,0,"",null,null,"",null,0,0,0,0,"",null,null,"",null,0,0,0,0,"",0,0,""]
[141,null,null,null,null,null,"",null,0,0,0,0,"",null,null,"",null,0,0,0,0,"",null,null,"",null,0,0,0,0,"",null,null,"",null,0,0,0,0,"",null,null,"",null,0,0,0,0,"",null,null,"",null,0,0,0,0,"",0,0,""]
[142,null,null,null,null,null,"",null,0,0,0,0,"",null,null,"",null,0,0,0,0,"",null,null,"",null,0,0,0,0,"",null,null,"",null,0,0,0,0,"",null,null,"",null,0,0,0,0,"",null,null,"",null,0,0,0,0,"",0,0,""]
[143,null,null,null,null,null,"",null,0,0,0,0,"",null,null,"",null,0,0,0,0,"",null,null,"",null,0,0,0,0,"",null,null,"",null,0,0,0,0,"",null,null,"",null,0,0,0,0,"",null,null,"",null,0,0,0,0,"",0,0,""]
[144,null,null,null,null,null,"",null,0,0,0,0,"",null,null,"",null,0,0,0,0,"",null,null,"",null,0,0,0,0,"",null,null,"",null,0,0,0,0,"",null,null,"",null,0,0,0,0,"",null,null,"",null,0,0,0,0,"",0,0,""]
[145,null,null,null,null,null,"",null,0,0,0,0,"",null,null,"",null,0,0,0,0,"",null,null,"",null,0,0,0,0,"",null,null,"",null,0,0,0,0,"",null,null,"",null,0,0,0,0,"",null,null,"",null,0,0,0,0,"",0,0,""]
[146,null,null,null,null,null,"",null,0,0,0,0,"",null,null,"",null,0,0,0,0,"",null,null,"",null,0,0,0,0,"",null,null,"",null,0,0,0,0,"",null,null,"",null,0,0,0,0,"",null,null,"",null,0,0,0,0,"",0,0,""]
[147,null,null,null,null,null,"",null,0,0,0,0,"",null,null,"",null,0,0,0,0,"",null,null,"",null,0,0,0,0,"",null,null,"",null,0,0,0,0,"",null,null,"",null,0,0,0,0,"",null,null,"",null,0,0,0,0,"",0,0,""]
[148,null,null,null,null,null,"",null,0,0,0,0,"",null,null,"",null,0,0,0,0,"",null,null,"",null,0,0,0,0,"",null,null,"",null,0,0,0,0,"",null,null,"",null,0,0,0,0,"",null,null,"",null,0,0,0,0,"",0,0,""]
[149,null,null,null,null,null,"",null,0,0,0,0,"",null,null,"",null,0,0,0,0,"",null,null,"",null,0,0,0,0,"",null,null,"",null,0,0,0,0,"",null,null,"",null,0,0,0,0,"",null,null,"",null,0,0,0,0,"",0,0,""]
[150,null,null,null,null,null,"",null,0,0,0,0,"",null,null,"",null,0,0,0,0,"",null,null,"",null,0,0,0,0,"",null,null,"",null,0,0,0,0,"",null,null,"",null,0,0,0,0,"",null,null,"",null,0,0,0,0,"",0,0,""]
[151,null,null,null,null,null,"",null,0,0,0,0,"",null,null,"",null,0,0,0,0,"",null,null,"",null,0,0,0,0,"",null,null,"",null,0,0,0,0,"",null,null,"",null,0,0,0,0,"",null,null,"",null,0,0,0,0,"",0,0,""]
[152,null,null,null,null,null,"",null,0,0,0,0,"",null,null,"",null,0,0,0,0,"",null,null,"",null,0,0,0,0,"",null,null,"",null,0,0,0,0,"",null,null,"",null,0,0,0,0,"",null,null,"",null,0,0,0,0,"",0,0,""]
[153,null,null,null,null,null,"",null,0,0,0,0,"",null,null,"",null,0,0,0,0,"",null,null,"",null,0,0,0,0,"",null,null,"",null,0,0,0,0,"",null,null,"",null,0,0,0,0,"",null,null,"",null,0,0,0,0,"",0,0,""]
[154,null,null,null,null,null,"",null,0,0,0,0,"",null,null,"",null,0,0,0,0,"",null,null,"",null,0,0,0,0,"",null,null,"",null,0,0,0,0,"",null,null,"",null,0,0,0,0,"",null,null,"",null,0,0,0,0,"",0,0,""]
[155,null,null,null,null,null,"",null,0,0,0,0,"",null,null,"",null,0,0,0,0,"",null,null,"",null,0,0,0,0,"",null,null,"",null,0,0,0,0,"",null,null,"",null,0,0,0,0,"",null,null,"",null,0,0,0,0,"",0,0,""]
[156,null,null,null,null,null,"",null,0,0,0,0,"",null,null,"",null,0,0,0,0,"",null,null,"",null,0,0,0,0,"",null,null,"",null,0,0,0,0,"",null,null,"",null,0,0,0,0,"",null,null,"",null,0,0,0,0,"",0,0,""]
[157,null,null,null,null,null,"",null,0,0,0,0,"",null,null,"",null,0,0,0,0,"",null,null,"",null,0,0,0,0,"",null,null,"",null,0,0,0,0,"",null,null,"",null,0,0,0,0,"",null,null,"",null,0,0,0,0,"",0,0,""]
[158,null,null,null,null,null,"",null,0,0,0,0,"",null,null,"",null,0,0,0,0,"",null,null,"",null,0,0,0,0,"",null,null,"",null,0,0,0,0,"",null,null,"",null,0,0,0,0,"",null,null,"",null,0,0,0,0,"",0,0,""]
[159,null,null,null,null,null,"",null,0,0,0,0,"",null,null,"",null,0,0,0,0,"",null,null,"",null,0,0,0,0,"",null,null,"",null,0,0,0,0,"",null,null,"",null,0,0,0,0,"",null,null,"",null,0,0,0,0,"",0,0,""]
[160,null,null,null,null,null,"",null,0,0,0,0,"",null,null,"",null,0,0,0,0,"",null,null,"",null,0,0,0,0,"",null,null,"",null,0,0,0,0,"",null,null,"",null,0,0,0,0,"",null,null,"",null,0,0,0,0,"",0,0,""]
[161,null,null,null,null,null,"",null,0,0,0,0,"",null,null,"",null,0,0,0,0,"",null,null,"",null,0,0,0,0,"",null,null,"",null,0,0,0,0,"",null,null,"",null,0,0,0,0,"",null,null,"",null,0,0,0,0,"",0,0,""]
[162,null,null,null,null,null,"",null,0,0,0,0,"",null,null,"",null,0,0,0,0,"",null,null,"",null,0,0,0,0,"",null,null,"",null,0,0,0,0,"",null,null,"",null,0,0,0,0,"",null,null,"",null,0,0,0,0,"",0,0,""]
[163,null,null,null,null,null,"",null,0,0,0,0,"",null,null,"",null,0,0,0,0,"",null,null,"",null,0,0,0,0,"",null,null,"",null,0,0,0,0,"",null,null,"",null,0,0,0,0,"",null,null,"",null,0,0,0,0,"",0,0,""]
[164,null,null,null,null,null,"",null,0,0,0,0,"",null,null,"",null,0,0,0,0,"",null,null,"",null,0,0,0,0,"",null,null,"",null,0,0,0,0,"",null,null,"",null,0,0,0,0,"",null,null,"",null,0,0,0,0,"",0,0,""]
[165,null,null,null,null,null,"",null,0,0,0,0,"",null,null,"",null,0,0,0,0,"",null,null,"",null,0,0,0,0,"",null,null,"",null,0,0,0,0,"",null,null,"",null,0,0,0,0,"",null,null,"",null,0,0,0,0,"",0,0,""]
[166,null,null,null,null,null,"",null,0,0,0,0,"",null,null,"",null,0,0,0,0,"",null,null,"",null,0,0,0,0,"",null,null,"",null,0,0,0,0,"",null,null,"",null,0,0,0,0,"",null,null,"",null,0,0,0,0,"",0,0,""]
[167,null,null,null,null,null,"",null,0,0,0,0,"",null,null,"",null,0,0,0,0,"",null,null,"",null,0,0,0,0,"",null,null,"",null,0,0,0,0,"",null,null,"",null,0,0,0,0,"",null,null,"",null,0,0,0,0,"",0,0,""]
[168,null,null,null,null,null,"",null,0,0,0,0,"",null,null,"",null,0,0,0,0,"",null,null,"",null,0,0,0,0,"",null,null,"",null,0,0,0,0,"",null,null,"",null,0,0,0,0,"",null,null,"",null,0,0,0,0,"",0,0,""]
[169,null,null,null,null,null,"",null,0,0,0,0,"",null,null,"",null,0,0,0,0,"",null,null,"",null,0,0,0,0,"",null,null,"",null,0,0,0,0,"",null,null,"",null,0,0,0,0,"",null,null,"",null,0,0,0,0,"",0,0,""]
[170,null,null,null,null,null,"",null,0,0,0,0,"",null,null,"",null,0,0,0,0,"",null,null,"",null,0,0,0,0,"",null,null,"",null,0,0,0,0,"",null,null,"",null,0,0,0,0,"",null,null,"",null,0,0,0,0,"",0,0,""]
[171,null,null,null,null,null,"",null,0,0,0,0,"",null,null,"",null,0,0,0,0,"",null,null,"",null,0,0,0,0,"",null,null,"",null,0,0,0,0,"",null,null,"",null,0,0,0,0,"",null,null,"",null,0,0,0,0,"",0,0,""]
[172,null,null,null,null,null,"",null,0,0,0,0,"",null,null,"",null,0,0,0,0,"",null,null,"",null,0,0,0,0,"",null,null,"",null,0,0,0,0,"",null,null,"",null,0,0,0,0,"",null,null,"",null,0,0,0,0,"",0,0,""]
[173,null,null,null,null,null,"",null,0,0,0,0,"",null,null,"",null,0,0,0,0,"",null,null,"",null,0,0,0,0,"",null,null,"",null,0,0,0,0,"",null,null,"",null,0,0,0,0,"",null,null,"",null,0,0,0,0,"",0,0,""]
[174,null,null,null,null,null,"",null,0,0,0,0,"",null,null,"",null,0,0,0,0,"",null,null,"",null,0,0,0,0,"",null,null,"",null,0,0,0,0,"",null,null,"",null,0,0,0,0,"",null,null,"",null,0,0,0,0,"",0,0,""]
[175,null,null,null,null,null,"",null,0,0,0,0,"",null,null,"",null,0,0,0,0,"",null,null,"",null,0,0,0,0,"",null,null,"",null,0,0,0,0,"",null,null,"",null,0,0,0,0,"",null,null,"",null,0,0,0,0,"",0,0,""]
[176,null,null,null,null,null,"",null,0,0,0,0,"",null,null,"",null,0,0,0,0,"",null,null,"",null,0,0,0,0,"",null,null,"",null,0,0,0,0,"",null,null,"",null,0,0,0,0,"",null,null,"",null,0,0,0,0,"",0,0,""]
[177,null,null,null,null,null,"",null,0,0,0,0,"",null,null,"",null,0,0,0,0,"",null,null,"",null,0,0,0,0,"",null,null,"",null,0,0,0,0,"",null,null,"",null,0,0,0,0,"",null,null,"",null,0,0,0,0,"",0,0,""]
[178,null,null,null,null,null,"",null,0,0,0,0,"",null,null,"",null,0,0,0,0,"",null,null,"",null,0,0,0,0,"",null,null,"",null,0,0,0,0,"",null,null,"",null,0,0,0,0,"",null,null,"",null,0,0,0,0,"",0,0,""]
[179,null,null,null,null,null,"",null,0,0,0,0,"",null,null,"",null,0,0,0,0,"",null,null,"",null,0,0,0,0,"",null,null,"",null,0,0,0,0,"",null,null,"",null,0,0,0,0,"",null,null,"",null,0,0,0,0,"",0,0,""]
[180,null,null,null,null,null,"",null,0,0,0,0,"",null,null,"",null,0,0,0,0,"",null,null,"",null,0,0,0,0,"",null,null,"",null,0,0,0,0,"",null,null,"",null,0,0,0,0,"",null,null,"",null,0,0,0,0,"",0,0,""]
[181,null,null,null,null,null,"",null,0,0,0,0,"",null,null,"",null,0,0,0,0,"",null,null,"",null,0,0,0,0,"",null,null,"",null,0,0,0,0,"",null,null,"",null,0,0,0,0,"",null,null,"",null,0,0,0,0,"",0,0,""]
[182,null,null,null,null,null,"",null,0,0,0,0,"",null,null,"",null,0,0,0,0,"",null,null,"",null,0,0,0,0,"",null,null,"",null,0,0,0,0,"",null,null,"",null,0,0,0,0,"",null,null,"",null,0,0,0,0,"",0,0,""]
[183,null,null,null,null,null,"",null,0,0,0,0,"",null,null,"",null,0,0,0,0,"",null,null,"",null,0,0,0,0,"",null,null,"",null,0,0,0,0,"",null,null,"",null,0,0,0,0,"",null,null,"",null,0,0,0,0,"",0,0,""]
[184,null,null,null,null,null,"",null,0,0,0,0,"",null,null,"",null,0,0,0,0,"",null,null,"",null,0,0,0,0,"",null,null,"",null,0,0,0,0,"",null,null,"",null,0,0,0,0,"",null,null,"",null,0,0,0,0,"",0,0,""]
[185,null,null,null,null,null,"",null,0,0,0,0,"",null,null,"",null,0,0,0,0,"",null,null,"",null,0,0,0,0,"",null,null,"",null,0,0,0,0,"",null,null,"",null,0,0,0,0,"",null,null,"",null,0,0,0,0,"",0,0,""]
[186,null,null,null,null,null,"",null,0,0,0,0,"",null,null,"",null,0,0,0,0,"",null,null,"",null,0,0,0,0,"",null,null,"",null,0,0,0,0,"",null,null,"",null,0,0,0,0,"",null,null,"",null,0,0,0,0,"",0,0,""]
[187,null,null,null,null,null,"",null,0,0,0,0,"",null,null,"",null,0,0,0,0,"",null,null,"",null,0,0,0,0,"",null,null,"",null,0,0,0,0,"",null,null,"",null,0,0,0,0,"",null,null,"",null,0,0,0,0,"",0,0,""]
[188,null,null,null,null,null,"",null,0,0,0,0,"",null,null,"",null,0,0,0,0,"",null,null,"",null,0,0,0,0,"",null,null,"",null,0,0,0,0,"",null,null,"",null,0,0,0,0,"",null,null,"",null,0,0,0,0,"",0,0,""]
[189,null,null,null,null,null,"",null,0,0,0,0,"",null,null,"",null,0,0,0,0,"",null,null,"",null,0,0,0,0,"",null,null,"",null,0,0,0,0,"",null,null,"",null,0,0,0,0,"",null,null,"",null,0,0,0,0,"",0,0,""]
[190,null,null,null,null,null,"",null,0,0,0,0,"",null,null,"",null,0,0,0,0,"",null,null,"",null,0,0,0,0,"",null,null,"",null,0,0,0,0,"",null,null,"",null,0,0,0,0,"",null,null,"",null,0,0,0,0,"",0,0,""]
[191,null,null,null,null,null,"",null,0,0,0,0,"",null,null,"",null,0,0,0,0,"",null,null,"",null,0,0,0,0,"",null,null,"",null,0,0,0,0,"",null,null,"",null,0,0,0,0,"",null,null,"",null,0,0,0,0,"",0,0,""]
[192,null,null,null,null,null,"",null,0,0,0,0,"",null,null,"",null,0,0,0,0,"",null,null,"",null,0,0,0,0,"",null,null,"",null,0,0,0,0,"",null,null,"",null,0,0,0,0,"",null,null,"",null,0,0,0,0,"",0,0,""]
[193,null,null,null,null,null,{"$f":"IFERROR(F200/E200,\"\")","v":""},null,{"$f":"+F200+H200","v":0},{"$f":"+E200-I200","v":0},{"$f":"+I200*0.1","v":0},{"$f":"+J200+K200","v":0},{"$f":"IFERROR(+L200/E200,\"\")","v":""},null,null,"",null,0,0,0,0,"",null,null,"",null,0,0,0,0,"",null,null,"",null,0,0,0,0,"",null,null,"",null,0,0,0,0,"",null,null,"",null,0,0,0,0,"",0,0,""]
[194,null,null,null,null,null,"",null,0,0,0,0,"",null,null,{"$f":"IFERROR(O201/N201,\"\")","v":""},null,{"$f":"+O201+Q201","v":0},{"$f":"+N201-R201","v":0},{"$f":"+R201*0.1","v":0},{"$f":"+S201+T201","v":0},{"$f":"IFERROR(+U201/N201,\"\")","v":""},null,null,{"$f":"IFERROR(X201/W201,\"\")","v":""},null,{"$f":"+X201+Z201","v":0},{"$f":"+W201-AA201","v":0},{"$f":"+AA201*0.1","v":0},{"$f":"+AB201+AC201","v":0},{"$f":"IFERROR(+AD201/W201,\"\")","v":""},null,null,{"$f":"IFERROR(AG201/AF201,\"\")","v":""},null,{"$f":"+AG201+AI201","v":0},{"$f":"+AF201-AJ201","v":0},{"$f":"+AJ201*0.1","v":0},{"$f":"+AK201+AL201","v":0},{"$f":"IFERROR(+AM201/AF201,\"\")","v":""},null,null,{"$f":"IFERROR(AP201/AO201,\"\")","v":""},null,{"$f":"+AP201+AR201","v":0},{"$f":"+AO201-AS201","v":0},{"$f":"+AS201*0.1","v":0},{"$f":"+AT201+AU201","v":0},{"$f":"IFERROR(+AV201/AO201,\"\")","v":""},null,null,{"$f":"IFERROR(AY201/AX201,\"\")","v":""},null,{"$f":"+AY201+BA201","v":0},{"$f":"+AX201-BB201","v":0},{"$f":"+BB201*0.1","v":0},{"$f":"+BC201+BD201","v":0},{"$f":"IFERROR(+BE201/AX201,\"\")","v":""},{"$f":"+W201+AF201+AO201+AX201","v":0},{"$f":"U201+AD201+AM201+AV201+BE201","v":0},{"$f":"IFERROR(BH201/BJ201,\"\")","v":""}]
[195,null,null,null,null,null,"",null,0,0,0,0,"",null,null,"",null,0,0,0,0,"",null,null,"",null,0,0,0,0,"",null,null,"",null,0,0,0,0,"",null,null,"",null,0,0,0,0,"",null,null,"",null,0,0,0,0,"",0,0,""]
[196,null,null,null,null,null,"",null,0,0,0,0,"",null,null,"",null,0,0,0,0,"",null,null,"",null,0,0,0,0,"",null,null,"",null,0,0,0,0,"",null,null,"",null,0,0,0,0,"",null,null,"",null,0,0,0,0,"",0,0,""]
[197,null,null,null,null,null,"",null,0,0,0,0,"",null,null,"",null,0,0,0,0,"",null,null,"",null,0,0,0,0,"",null,null,"",null,0,0,0,0,"",null,null,"",null,0,0,0,0,"",null,null,"",null,0,0,0,0,"",0,0,""]
[198,null,null,null,null,null,"",null,0,0,0,0,"",null,null,"",null,0,0,0,0,"",null,null,"",null,0,0,0,0,"",null,null,"",null,0,0,0,0,"",null,null,"",null,0,0,0,0,"",null,null,"",null,0,0,0,0,"",0,0,""]
[199,null,null,null,null,null,"",null,0,0,0,0,"",null,null,"",null,0,0,0,0,"",null,null,"",null,0,0,0,0,"",null,null,"",null,0,0,0,0,"",null,null,"",null,0,0,0,0,"",null,null,"",null,0,0,0,0,"",0,0,""]
[200,null,null,null,null,null,"",null,0,0,0,0,"",null,null,"",null,0,0,0,0,"",null,null,"",null,0,0,0,0,"",null,null,"",null,0,0,0,0,"",null,null,"",null,0,0,0,0,"",null,null,"",null,0,0,0,0,"",0,0,""]
[201,null,null,null,null,null,"",null,0,0,0,0,"",null,null,"",null,0,0,0,0,"",null,null,"",null,0,0,0,0,"",null,null,"",null,0,0,0,0,"",null,null,"",null,0,0,0,0,"",null,null,"",null,0,0,0,0,"",0,0,""]
[202,null,null,null,null,null,"",null,0,0,0,0,"",null,null,"",null,0,0,0,0,"",null,null,"",null,0,0,0,0,"",null,null,"",null,0,0,0,0,"",null,null,"",null,0,0,0,0,"",null,null,"",null,0,0,0,0,"",0,0,""]
[203,null,null,null,null,null,"",null,0,0,0,0,"",null,null,"",null,0,0,0,0,"",null,null,"",null,0,0,0,0,"",null,null,"",null,0,0,0,0,"",null,null,"",null,0,0,0,0,"",null,null,"",null,0,0,0,0,"",0,0,""]
[204,null,null,null,null,null,"",null,0,0,0,0,"",null,null,"",null,0,0,0,0,"",null,null,"",null,0,0,0,0,"",null,null,"",null,0,0,0,0,"",null,null,"",null,0,0,0,0,"",null,null,"",null,0,0,0,0,"",0,0,""]
[205,null,null,null,null,null,"",null,0,0,0,0,"",null,null,"",null,0,0,0,0,"",null,null,"",null,0,0,0,0,"",null,null,"",null,0,0,0,0,"",null,null,"",null,0,0,0,0,"",null,null,"",null,0,0,0,0,"",0,0,""]
[206,null,null,null,null,null,"",null,0,0,0,0,"",null,null,"",null,0,0,0,0,"",null,null,"",null,0,0,0,0,"",null,null,"",null,0,0,0,0,"",null,null,"",null,0,0,0,0,"",null,null,"",null,0,0,0,0,"",0,0,""]
[207,null,null,null,null,null,"",null,0,0,0,0,"",null,null,"",null,0,0,0,0,"",null,null,"",null,0,0,0,0,"",null,null,"",null,0,0,0,0,"",null,null,"",null,0,0,0,0,"",null,null,"",null,0,0,0,0,"",0,0,""]
[208,null,null,null,null,null,"",null,0,0,0,0,"",null,null,"",null,0,0,0,0,"",null,null,"",null,0,0,0,0,"",null,null,"",null,0,0,0,0,"",null,null,"",null,0,0,0,0,"",null,null,"",null,0,0,0,0,"",0,0,""]
[209,null,null,null,null,null,"",null,0,0,0,0,"",null,null,"",null,0,0,0,0,"",null,null,"",null,0,0,0,0,"",null,null,"",null,0,0,0,0,"",null,null,"",null,0,0,0,0,"",null,null,"",null,0,0,0,0,"",0,0,""]
[210,null,null,null,null,null,"",null,0,0,0,0,"",null,null,"",null,0,0,0,0,"",null,null,"",null,0,0,0,0,"",null,null,"",null,0,0,0,0,"",null,null,"",null,0,0,0,0,"",null,null,"",null,0,0,0,0,"",0,0,""]
[211,null,null,null,null,null,"",null,0,0,0,0,"",null,null,"",null,0,0,0,0,"",null,null,"",null,0,0,0,0,"",null,null,"",null,0,0,0,0,"",null,null,"",null,0,0,0,0,"",null,null,"",null,0,0,0,0,"",0,0,""]
[212,null,null,null,null,null,"",null,0,0,0,0,"",null,null,"",null,0,0,0,0,"",null,null,"",null,0,0,0,0,"",null,null,"",null,0,0,0,0,"",null,null,"",null,0,0,0,0,"",null,null,"",null,0,0,0,0,"",0,0,""]
[213,null,null,null,null,null,"",null,0,0,0,0,"",null,null,"",null,0,0,0,0,"",null,null,"",null,0,0,0,0,"",null,null,"",null,0,0,0,0,"",null,null,"",null,0,0,0,0,"",null,null,"",null,0,0,0,0,"",0,0,""]
[214,null,null,null,null,null,"",null,0,0,0,0,"",null,null,"",null,0,0,0,0,"",null,null,"",null,0,0,0,0,"",null,null,"",null,0,0,0,0,"",null,null,"",null,0,0,0,0,"",null,null,"",null,0,0,0,0,"",0,0,""]
[215,null,null,null,null,null,"",null,0,0,0,0,"",null,null,"",null,0,0,0,0,"",null,null,"",null,0,0,0,0,"",null,null,"",null,0,0,0,0,"",null,null,"",null,0,0,0,0,"",null,null,"",null,0,0,0,0,"",0,0,""]
[216,null,null,null,null,null,"",null,0,0,0,0,"",null,null,"",null,0,0,0,0,"",null,null,"",null,0,0,0,0,"",null,null,"",null,0,0,0,0,"",null,null,"",null,0,0,0,0,"",null,null,"",null,0,0,0,0,"",0,0,""]
[217,null,null,null,null,null,"",null,0,0,0,0,"",null,null,"",null,0,0,0,0,"",null,null,"",null,0,0,0,0,"",null,null,"",null,0,0,0,0,"",null,null,"",null,0,0,0,0,"",null,null,"",null,0,0,0,0,"",0,0,""]
[218,null,null,null,null,null,"",null,0,0,0,0,"",null,null,"",null,0,0,0,0,"",null,null,"",null,0,0,0,0,"",null,null,"",null,0,0,0,0,"",null,null,"",null,0,0,0,0,"",null,null,"",null,0,0,0,0,"",0,0,""]
[219,null,null,null,null,null,"",null,0,0,0,0,"",null,null,"",null,0,0,0,0,"",null,null,"",null,0,0,0,0,"",null,null,"",null,0,0,0,0,"",null,null,"",null,0,0,0,0,"",null,null,"",null,0,0,0,0,"",0,0,""]
[220,null,null,null,null,null,"",null,0,0,0,0,"",null,null,"",null,0,0,0,0,"",null,null,"",null,0,0,0,0,"",null,null,"",null,0,0,0,0,"",null,null,"",null,0,0,0,0,"",null,null,"",null,0,0,0,0,"",0,0,""]
[221,null,null,null,null,null,"",null,0,0,0,0,"",null,null,"",null,0,0,0,0,"",null,null,"",null,0,0,0,0,"",null,null,"",null,0,0,0,0,"",null,null,"",null,0,0,0,0,"",null,null,"",null,0,0,0,0,"",0,0,""]
[222,null,null,null,null,null,"",null,0,0,0,0,"",null,null,"",null,0,0,0,0,"",null,null,"",null,0,0,0,0,"",null,null,"",null,0,0,0,0,"",null,null,"",null,0,0,0,0,"",null,null,"",null,0,0,0,0,"",0,0,""]
[223,null,null,null,null,null,"",null,0,0,0,0,"",null,null,"",null,0,0,0,0,"",null,null,"",null,0,0,0,0,"",null,null,"",null,0,0,0,0,"",null,null,"",null,0,0,0,0,"",null,null,"",null,0,0,0,0,"",0,0,""]
[224,null,null,null,null,null,"",null,0,0,0,0,"",null,null,"",null,0,0,0,0,"",null,null,"",null,0,0,0,0,"",null,null,"",null,0,0,0,0,"",null,null,"",null,0,0,0,0,"",null,null,"",null,0,0,0,0,"",0,0,""]
[225,null,null,null,null,null,"",null,0,0,0,0,"",null,null,"",null,0,0,0,0,"",null,null,"",null,0,0,0,0,"",null,null,"",null,0,0,0,0,"",null,null,"",null,0,0,0,0,"",null,null,"",null,0,0,0,0,"",0,0,""]
[226,null,null,null,null,null,"",null,0,0,0,0,"",null,null,"",null,0,0,0,0,"",null,null,"",null,0,0,0,0,"",null,null,"",null,0,0,0,0,"",null,null,"",null,0,0,0,0,"",null,null,"",null,0,0,0,0,"",0,0,""]
[227,null,null,null,null,null,"",null,0,0,0,0,"",null,null,"",null,0,0,0,0,"",null,null,"",null,0,0,0,0,"",null,null,"",null,0,0,0,0,"",null,null,"",null,0,0,0,0,"",null,null,"",null,0,0,0,0,"",0,0,""]
[228,null,null,null,null,null,"",null,0,0,0,0,"",null,null,"",null,0,0,0,0,"",null,null,"",null,0,0,0,0,"",null,null,"",null,0,0,0,0,"",null,null,"",null,0,0,0,0,"",null,null,"",null,0,0,0,0,"",0,0,""]
[229,null,null,null,null,null,"",null,0,0,0,0,"",null,null,"",null,0,0,0,0,"",null,null,"",null,0,0,0,0,"",null,null,"",null,0,0,0,0,"",null,null,"",null,0,0,0,0,"",null,null,"",null,0,0,0,0,"",0,0,""]
[230,null,null,null,null,null,"",null,0,0,0,0,"",null,null,"",null,0,0,0,0,"",null,null,"",null,0,0,0,0,"",null,null,"",null,0,0,0,0,"",null,null,"",null,0,0,0,0,"",null,null,"",null,0,0,0,0,"",0,0,""]
[231,null,null,null,null,null,"",null,0,0,0,0,"",null,null,"",null,0,0,0,0,"",null,null,"",null,0,0,0,0,"",null,null,"",null,0,0,0,0,"",null,null,"",null,0,0,0,0,"",null,null,"",null,0,0,0,0,"",0,0,""]
[232,null,null,null,null,null,"",null,0,0,0,0,"",null,null,"",null,0,0,0,0,"",null,null,"",null,0,0,0,0,"",null,null,"",null,0,0,0,0,"",null,null,"",null,0,0,0,0,"",null,null,"",null,0,0,0,0,"",0,0,""]
[233,null,null,null,null,null,"",null,0,0,0,0,"",null,null,"",null,0,0,0,0,"",null,null,"",null,0,0,0,0,"",null,null,"",null,0,0,0,0,"",null,null,"",null,0,0,0,0,"",null,null,"",null,0,0,0,0,"",0,0,""]
[234,null,null,null,null,null,"",null,0,0,0,0,"",null,null,"",null,0,0,0,0,"",null,null,"",null,0,0,0,0,"",null,null,"",null,0,0,0,0,"",null,null,"",null,0,0,0,0,"",null,null,"",null,0,0,0,0,"",0,0,""]
[235,null,null,null,null,null,"",null,0,0,0,0,"",null,null,"",null,0,0,0,0,"",null,null,"",null,0,0,0,0,"",null,null,"",null,0,0,0,0,"",null,null,"",null,0,0,0,0,"",null,null,"",null,0,0,0,0,"",0,0,""]
[236,null,null,null,null,null,"",null,0,0,0,0,"",null,null,"",null,0,0,0,0,"",null,null,"",null,0,0,0,0,"",null,null,"",null,0,0,0,0,"",null,null,"",null,0,0,0,0,"",null,null,"",null,0,0,0,0,"",0,0,""]
[237,null,null,null,null,null,"",null,0,0,0,0,"",null,null,"",null,0,0,0,0,"",null,null,"",null,0,0,0,0,"",null,null,"",null,0,0,0,0,"",null,null,"",null,0,0,0,0,"",null,null,"",null,0,0,0,0,"",0,0,""]
[238,null,null,null,null,null,"",null,0,0,0,0,"",null,null,"",null,0,0,0,0,"",null,null,"",null,0,0,0,0,"",null,null,"",null,0,0,0,0,"",null,null,"",null,0,0,0,0,"",null,null,"",null,0,0,0,0,"",0,0,""]
[239,null,null,null,null,null,"",null,0,0,0,0,"",null,null,"",null,0,0,0,0,"",null,null,"",null,0,0,0,0,"",null,null,"",null,0,0,0,0,"",null,null,"",null,0,0,0,0,"",null,null,"",null,0,0,0,0,"",0,0,""]
[240,null,null,null,null,null,"",null,0,0,0,0,"",null,null,"",null,0,0,0,0,"",null,null,"",null,0,0,0,0,"",null,null,"",null,0,0,0,0,"",null,null,"",null,0,0,0,0,"",null,null,"",null,0,0,0,0,"",0,0,""]
[241,null,null,null,null,null,"",null,0,0,0,0,"",null,null,"",null,0,0,0,0,"",null,null,"",null,0,0,0,0,"",null,null,"",null,0,0,0,0,"",null,null,"",null,0,0,0,0,"",null,null,"",null,0,0,0,0,"",0,0,""]
[242,null,null,null,null,null,"",null,0,0,0,0,"",null,null,"",null,0,0,0,0,"",null,null,"",null,0,0,0,0,"",null,null,"",null,0,0,0,0,"",null,null,"",null,0,0,0,0,"",null,null,"",null,0,0,0,0,"",0,0,""]
[243,null,null,null,null,null,"",null,0,0,0,0,"",null,null,"",null,0,0,0,0,"",null,null,"",null,0,0,0,0,"",null,null,"",null,0,0,0,0,"",null,null,"",null,0,0,0,0,"",null,null,"",null,0,0,0,0,"",0,0,""]
[244,null,null,null,null,null,"",null,0,0,0,0,"",null,null,"",null,0,0,0,0,"",null,null,"",null,0,0,0,0,"",null,null,"",null,0,0,0,0,"",null,null,"",null,0,0,0,0,"",null,null,"",null,0,0,0,0,"",0,0,""]
[245,null,null,null,null,null,"",null,0,0,0,0,"",null,null,"",null,0,0,0,0,"",null,null,"",null,0,0,0,0,"",null,null,"",null,0,0,0,0,"",null,null,"",null,0,0,0,0,"",null,null,"",null,0,0,0,0,"",0,0,""]
[246,null,null,null,null,null,"",null,0,0,0,0,"",null,null,"",null,0,0,0,0,"",null,null,"",null,0,0,0,0,"",null,null,"",null,0,0,0,0,"",null,null,"",null,0,0,0,0,"",null,null,"",null,0,0,0,0,"",0,0,""]
[247,null,null,null,null,null,"",null,0,0,0,0,"",null,null,"",null,0,0,0,0,"",null,null,"",null,0,0,0,0,"",null,null,"",null,0,0,0,0,"",null,null,"",null,0,0,0,0,"",null,null,"",null,0,0,0,0,"",0,0,""]
[248,null,null,null,null,null,"",null,0,0,0,0,"",null,null,"",null,0,0,0,0,"",null,null,"",null,0,0,0,0,"",null,null,"",null,0,0,0,0,"",null,null,"",null,0,0,0,0,"",null,null,"",null,0,0,0,0,"",0,0,""]
[249,null,null,null,null,null,"",null,0,0,0,0,"",null,null,"",null,0,0,0,0,"",null,null,"",null,0,0,0,0,"",null,null,"",null,0,0,0,0,"",null,null,"",null,0,0,0,0,"",null,null,"",null,0,0,0,0,"",0,0,""]
[250,null,null,null,null,null,"",null,0,0,0,0,"",null,null,"",null,0,0,0,0,"",null,null,"",null,0,0,0,0,"",null,null,"",null,0,0,0,0,"",null,null,"",null,0,0,0,0,"",null,null,"",null,0,0,0,0,"",0,0,""]
[251,null,null,null,null,null,"",null,0,0,0,0,"",null,null,"",null,0,0,0,0,"",null,null,"",null,0,0,0,0,"",null,null,"",null,0,0,0,0,"",null,null,"",null,0,0,0,0,"",null,null,"",null,0,0,0,0,"",0,0,""]
[252,null,null,null,null,null,"",null,0,0,0,0,"",null,null,"",null,0,0,0,0,"",null,null,"",null,0,0,0,0,"",null,null,"",null,0,0,0,0,"",null,null,"",null,0,0,0,0,"",null,null,"",null,0,0,0,0,"",0,0,""]
[253,null,null,null,null,null,"",null,0,0,0,0,"",null,null,"",null,0,0,0,0,"",null,null,"",null,0,0,0,0,"",null,null,"",null,0,0,0,0,"",null,null,"",null,0,0,0,0,"",null,null,"",null,0,0,0,0,"",0,0,""]
[254,null,null,null,null,null,"",null,0,0,0,0,"",null,null,"",null,0,0,0,0,"",null,null,"",null,0,0,0,0,"",null,null,"",null,0,0,0,0,"",null,null,"",null,0,0,0,0,"",null,null,"",null,0,0,0,0,"",0,0,""]
[255,null,null,null,null,null,"",null,0,0,0,0,"",null,null,"",null,0,0,0,0,"",null,null,"",null,0,0,0,0,"",null,null,"",null,0,0,0,0,"",null,null,"",null,0,0,0,0,"",null,null,"",null,0,0,0,0,"",0,0,""]
[256,null,null,null,null,null,"",null,0,0,0,0,"",null,null,"",null,0,0,0,0,"",null,null,"",null,0,0,0,0,"",null,null,"",null,0,0,0,0,"",null,null,"",null,0,0,0,0,"",null,null,"",null,0,0,0,0,"",0,0,""]
[257,null,null,null,null,null,{"$f":"IFERROR(F264/E264,\"\")","v":""},null,{"$f":"+F264+H264","v":0},{"$f":"+E264-I264","v":0},{"$f":"+I264*0.1","v":0},{"$f":"+J264+K264","v":0},{"$f":"IFERROR(+L264/E264,\"\")","v":""},null,null,"",null,0,0,0,0,"",null,null,"",null,0,0,0,0,"",null,null,"",null,0,0,0,0,"",null,null,"",null,0,0,0,0,"",null,null,"",null,0,0,0,0,"",0,0,""]
[258,null,null,null,null,null,"",null,0,0,0,0,"",null,null,{"$f":"IFERROR(O265/N265,\"\")","v":""},null,{"$f":"+O265+Q265","v":0},{"$f":"+N265-R265","v":0},{"$f":"+R265*0.1","v":0},{"$f":"+S265+T265","v":0},{"$f":"IFERROR(+U265/N265,\"\")","v":""},null,null,{"$f":"IFERROR(X265/W265,\"\")","v":""},null,{"$f":"+X265+Z265","v":0},{"$f":"+W265-AA265","v":0},{"$f":"+AA265*0.1","v":0},{"$f":"+AB265+AC265","v":0},{"$f":"IFERROR(+AD265/W265,\"\")","v":""},null,null,{"$f":"IFERROR(AG265/AF265,\"\")","v":""},null,{"$f":"+AG265+AI265","v":0},{"$f":"+AF265-AJ265","v":0},{"$f":"+AJ265*0.1","v":0},{"$f":"+AK265+AL265","v":0},{"$f":"IFERROR(+AM265/AF265,\"\")","v":""},null,null,{"$f":"IFERROR(AP265/AO265,\"\")","v":""},null,{"$f":"+AP265+AR265","v":0},{"$f":"+AO265-AS265","v":0},{"$f":"+AS265*0.1","v":0},{"$f":"+AT265+AU265","v":0},{"$f":"IFERROR(+AV265/AO265,\"\")","v":""},null,null,{"$f":"IFERROR(AY265/AX265,\"\")","v":""},null,{"$f":"+AY265+BA265","v":0},{"$f":"+AX265-BB265","v":0},{"$f":"+BB265*0.1","v":0},{"$f":"+BC265+BD265","v":0},{"$f":"IFERROR(+BE265/AX265,\"\")","v":""},{"$f":"+W265+AF265+AO265+AX265","v":0},{"$f":"U265+AD265+AM265+AV265+BE265","v":0},{"$f":"IFERROR(BH265/BJ265,\"\")","v":""}]
[259,null,null,null,null,null,"",null,0,0,0,0,"",null,null,"",null,0,0,0,0,"",null,null,"",null,0,0,0,0,"",null,null,"",null,0,0,0,0,"",null,null,"",null,0,0,0,0,"",null,null,"",null,0,0,0,0,"",0,0,""]
[260,null,null,null,null,null,"",null,0,0,0,0,"",null,null,"",null,0,0,0,0,"",null,null,"",null,0,0,0,0,"",null,null,"",null,0,0,0,0,"",null,null,"",null,0,0,0,0,"",null,null,"",null,0,0,0,0,"",0,0,""]
[261,null,null,null,null,null,"",null,0,0,0,0,"",null,null,"",null,0,0,0,0,"",null,null,"",null,0,0,0,0,"",null,null,"",null,0,0,0,0,"",null,null,"",null,0,0,0,0,"",null,null,"",null,0,0,0,0,"",0,0,""]
[262,null,null,null,null,null,"",null,0,0,0,0,"",null,null,"",null,0,0,0,0,"",null,null,"",null,0,0,0,0,"",null,null,"",null,0,0,0,0,"",null,null,"",null,0,0,0,0,"",null,null,"",null,0,0,0,0,"",0,0,""]
[263,null,null,null,null,null,"",null,0,0,0,0,"",null,null,"",null,0,0,0,0,"",null,null,"",null,0,0,0,0,"",null,null,"",null,0,0,0,0,"",null,null,"",null,0,0,0,0,"",null,null,"",null,0,0,0,0,"",0,0,""]
[264,null,null,null,null,null,"",null,0,0,0,0,"",null,null,"",null,0,0,0,0,"",null,null,"",null,0,0,0,0,"",null,null,"",null,0,0,0,0,"",null,null,"",null,0,0,0,0,"",null,null,"",null,0,0,0,0,"",0,0,""]
[265,null,null,null,null,null,"",null,0,0,0,0,"",null,null,"",null,0,0,0,0,"",null,null,"",null,0,0,0,0,"",null,null,"",null,0,0,0,0,"",null,null,"",null,0,0,0,0,"",null,null,"",null,0,0,0,0,"",0,0,""]
[266,null,null,null,null,null,"",null,0,0,0,0,"",null,null,"",null,0,0,0,0,"",null,null,"",null,0,0,0,0,"",null,null,"",null,0,0,0,0,"",null,null,"",null,0,0,0,0,"",null,null,"",null,0,0,0,0,"",0,0,""]
[267,null,null,null,null,null,"",null,0,0,0,0,"",null,null,"",null,0,0,0,0,"",null,null,"",null,0,0,0,0,"",null,null,"",null,0,0,0,0,"",null,null,"",null,0,0,0,0,"",null,null,"",null,0,0,0,0,"",0,0,""]
[268,null,null,null,null,null,"",null,0,0,0,0,"",null,null,"",null,0,0,0,0,"",null,null,"",null,0,0,0,0,"",null,null,"",null,0,0,0,0,"",null,null,"",null,0,0,0,0,"",null,null,"",null,0,0,0,0,"",0,0,""]
[269,null,null,null,null,null,"",null,0,0,0,0,"",null,null,"",null,0,0,0,0,"",null,null,"",null,0,0,0,0,"",null,null,"",null,0,0,0,0,"",null,null,"",null,0,0,0,0,"",null,null,"",null,0,0,0,0,"",0,0,""]
[270,null,null,null,null,null,"",null,0,0,0,0,"",null,null,"",null,0,0,0,0,"",null,null,"",null,0,0,0,0,"",null,null,"",null,0,0,0,0,"",null,null,"",null,0,0,0,0,"",null,null,"",null,0,0,0,0,"",0,0,""]
[271,null,null,null,null,null,"",null,0,0,0,0,"",null,null,"",null,0,0,0,0,"",null,null,"",null,0,0,0,0,"",null,null,"",null,0,0,0,0,"",null,null,"",null,0,0,0,0,"",null,null,"",null,0,0,0,0,"",0,0,""]
[272,null,null,null,null,null,"",null,0,0,0,0,"",null,null,"",null,0,0,0,0,"",null,null,"",null,0,0,0,0,"",null,null,"",null,0,0,0,0,"",null,null,"",null,0,0,0,0,"",null,null,"",null,0,0,0,0,"",0,0,""]
[273,null,null,null,null,null,"",null,0,0,0,0,"",null,null,"",null,0,0,0,0,"",null,null,"",null,0,0,0,0,"",null,null,"",null,0,0,0,0,"",null,null,"",null,0,0,0,0,"",null,null,"",null,0,0,0,0,"",0,0,""]
[274,null,null,null,null,null,"",null,0,0,0,0,"",null,null,"",null,0,0,0,0,"",null,null,"",null,0,0,0,0,"",null,null,"",null,0,0,0,0,"",null,null,"",null,0,0,0,0,"",null,null,"",null,0,0,0,0,"",0,0,""]
[275,null,null,null,null,null,"",null,0,0,0,0,"",null,null,"",null,0,0,0,0,"",null,null,"",null,0,0,0,0,"",null,null,"",null,0,0,0,0,"",null,null,"",null,0,0,0,0,"",null,null,"",null,0,0,0,0,"",0,0,""]
[276,null,null,null,null,null,"",null,0,0,0,0,"",null,null,"",null,0,0,0,0,"",null,null,"",null,0,0,0,0,"",null,null,"",null,0,0,0,0,"",null,null,"",null,0,0,0,0,"",null,null,"",null,0,0,0,0,"",0,0,""]
[277,null,null,null,null,null,"",null,0,0,0,0,"",null,null,"",null,0,0,0,0,"",null,null,"",null,0,0,0,0,"",null,null,"",null,0,0,0,0,"",null,null,"",null,0,0,0,0,"",null,null,"",null,0,0,0,0,"",0,0,""]
[278,null,null,null,null,null,"",null,0,0,0,0,"",null,null,"",null,0,0,0,0,"",null,null,"",null,0,0,0,0,"",null,null,"",null,0,0,0,0,"",null,null,"",null,0,0,0,0,"",null,null,"",null,0,0,0,0,"",0,0,""]
[279,null,null,null,null,null,"",null,0,0,0,0,"",null,null,"",null,0,0,0,0,"",null,null,"",null,0,0,0,0,"",null,null,"",null,0,0,0,0,"",null,null,"",null,0,0,0,0,"",null,null,"",null,0,0,0,0,"",0,0,""]
[280,null,null,null,null,null,"",null,0,0,0,0,"",null,null,"",null,0,0,0,0,"",null,null,"",null,0,0,0,0,"",null,null,"",null,0,0,0,0,"",null,null,"",null,0,0,0,0,"",null,null,"",null,0,0,0,0,"",0,0,""]
[281,null,null,null,null,null,"",null,0,0,0,0,"",null,null,"",null,0,0,0,0,"",null,null,"",null,0,0,0,0,"",null,null,"",null,0,0,0,0,"",null,null,"",null,0,0,0,0,"",null,null,"",null,0,0,0,0,"",0,0,""]
[282,null,null,null,null,null,"",null,0,0,0,0,"",null,null,"",null,0,0,0,0,"",null,null,"",null,0,0,0,0,"",null,null,"",null,0,0,0,0,"",null,null,"",null,0,0,0,0,"",null,null,"",null,0,0,0,0,"",0,0,""]
[283,null,null,null,null,null,"",null,0,0,0,0,"",null,null,"",null,0,0,0,0,"",null,null,"",null,0,0,0,0,"",null,null,"",null,0,0,0,0,"",null,null,"",null,0,0,0,0,"",null,null,"",null,0,0,0,0,"",0,0,""]
[284,null,null,null,null,null,"",null,0,0,0,0,"",null,null,"",null,0,0,0,0,"",null,null,"",null,0,0,0,0,"",null,null,"",null,0,0,0,0,"",null,null,"",null,0,0,0,0,"",null,null,"",null,0,0,0,0,"",0,0,""]
[285,null,null,null,null,null,"",null,0,0,0,0,"",null,null,"",null,0,0,0,0,"",null,null,"",null,0,0,0,0,"",null,null,"",null,0,0,0,0,"",null,null,"",null,0,0,0,0,"",null,null,"",null,0,0,0,0,"",0,0,""]
[286,null,null,null,null,null,"",null,0,0,0,0,"",null,null,"",null,0,0,0,0,"",null,null,"",null,0,0,0,0,"",null,null,"",null,0,0,0,0,"",null,null,"",null,0,0,0,0,"",null,null,"",null,0,0,0,0,"",0,0,""]
[287,null,null,null,null,null,"",null,0,0,0,0,"",null,null,"",null,0,0,0,0,"",null,null,"",null,0,0,0,0,"",null,null,"",null,0,0,0,0,"",null,null,"",null,0,0,0,0,"",null,null,"",null,0,0,0,0,"",0,0,""]
[288,null,null,null,null,null,"",null,0,0,0,0,"",null,null,"",null,0,0,0,0,"",null,null,"",null,0,0,0,0,"",null,null,"",null,0,0,0,0,"",null,null,"",null,0,0,0,0,"",null,null,"",null,0,0,0,0,"",0,0,""]
[289,null,null,null,null,null,"",null,0,0,0,0,"",null,null,"",null,0,0,0,0,"",null,null,"",null,0,0,0,0,"",null,null,"",null,0,0,0,0,"",null,null,"",null,0,0,0,0,"",null,null,"",null,0,0,0,0,"",0,0,""]
[290,null,null,null,null,null,"",null,0,0,0,0,"",null,null,"",null,0,0,0,0,"",null,null,"",null,0,0,0,0,"",null,null,"",null,0,0,0,0,"",null,null,"",null,0,0,0,0,"",null,null,"",null,0,0,0,0,"",0,0,""]
[291,null,null,null,null,null,"",null,0,0,0,0,"",null,null,"",null,0,0,0,0,"",null,null,"",null,0,0,0,0,"",null,null,"",null,0,0,0,0,"",null,null,"",null,0,0,0,0,"",null,null,"",null,0,0,0,0,"",0,0,""]
[292,null,null,null,null,null,"",null,0,0,0,0,"",null,null,"",null,0,0,0,0,"",null,null,"",null,0,0,0,0,"",null,null,"",null,0,0,0,0,"",null,null,"",null,0,0,0,0,"",null,null,"",null,0,0,0,0,"",0,0,""]
[293,null,null,null,null,null,"",null,0,0,0,0,"",null,null,"",null,0,0,0,0,"",null,null,"",null,0,0,0,0,"",null,null,"",null,0,0,0,0,"",null,null,"",null,0,0,0,0,"",null,null,"",null,0,0,0,0,"",0,0,""]
[294,null,null,null,null,null,"",null,0,0,0,0,"",null,null,"",null,0,0,0,0,"",null,null,"",null,0,0,0,0,"",null,null,"",null,0,0,0,0,"",null,null,"",null,0,0,0,0,"",null,null,"",null,0,0,0,0,"",0,0,""]
[295,null,null,null,null,null,"",null,0,0,0,0,"",null,null,"",null,0,0,0,0,"",null,null,"",null,0,0,0,0,"",null,null,"",null,0,0,0,0,"",null,null,"",null,0,0,0,0,"",null,null,"",null,0,0,0,0,"",0,0,""]
[296,null,null,null,null,null,"",null,0,0,0,0,"",null,null,"",null,0,0,0,0,"",null,null,"",null,0,0,0,0,"",null,null,"",null,0,0,0,0,"",null,null,"",null,0,0,0,0,"",null,null,"",null,0,0,0,0,"",0,0,""]
[297,null,null,null,null,null,"",null,0,0,0,0,"",null,null,"",null,0,0,0,0,"",null,null,"",null,0,0,0,0,"",null,null,"",null,0,0,0,0,"",null,null,"",null,0,0,0,0,"",null,null,"",null,0,0,0,0,"",0,0,""]
[298,null,null,null,null,null,"",null,0,0,0,0,"",null,null,"",null,0,0,0,0,"",null,null,"",null,0,0,0,0,"",null,null,"",null,0,0,0,0,"",null,null,"",null,0,0,0,0,"",null,null,"",null,0,0,0,0,"",0,0,""]
[299,null,null,null,null,null,"",null,0,0,0,0,"",null,null,"",null,0,0,0,0,"",null,null,"",null,0,0,0,0,"",null,null,"",null,0,0,0,0,"",null,null,"",null,0,0,0,0,"",null,null,"",null,0,0,0,0,"",0,0,""]
[300,null,null,null,null,null,"",null,0,0,0,0,"",null,null,"",null,0,0,0,0,"",null,null,"",null,0,0,0,0,"",null,null,"",null,0,0,0,0,"",null,null,"",null,0,0,0,0,"",null,null,"",null,0,0,0,0,"",0,0,""]
[301,null,null,null,null,null,"",null,0,0,0,0,"",null,null,"",null,0,0,0,0,"",null,null,"",null,0,0,0,0,"",null,null,"",null,0,0,0,0,"",null,null,"",null,0,0,0,0,"",null,null,"",null,0,0,0,0,"",0,0,""]
[302,null,null,null,null,null,"",null,0,0,0,0,"",null,null,"",null,0,0,0,0,"",null,null,"",null,0,0,0,0,"",null,null,"",null,0,0,0,0,"",null,null,"",null,0,0,0,0,"",null,null,"",null,0,0,0,0,"",0,0,""]
[303,null,null,null,null,null,"",null,0,0,0,0,"",null,null,"",null,0,0,0,0,"",null,null,"",null,0,0,0,0,"",null,null,"",null,0,0,0,0,"",null,null,"",null,0,0,0,0,"",null,null,"",null,0,0,0,0,"",0,0,""]
[304,null,null,null,null,null,"",null,0,0,0,0,"",null,null,"",null,0,0,0,0,"",null,null,"",null,0,0,0,0,"",null,null,"",null,0,0,0,0,"",null,null,"",null,0,0,0,0,"",null,null,"",null,0,0,0,0,"",0,0,""]
[305,null,null,null,null,null,"",null,0,0,0,0,"",null,null,"",null,0,0,0,0,"",null,null,"",null,0,0,0,0,"",null,null,"",null,0,0,0,0,"",null,null,"",null,0,0,0,0,"",null,null,"",null,0,0,0,0,"",0,0,""]
[306,null,null,null,null,null,"",null,0,0,0,0,"",null,null,"",null,0,0,0,0,"",null,null,"",null,0,0,0,0,"",null,null,"",null,0,0,0,0,"",null,null,"",null,0,0,0,0,"",null,null,"",null,0,0,0,0,"",0,0,""]
[307,null,null,null,null,null,"",null,0,0,0,0,"",null,null,"",null,0,0,0,0,"",null,null,"",null,0,0,0,0,"",null,null,"",null,0,0,0,0,"",null,null,"",null,0,0,0,0,"",null,null,"",null,0,0,0,0,"",0,0,""]
[308,null,null,null,null,null,"",null,0,0,0,0,"",null,null,"",null,0,0,0,0,"",null,null,"",null,0,0,0,0,"",null,null,"",null,0,0,0,0,"",null,null,"",null,0,0,0,0,"",null,null,"",null,0,0,0,0,"",0,0,""]
[309,null,null,null,null,null,"",null,0,0,0,0,"",null,null,"",null,0,0,0,0,"",null,null,"",null,0,0,0,0,"",null,null,"",null,0,0,0,0,"",null,null,"",null,0,0,0,0,"",null,null,"",null,0,0,0,0,"",0,0,""]
[310,null,null,null,null,null,"",null,0,0,0,0,"",null,null,"",null,0,0,0,0,"",null,null,"",null,0,0,0,0,"",null,null,"",null,0,0,0,0,"",null,null,"",null,0,0,0,0,"",null,null,"",null,0,0,0,0,"",0,0,""]
[311,null,null,null,null,null,"",null,0,0,0,0,"",null,null,"",null,0,0,0,0,"",null,null,"",null,0,0,0,0,"",null,null,"",null,0,0,0,0,"",null,null,"",null,0,0,0,0,"",null,null,"",null,0,0,0,0,"",0,0,""]
[312,null,null,null,null,null,"",null,0,0,0,0,"",null,null,"",null,0,0,0,0,"",null,null,"",null,0,0,0,0,"",null,null,"",null,0,0,0,0,"",null,null,"",null,0,0,0,0,"",null,null,"",null,0,0,0,0,"",0,0,""]
[313,null,null,null,null,null,"",null,0,0,0,0,"",null,null,"",null,0,0,0,0,"",null,null,"",null,0,0,0,0,"",null,null,"",null,0,0,0,0,"",null,null,"",null,0,0,0,0,"",null,null,"",null,0,0,0,0,"",0,0,""]
[314,null,null,null,null,null,"",null,0,0,0,0,"",null,null,"",null,0,0,0,0,"",null,null,"",null,0,0,0,0,"",null,null,"",null,0,0,0,0,"",null,null,"",null,0,0,0,0,"",null,null,"",null,0,0,0,0,"",0,0,""]
[315,null,null,null,null,null,"",null,0,0,0,0,"",null,null,"",null,0,0,0,0,"",null,null,"",null,0,0,0,0,"",null,null,"",null,0,0,0,0,"",null,null,"",null,0,0,0,0,"",null,null,"",null,0,0,0,0,"",0,0,""]
[316,null,null,null,null,null,"",null,0,0,0,0,"",null,null,"",null,0,0,0,0,"",null,null,"",null,0,0,0,0,"",null,null,"",null,0,0,0,0,"",null,null,"",null,0,0,0,0,"",null,null,"",null,0,0,0,0,"",0,0,""]
[317,null,null,null,null,null,"",null,0,0,0,0,"",null,null,"",null,0,0,0,0,"",null,null,"",null,0,0,0,0,"",null,null,"",null,0,0,0,0,"",null,null,"",null,0,0,0,0,"",null,null,"",null,0,0,0,0,"",0,0,""]
[318,null,null,null,null,null,"",null,0,0,0,0,"",null,null,"",null,0,0,0,0,"",null,null,"",null,0,0,0,0,"",null,null,"",null,0,0,0,0,"",null,null,"",null,0,0,0,0,"",null,null,"",null,0,0,0,0,"",0,0,""]
[319,null,null,null,null,null,"",null,0,0,0,0,"",null,null,"",null,0,0,0,0,"",null,null,"",null,0,0,0,0,"",null,null,"",null,0,0,0,0,"",null,null,"",null,0,0,0,0,"",null,null,"",null,0,0,0,0,"",0,0,""]
[320,null,null,null,null,null,"",null,0,0,0,0,"",null,null,"",null,0,0,0,0,"",null,null,"",null,0,0,0,0,"",null,null,"",null,0,0,0,0,"",null,null,"",null,0,0,0,0,"",null,null,"",null,0,0,0,0,"",0,0,""]
[321,null,null,null,null,null,{"$f":"IFERROR(F328/E328,\"\")","v":""},null,{"$f":"+F328+H328","v":0},{"$f":"+E328-I328","v":0},{"$f":"+I328*0.1","v":0},{"$f":"+J328+K328","v":0},{"$f":"IFERROR(+L328/E328,\"\")","v":""},null,null,"",null,0,0,0,0,"",null,null,"",null,0,0,0,0,"",null,null,"",null,0,0,0,0,"",null,null,"",null,0,0,0,0,"",null,null,"",null,0,0,0,0,"",0,0,""]
[322,null,null,null,null,null,"",null,0,0,0,0,"",null,null,{"$f":"IFERROR(O329/N329,\"\")","v":""},null,{"$f":"+O329+Q329","v":0},{"$f":"+N329-R329","v":0},{"$f":"+R329*0.1","v":0},{"$f":"+S329+T329","v":0},{"$f":"IFERROR(+U329/N329,\"\")","v":""},null,null,{"$f":"IFERROR(X329/W329,\"\")","v":""},null,{"$f":"+X329+Z329","v":0},{"$f":"+W329-AA329","v":0},{"$f":"+AA329*0.1","v":0},{"$f":"+AB329+AC329","v":0},{"$f":"IFERROR(+AD329/W329,\"\")","v":""},null,null,{"$f":"IFERROR(AG329/AF329,\"\")","v":""},null,{"$f":"+AG329+AI329","v":0},{"$f":"+AF329-AJ329","v":0},{"$f":"+AJ329*0.1","v":0},{"$f":"+AK329+AL329","v":0},{"$f":"IFERROR(+AM329/AF329,\"\")","v":""},null,null,{"$f":"IFERROR(AP329/AO329,\"\")","v":""},null,{"$f":"+AP329+AR329","v":0},{"$f":"+AO329-AS329","v":0},{"$f":"+AS329*0.1","v":0},{"$f":"+AT329+AU329","v":0},{"$f":"IFERROR(+AV329/AO329,\"\")","v":""},null,null,{"$f":"IFERROR(AY329/AX329,\"\")","v":""},null,{"$f":"+AY329+BA329","v":0},{"$f":"+AX329-BB329","v":0},{"$f":"+BB329*0.1","v":0},{"$f":"+BC329+BD329","v":0},{"$f":"IFERROR(+BE329/AX329,\"\")","v":""},{"$f":"+W329+AF329+AO329+AX329","v":0},{"$f":"U329+AD329+AM329+AV329+BE329","v":0},{"$f":"IFERROR(BH329/BJ329,\"\")","v":""}]
[323,null,null,null,null,null,"",null,0,0,0,0,"",null,null,"",null,0,0,0,0,"",null,null,"",null,0,0,0,0,"",null,null,"",null,0,0,0,0,"",null,null,"",null,0,0,0,0,"",null,null,"",null,0,0,0,0,"",0,0,""]
[324,null,null,null,null,null,"",null,0,0,0,0,"",null,null,"",null,0,0,0,0,"",null,null,"",null,0,0,0,0,"",null,null,"",null,0,0,0,0,"",null,null,"",null,0,0,0,0,"",null,null,"",null,0,0,0,0,"",0,0,""]
[325,null,null,null,null,null,"",null,0,0,0,0,"",null,null,"",null,0,0,0,0,"",null,null,"",null,0,0,0,0,"",null,null,"",null,0,0,0,0,"",null,null,"",null,0,0,0,0,"",null,null,"",null,0,0,0,0,"",0,0,""]
[326,null,null,null,null,null,"",null,0,0,0,0,"",null,null,"",null,0,0,0,0,"",null,null,"",null,0,0,0,0,"",null,null,"",null,0,0,0,0,"",null,null,"",null,0,0,0,0,"",null,null,"",null,0,0,0,0,"",0,0,""]
[327,null,null,null,null,null,"",null,0,0,0,0,"",null,null,"",null,0,0,0,0,"",null,null,"",null,0,0,0,0,"",null,null,"",null,0,0,0,0,"",null,null,"",null,0,0,0,0,"",null,null,"",null,0,0,0,0,"",0,0,""]
[328,null,null,null,null,null,"",null,0,0,0,0,"",null,null,"",null,0,0,0,0,"",null,null,"",null,0,0,0,0,"",null,null,"",null,0,0,0,0,"",null,null,"",null,0,0,0,0,"",null,null,"",null,0,0,0,0,"",0,0,""]
[329,null,null,null,null,null,"",null,0,0,0,0,"",null,null,"",null,0,0,0,0,"",null,null,"",null,0,0,0,0,"",null,null,"",null,0,0,0,0,"",null,null,"",null,0,0,0,0,"",null,null,"",null,0,0,0,0,"",0,0,""]
[330,null,null,null,null,null,"",null,0,0,0,0,"",null,null,"",null,0,0,0,0,"",null,null,"",null,0,0,0,0,"",null,null,"",null,0,0,0,0,"",null,null,"",null,0,0,0,0,"",null,null,"",null,0,0,0,0,"",0,0,""]
[331,null,null,null,null,null,"",null,0,0,0,0,"",null,null,"",null,0,0,0,0,"",null,null,"",null,0,0,0,0,"",null,null,"",null,0,0,0,0,"",null,null,"",null,0,0,0,0,"",null,null,"",null,0,0,0,0,"",0,0,""]
[332,null,null,null,null,null,"",null,0,0,0,0,"",null,null,"",null,0,0,0,0,"",null,null,"",null,0,0,0,0,"",null,null,"",null,0,0,0,0,"",null,null,"",null,0,0,0,0,"",null,null,"",null,0,0,0,0,"",0,0,""]
[333,null,null,null,null,null,"",null,0,0,0,0,"",null,null,"",null,0,0,0,0,"",null,null,"",null,0,0,0,0,"",null,null,"",null,0,0,0,0,"",null,null,"",null,0,0,0,0,"",null,null,"",null,0,0,0,0,"",0,0,""]
[334,null,null,null,null,null,"",null,0,0,0,0,"",null,null,"",null,0,0,0,0,"",null,null,"",null,0,0,0,0,"",null,null,"",null,0,0,0,0,"",null,null,"",null,0,0,0,0,"",null,null,"",null,0,0,0,0,"",0,0,""]
[335,null,null,null,null,null,"",null,0,0,0,0,"",null,null,"",null,0,0,0,0,"",null,null,"",null,0,0,0,0,"",null,null,"",null,0,0,0,0,"",null,null,"",null,0,0,0,0,"",null,null,"",null,0,0,0,0,"",0,0,""]
[336,null,null,null,null,null,"",null,0,0,0,0,"",null,null,"",null,0,0,0,0,"",null,null,"",null,0,0,0,0,"",null,null,"",null,0,0,0,0,"",null,null,"",null,0,0,0,0,"",null,null,"",null,0,0,0,0,"",0,0,""]
[337,null,null,null,null,null,"",null,0,0,0,0,"",null,null,"",null,0,0,0,0,"",null,null,"",null,0,0,0,0,"",null,null,"",null,0,0,0,0,"",null,null,"",null,0,0,0,0,"",null,null,"",null,0,0,0,0,"",0,0,""]
[338,null,null,null,null,null,"",null,0,0,0,0,"",null,null,"",null,0,0,0,0,"",null,null,"",null,0,0,0,0,"",null,null,"",null,0,0,0,0,"",null,null,"",null,0,0,0,0,"",null,null,"",null,0,0,0,0,"",0,0,""]
[339,null,null,null,null,null,"",null,0,0,0,0,"",null,null,"",null,0,0,0,0,"",null,null,"",null,0,0,0,0,"",null,null,"",null,0,0,0,0,"",null,null,"",null,0,0,0,0,"",null,null,"",null,0,0,0,0,"",0,0,""]
[340,null,null,null,null,null,"",null,0,0,0,0,"",null,null,"",null,0,0,0,0,"",null,null,"",null,0,0,0,0,"",null,null,"",null,0,0,0,0,"",null,null,"",null,0,0,0,0,"",null,null,"",null,0,0,0,0,"",0,0,""]
[341,null,null,null,null,null,"",null,0,0,0,0,"",null,null,"",null,0,0,0,0,"",null,null,"",null,0,0,0,0,"",null,null,"",null,0,0,0,0,"",null,null,"",null,0,0,0,0,"",null,null,"",null,0,0,0,0,"",0,0,""]
[342,null,null,null,null,null,"",null,0,0,0,0,"",null,null,"",null,0,0,0,0,"",null,null,"",null,0,0,0,0,"",null,null,"",null,0,0,0,0,"",null,null,"",null,0,0,0,0,"",null,null,"",null,0,0,0,0,"",0,0,""]
[343,null,null,null,null,null,"",null,0,0,0,0,"",null,null,"",null,0,0,0,0,"",null,null,"",null,0,0,0,0,"",null,null,"",null,0,0,0,0,"",null,null,"",null,0,0,0,0,"",null,null,"",null,0,0,0,0,"",0,0,""]
[344,null,null,null,null,null,"",null,0,0,0,0,"",null,null,"",null,0,0,0,0,"",null,null,"",null,0,0,0,0,"",null,null,"",null,0,0,0,0,"",null,null,"",null,0,0,0,0,"",null,null,"",null,0,0,0,0,"",0,0,""]
[345,null,null,null,null,null,"",null,0,0,0,0,"",null,null,"",null,0,0,0,0,"",null,null,"",null,0,0,0,0,"",null,null,"",null,0,0,0,0,"",null,null,"",null,0,0,0,0,"",null,null,"",null,0,0,0,0,"",0,0,""]
[346,null,null,null,null,null,"",null,0,0,0,0,"",null,null,"",null,0,0,0,0,"",null,null,"",null,0,0,0,0,"",null,null,"",null,0,0,0,0,"",null,null,"",null,0,0,0,0,"",null,null,"",null,0,0,0,0,"",0,0,""]
[347,null,null,null,null,null,"",null,0,0,0,0,"",null,null,"",null,0,0,0,0,"",null,null,"",null,0,0,0,0,"",null,null,"",null,0,0,0,0,"",null,null,"",null,0,0,0,0,"",null,null,"",null,0,0,0,0,"",0,0,""]
[348,null,null,null,null,null,"",null,0,0,0,0,"",null,null,"",null,0,0,0,0,"",null,null,"",null,0,0,0,0,"",null,null,"",null,0,0,0,0,"",null,null,"",null,0,0,0,0,"",null,null,"",null,0,0,0,0,"",0,0,""]
[349,null,null,null,null,null,"",null,0,0,0,0,"",null,null,"",null,0,0,0,0,"",null,null,"",null,0,0,0,0,"",null,null,"",null,0,0,0,0,"",null,null,"",null,0,0,0,0,"",null,null,"",null,0,0,0,0,"",0,0,""]
[350,null,null,null,null,null,"",null,0,0,0,0,"",null,null,"",null,0,0,0,0,"",null,null,"",null,0,0,0,0,"",null,null,"",null,0,0,0,0,"",null,null,"",null,0,0,0,0,"",null,null,"",null,0,0,0,0,"",0,0,""]
[351,null,null,null,null,null,"",null,0,0,0,0,"",null,null,"",null,0,0,0,0,"",null,null,"",null,0,0,0,0,"",null,null,"",null,0,0,0,0,"",null,null,"",null,0,0,0,0,"",null,null,"",null,0,0,0,0,"",0,0,""]
[352,null,null,null,null,null,"",null,0,0,0,0,"",null,null,"",null,0,0,0,0,"",null,null,"",null,0,0,0,0,"",null,null,"",null,0,0,0,0,"",null,null,"",null,0,0,0,0,"",null,null,"",null,0,0,0,0,"",0,0,""]
[353,null,null,null,null,null,"",null,0,0,0,0,"",null,null,"",null,0,0,0,0,"",null,null,"",null,0,0,0,0,"",null,null,"",null,0,0,0,0,"",null,null,"",null,0,0,0,0,"",null,null,"",null,0,0,0,0,"",0,0,""]
[354,null,null,null,null,null,"",null,0,0,0,0,"",null,null,"",null,0,0,0,0,"",null,null,"",null,0,0,0,0,"",null,null,"",null,0,0,0,0,"",null,null,"",null,0,0,0,0,"",null,null,"",null,0,0,0,0,"",0,0,""]
[355,null,null,null,null,null,"",null,0,0,0,0,"",null,null,"",null,0,0,0,0,"",null,null,"",null,0,0,0,0,"",null,null,"",null,0,0,0,0,"",null,null,"",null,0,0,0,0,"",null,null,"",null,0,0,0,0,"",0,0,""]
[356,null,null,null,null,null,"",null,0,0,0,0,"",null,null,"",null,0,0,0,0,"",null,null,"",null,0,0,0,0,"",null,null,"",null,0,0,0,0,"",null,null,"",null,0,0,0,0,"",null,null,"",null,0,0,0,0,"",0,0,""]
[357,null,null,null,null,null,"",null,0,0,0,0,"",null,null,"",null,0,0,0,0,"",null,null,"",null,0,0,0,0,"",null,null,"",null,0,0,0,0,"",null,null,"",null,0,0,0,0,"",null,null,"",null,0,0,0,0,"",0,0,""]
[358,null,null,null,null,null,"",null,0,0,0,0,"",null,null,"",null,0,0,0,0,"",null,null,"",null,0,0,0,0,"",null,null,"",null,0,0,0,0,"",null,null,"",null,0,0,0,0,"",null,null,"",null,0,0,0,0,"",0,0,""]
[359,null,null,null,null,null,"",null,0,0,0,0,"",null,null,"",null,0,0,0,0,"",null,null,"",null,0,0,0,0,"",null,null,"",null,0,0,0,0,"",null,null,"",null,0,0,0,0,"",null,null,"",null,0,0,0,0,"",0,0,""]
[360,null,null,null,null,null,"",null,0,0,0,0,"",null,null,"",null,0,0,0,0,"",null,null,"",null,0,0,0,0,"",null,null,"",null,0,0,0,0,"",null,null,"",null,0,0,0,0,"",null,null,"",null,0,0,0,0,"",0,0,""]
[361,null,null,null,null,null,"",null,0,0,0,0,"",null,null,"",null,0,0,0,0,"",null,null,"",null,0,0,0,0,"",null,null,"",null,0,0,0,0,"",null,null,"",null,0,0,0,0,"",null,null,"",null,0,0,0,0,"",0,0,""]
[362,null,null,null,null,null,"",null,0,0,0,0,"",null,null,"",null,0,0,0,0,"",null,null,"",null,0,0,0,0,"",null,null,"",null,0,0,0,0,"",null,null,"",null,0,0,0,0,"",null,null,"",null,0,0,0,0,"",0,0,""]
[363,null,null,null,null,null,"",null,0,0,0,0,"",null,null,"",null,0,0,0,0,"",null,null,"",null,0,0,0,0,"",null,null,"",null,0,0,0,0,"",null,null,"",null,0,0,0,0,"",null,null,"",null,0,0,0,0,"",0,0,""]
[364,null,null,null,null,null,"",null,0,0,0,0,"",null,null,"",null,0,0,0,0,"",null,null,"",null,0,0,0,0,"",null,null,"",null,0,0,0,0,"",null,null,"",null,0,0,0,0,"",null,null,"",null,0,0,0,0,"",0,0,""]
[365,null,null,null,null,null,"",null,0,0,0,0,"",null,null,"",null,0,0,0,0,"",null,null,"",null,0,0,0,0,"",null,null,"",null,0,0,0,0,"",null,null,"",null,0,0,0,0,"",null,null,"",null,0,0,0,0,"",0,0,""]
[366,null,null,null,null,null,"",null,0,0,0,0,"",null,null,"",null,0,0,0,0,"",null,null,"",null,0,0,0,0,"",null,null,"",null,0,0,0,0,"",null,null,"",null,0,0,0,0,"",null,null,"",null,0,0,0,0,"",0,0,""]
[367,null,null,null,null,null,"",null,0,0,0,0,"",null,null,"",null,0,0,0,0,"",null,null,"",null,0,0,0,0,"",null,null,"",null,0,0,0,0,"",null,null,"",null,0,0,0,0,"",null,null,"",null,0,0,0,0,"",0,0,""]
[368,null,null,null,null,null,"",null,0,0,0,0,"",null,null,"",null,0,0,0,0,"",null,null,"",null,0,0,0,0,"",null,null,"",null,0,0,0,0,"",null,null,"",null,0,0,0,0,"",null,null,"",null,0,0,0,0,"",0,0,""]
[369,null,null,null,null,null,"",null,0,0,0,0,"",null,null,"",null,0,0,0,0,"",null,null,"",null,0,0,0,0,"",null,null,"",null,0,0,0,0,"",null,null,"",null,0,0,0,0,"",null,null,"",null,0,0,0,0,"",0,0,""]
[370,null,null,null,null,null,"",null,0,0,0,0,"",null,null,"",null,0,0,0,0,"",null,null,"",null,0,0,0,0,"",null,null,"",null,0,0,0,0,"",null,null,"",null,0,0,0,0,"",null,null,"",null,0,0,0,0,"",0,0,""]
[371,null,null,null,null,null,"",null,0,0,0,0,"",null,null,"",null,0,0,0,0,"",null,null,"",null,0,0,0,0,"",null,null,"",null,0,0,0,0,"",null,null,"",null,0,0,0,0,"",null,null,"",null,0,0,0,0,"",0,0,""]
[372,null,null,null,null,null,"",null,0,0,0,0,"",null,null,"",null,0,0,0,0,"",null,null,"",null,0,0,0,0,"",null,null,"",null,0,0,0,0,"",null,null,"",null,0,0,0,0,"",null,null,"",null,0,0,0,0,"",0,0,""]
[373,null,null,null,null,null,"",null,0,0,0,0,"",null,null,"",null,0,0,0,0,"",null,null,"",null,0,0,0,0,"",null,null,"",null,0,0,0,0,"",null,null,"",null,0,0,0,0,"",null,null,"",null,0,0,0,0,"",0,0,""]
[374,null,null,null,null,null,"",null,0,0,0,0,"",null,null,"",null,0,0,0,0,"",null,null,"",null,0,0,0,0,"",null,null,"",null,0,0,0,0,"",null,null,"",null,0,0,0,0,"",null,null,"",null,0,0,0,0,"",0,0,""]
[375,null,null,null,null,null,"",null,0,0,0,0,"",null,null,"",null,0,0,0,0,"",null,null,"",null,0,0,0,0,"",null,null,"",null,0,0,0,0,"",null,null,"",null,0,0,0,0,"",null,null,"",null,0,0,0,0,"",0,0,""]
[376,null,null,null,null,null,"",null,0,0,0,0,"",null,null,"",null,0,0,0,0,"",null,null,"",null,0,0,0,0,"",null,null,"",null,0,0,0,0,"",null,null,"",null,0,0,0,0,"",null,null,"",null,0,0,0,0,"",0,0,""]
[377,null,null,null,null,null,"",null,0,0,0,0,"",null,null,"",null,0,0,0,0,"",null,null,"",null,0,0,0,0,"",null,null,"",null,0,0,0,0,"",null,null,"",null,0,0,0,0,"",null,null,"",null,0,0,0,0,"",0,0,""]
[378,null,null,null,null,null,"",null,0,0,0,0,"",null,null,"",null,0,0,0,0,"",null,null,"",null,0,0,0,0,"",null,null,"",null,0,0,0,0,"",null,null,"",null,0,0,0,0,"",null,null,"",null,0,0,0,0,"",0,0,""]
[379,null,null,null,null,null,"",null,0,0,0,0,"",null,null,"",null,0,0,0,0,"",null,null,"",null,0,0,0,0,"",null,null,"",null,0,0,0,0,"",null,null,"",null,0,0,0,0,"",null,null,"",null,0,0,0,0,"",0,0,""]
[380,null,null,null,null,null,"",null,0,0,0,0,"",null,null,"",null,0,0,0,0,"",null,null,"",null,0,0,0,0,"",null,null,"",null,0,0,0,0,"",null,null,"",null,0,0,0,0,"",null,null,"",null,0,0,0,0,"",0,0,""]
[381,null,null,null,null,null,"",null,0,0,0,0,"",null,null,"",null,0,0,0,0,"",null,null,"",null,0,0,0,0,"",null,null,"",null,0,0,0,0,"",null,null,"",null,0,0,0,0,"",null,null,"",null,0,0,0,0,"",0,0,""]
[382,null,null,null,null,null,"",null,0,0,0,0,"",null,null,"",null,0,0,0,0,"",null,null,"",null,0,0,0,0,"",null,null,"",null,0,0,0,0,"",null,null,"",null,0,0,0,0,"",null,null,"",null,0,0,0,0,"",0,0,""]
[383,null,null,null,null,null,"",null,0,0,0,0,"",null,null,"",null,0,0,0,0,"",null,null,"",null,0,0,0,0,"",null,null,"",null,0,0,0,0,"",null,null,"",null,0,0,0,0,"",null,null,"",null,0,0,0,0,"",0,0,""]
[384,null,null,null,null,null,"",null,0,0,0,0,"",null,null,"",null,0,0,0,0,"",null,null,"",null,0,0,0,0,"",null,null,"",null,0,0,0,0,"",null,null,"",null,0,0,0,0,"",null,null,"",null,0,0,0,0,"",0,0,""]
[385,null,null,null,null,null,{"$f":"IFERROR(F392/E392,\"\")","v":""},null,{"$f":"+F392+H392","v":0},{"$f":"+E392-I392","v":0},{"$f":"+I392*0.1","v":0},{"$f":"+J392+K392","v":0},{"$f":"IFERROR(+L392/E392,\"\")","v":""},null,null,"",null,0,0,0,0,"",null,null,"",null,0,0,0,0,"",null,null,"",null,0,0,0,0,"",null,null,"",null,0,0,0,0,"",null,null,"",null,0,0,0,0,"",0,0,""]
[386,null,null,null,null,null,"",null,0,0,0,0,"",null,null,{"$f":"IFERROR(O393/N393,\"\")","v":""},null,{"$f":"+O393+Q393","v":0},{"$f":"+N393-R393","v":0},{"$f":"+R393*0.1","v":0},{"$f":"+S393+T393","v":0},{"$f":"IFERROR(+U393/N393,\"\")","v":""},null,null,{"$f":"IFERROR(X393/W393,\"\")","v":""},null,{"$f":"+X393+Z393","v":0},{"$f":"+W393-AA393","v":0},{"$f":"+AA393*0.1","v":0},{"$f":"+AB393+AC393","v":0},{"$f":"IFERROR(+AD393/W393,\"\")","v":""},null,null,{"$f":"IFERROR(AG393/AF393,\"\")","v":""},null,{"$f":"+AG393+AI393","v":0},{"$f":"+AF393-AJ393","v":0},{"$f":"+AJ393*0.1","v":0},{"$f":"+AK393+AL393","v":0},{"$f":"IFERROR(+AM393/AF393,\"\")","v":""},null,null,{"$f":"IFERROR(AP393/AO393,\"\")","v":""},null,{"$f":"+AP393+AR393","v":0},{"$f":"+AO393-AS393","v":0},{"$f":"+AS393*0.1","v":0},{"$f":"+AT393+AU393","v":0},{"$f":"IFERROR(+AV393/AO393,\"\")","v":""},null,null,{"$f":"IFERROR(AY393/AX393,\"\")","v":""},null,{"$f":"+AY393+BA393","v":0},{"$f":"+AX393-BB393","v":0},{"$f":"+BB393*0.1","v":0},{"$f":"+BC393+BD393","v":0},{"$f":"IFERROR(+BE393/AX393,\"\")","v":""},{"$f":"+W393+AF393+AO393+AX393","v":0},{"$f":"U393+AD393+AM393+AV393+BE393","v":0},{"$f":"IFERROR(BH393/BJ393,\"\")","v":""}]
[387,null,null,null,null,null,"",null,0,0,0,0,"",null,null,"",null,0,0,0,0,"",null,null,"",null,0,0,0,0,"",null,null,"",null,0,0,0,0,"",null,null,"",null,0,0,0,0,"",null,null,"",null,0,0,0,0,"",0,0,""]
[388,null,null,null,null,null,"",null,0,0,0,0,"",null,null,"",null,0,0,0,0,"",null,null,"",null,0,0,0,0,"",null,null,"",null,0,0,0,0,"",null,null,"",null,0,0,0,0,"",null,null,"",null,0,0,0,0,"",0,0,""]
[389,null,null,null,null,null,"",null,0,0,0,0,"",null,null,"",null,0,0,0,0,"",null,null,"",null,0,0,0,0,"",null,null,"",null,0,0,0,0,"",null,null,"",null,0,0,0,0,"",null,null,"",null,0,0,0,0,"",0,0,""]
[390,null,null,null,null,null,"",null,0,0,0,0,"",null,null,"",null,0,0,0,0,"",null,null,"",null,0,0,0,0,"",null,null,"",null,0,0,0,0,"",null,null,"",null,0,0,0,0,"",null,null,"",null,0,0,0,0,"",0,0,""]
[391,null,null,null,null,null,"",null,0,0,0,0,"",null,null,"",null,0,0,0,0,"",null,null,"",null,0,0,0,0,"",null,null,"",null,0,0,0,0,"",null,null,"",null,0,0,0,0,"",null,null,"",null,0,0,0,0,"",0,0,""]
[392,null,null,null,null,null,"",null,0,0,0,0,"",null,null,"",null,0,0,0,0,"",null,null,"",null,0,0,0,0,"",null,null,"",null,0,0,0,0,"",null,null,"",null,0,0,0,0,"",null,null,"",null,0,0,0,0,"",0,0,""]
[393,null,null,null,null,null,"",null,0,0,0,0,"",null,null,"",null,0,0,0,0,"",null,null,"",null,0,0,0,0,"",null,null,"",null,0,0,0,0,"",null,null,"",null,0,0,0,0,"",null,null,"",null,0,0,0,0,"",0,0,""]
[394,null,null,null,null,null,"",null,0,0,0,0,"",null,null,"",null,0,0,0,0,"",null,null,"",null,0,0,0,0,"",null,null,"",null,0,0,0,0,"",null,null,"",null,0,0,0,0,"",null,null,"",null,0,0,0,0,"",0,0,""]
[395,null,null,null,null,null,"",null,0,0,0,0,"",null,null,"",null,0,0,0,0,"",null,null,"",null,0,0,0,0,"",null,null,"",null,0,0,0,0,"",null,null,"",null,0,0,0,0,"",null,null,"",null,0,0,0,0,"",0,0,""]
[396,null,null,null,null,null,"",null,0,0,0,0,"",null,null,"",null,0,0,0,0,"",null,null,"",null,0,0,0,0,"",null,null,"",null,0,0,0,0,"",null,null,"",null,0,0,0,0,"",null,null,"",null,0,0,0,0,"",0,0,""]
[397,null,null,null,null,null,"",null,0,0,0,0,"",null,null,"",null,0,0,0,0,"",null,null,"",null,0,0,0,0,"",null,null,"",null,0,0,0,0,"",null,null,"",null,0,0,0,0,"",null,null,"",null,0,0,0,0,"",0,0,""]
[398,null,null,null,null,null,"",null,0,0,0,0,"",null,null,"",null,0,0,0,0,"",null,null,"",null,0,0,0,0,"",null,null,"",null,0,0,0,0,"",null,null,"",null,0,0,0,0,"",null,null,"",null,0,0,0,0,"",0,0,""]
[399,null,null,null,null,null,"",null,0,0,0,0,"",null,null,"",null,0,0,0,0,"",null,null,"",null,0,0,0,0,"",null,null,"",null,0,0,0,0,"",null,null,"",null,0,0,0,0,"",null,null,"",null,0,0,0,0,"",0,0,""]
[400,null,null,null,null,null,"",null,0,0,0,0,"",null,null,"",null,0,0,0,0,"",null,null,"",null,0,0,0,0,"",null,null,"",null,0,0,0,0,"",null,null,"",null,0,0,0,0,"",null,null,"",null,0,0,0,0,"",0,0,""]
[401,null,null,null,null,null,"",null,0,0,0,0,"",null,null,"",null,0,0,0,0,"",null,null,"",null,0,0,0,0,"",null,null,"",null,0,0,0,0,"",null,null,"",null,0,0,0,0,"",null,null,"",null,0,0,0,0,"",0,0,""]
[402,null,null,null,null,null,"",null,0,0,0,0,"",null,null,"",null,0,0,0,0,"",null,null,"",null,0,0,0,0,"",null,null,"",null,0,0,0,0,"",null,null,"",null,0,0,0,0,"",null,null,"",null,0,0,0,0,"",0,0,""]
[403,null,null,null,null,null,"",null,0,0,0,0,"",null,null,"",null,0,0,0,0,"",null,null,"",null,0,0,0,0,"",null,null,"",null,0,0,0,0,"",null,null,"",null,0,0,0,0,"",null,null,"",null,0,0,0,0,"",0,0,""]
[404,null,null,null,null,null,"",null,0,0,0,0,"",null,null,"",null,0,0,0,0,"",null,null,"",null,0,0,0,0,"",null,null,"",null,0,0,0,0,"",null,null,"",null,0,0,0,0,"",null,null,"",null,0,0,0,0,"",0,0,""]
[405,null,null,null,null,null,"",null,0,0,0,0,"",null,null,"",null,0,0,0,0,"",null,null,"",null,0,0,0,0,"",null,null,"",null,0,0,0,0,"",null,null,"",null,0,0,0,0,"",null,null,"",null,0,0,0,0,"",0,0,""]
[406,null,null,null,null,null,"",null,0,0,0,0,"",null,null,"",null,0,0,0,0,"",null,null,"",null,0,0,0,0,"",null,null,"",null,0,0,0,0,"",null,null,"",null,0,0,0,0,"",null,null,"",null,0,0,0,0,"",0,0,""]
[407,null,null,null,null,null,"",null,0,0,0,0,"",null,null,"",null,0,0,0,0,"",null,null,"",null,0,0,0,0,"",null,null,"",null,0,0,0,0,"",null,null,"",null,0,0,0,0,"",null,null,"",null,0,0,0,0,"",0,0,""]
[408,null,null,null,null,null,"",null,0,0,0,0,"",null,null,"",null,0,0,0,0,"",null,null,"",null,0,0,0,0,"",null,null,"",null,0,0,0,0,"",null,null,"",null,0,0,0,0,"",null,null,"",null,0,0,0,0,"",0,0,""]
[409,null,null,null,null,null,"",null,0,0,0,0,"",null,null,"",null,0,0,0,0,"",null,null,"",null,0,0,0,0,"",null,null,"",null,0,0,0,0,"",null,null,"",null,0,0,0,0,"",null,null,"",null,0,0,0,0,"",0,0,""]
[410,null,null,null,null,null,"",null,0,0,0,0,"",null,null,"",null,0,0,0,0,"",null,null,"",null,0,0,0,0,"",null,null,"",null,0,0,0,0,"",null,null,"",null,0,0,0,0,"",null,null,"",null,0,0,0,0,"",0,0,""]
[411,null,null,null,null,null,"",null,0,0,0,0,"",null,null,"",null,0,0,0,0,"",null,null,"",null,0,0,0,0,"",null,null,"",null,0,0,0,0,"",null,null,"",null,0,0,0,0,"",null,null,"",null,0,0,0,0,"",0,0,""]
[412,null,null,null,null,null,"",null,0,0,0,0,"",null,null,"",null,0,0,0,0,"",null,null,"",null,0,0,0,0,"",null,null,"",null,0,0,0,0,"",null,null,"",null,0,0,0,0,"",null,null,"",null,0,0,0,0,"",0,0,""]
[413,null,null,null,null,null,"",null,0,0,0,0,"",null,null,"",null,0,0,0,0,"",null,null,"",null,0,0,0,0,"",null,null,"",null,0,0,0,0,"",null,null,"",null,0,0,0,0,"",null,null,"",null,0,0,0,0,"",0,0,""]
[414,null,null,null,null,null,"",null,0,0,0,0,"",null,null,"",null,0,0,0,0,"",null,null,"",null,0,0,0,0,"",null,null,"",null,0,0,0,0,"",null,null,"",null,0,0,0,0,"",null,null,"",null,0,0,0,0,"",0,0,""]
[415,null,null,null,null,null,"",null,0,0,0,0,"",null,null,"",null,0,0,0,0,"",null,null,"",null,0,0,0,0,"",null,null,"",null,0,0,0,0,"",null,null,"",null,0,0,0,0,"",null,null,"",null,0,0,0,0,"",0,0,""]
[416,null,null,null,null,null,"",null,0,0,0,0,"",null,null,"",null,0,0,0,0,"",null,null,"",null,0,0,0,0,"",null,null,"",null,0,0,0,0,"",null,null,"",null,0,0,0,0,"",null,null,"",null,0,0,0,0,"",0,0,""]
[417,null,null,null,null,null,"",null,0,0,0,0,"",null,null,"",null,0,0,0,0,"",null,null,"",null,0,0,0,0,"",null,null,"",null,0,0,0,0,"",null,null,"",null,0,0,0,0,"",null,null,"",null,0,0,0,0,"",0,0,""]
[418,null,null,null,null,null,"",null,0,0,0,0,"",null,null,"",null,0,0,0,0,"",null,null,"",null,0,0,0,0,"",null,null,"",null,0,0,0,0,"",null,null,"",null,0,0,0,0,"",null,null,"",null,0,0,0,0,"",0,0,""]
[419,null,null,null,null,null,"",null,0,0,0,0,"",null,null,"",null,0,0,0,0,"",null,null,"",null,0,0,0,0,"",null,null,"",null,0,0,0,0,"",null,null,"",null,0,0,0,0,"",null,null,"",null,0,0,0,0,"",0,0,""]
[420,null,null,null,null,null,"",null,0,0,0,0,"",null,null,"",null,0,0,0,0,"",null,null,"",null,0,0,0,0,"",null,null,"",null,0,0,0,0,"",null,null,"",null,0,0,0,0,"",null,null,"",null,0,0,0,0,"",0,0,""]
[421,null,null,null,null,null,"",null,0,0,0,0,"",null,null,"",null,0,0,0,0,"",null,null,"",null,0,0,0,0,"",null,null,"",null,0,0,0,0,"",null,null,"",null,0,0,0,0,"",null,null,"",null,0,0,0,0,"",0,0,""]
[422,null,null,null,null,null,"",null,0,0,0,0,"",null,null,"",null,0,0,0,0,"",null,null,"",null,0,0,0,0,"",null,null,"",null,0,0,0,0,"",null,null,"",null,0,0,0,0,"",null,null,"",null,0,0,0,0,"",0,0,""]
[423,null,null,null,null,null,"",null,0,0,0,0,"",null,null,"",null,0,0,0,0,"",null,null,"",null,0,0,0,0,"",null,null,"",null,0,0,0,0,"",null,null,"",null,0,0,0,0,"",null,null,"",null,0,0,0,0,"",0,0,""]
[424,null,null,null,null,null,"",null,0,0,0,0,"",null,null,"",null,0,0,0,0,"",null,null,"",null,0,0,0,0,"",null,null,"",null,0,0,0,0,"",null,null,"",null,0,0,0,0,"",null,null,"",null,0,0,0,0,"",0,0,""]
[425,null,null,null,null,null,"",null,0,0,0,0,"",null,null,"",null,0,0,0,0,"",null,null,"",null,0,0,0,0,"",null,null,"",null,0,0,0,0,"",null,null,"",null,0,0,0,0,"",null,null,"",null,0,0,0,0,"",0,0,""]
[426,null,null,null,null,null,"",null,0,0,0,0,"",null,null,"",null,0,0,0,0,"",null,null,"",null,0,0,0,0,"",null,null,"",null,0,0,0,0,"",null,null,"",null,0,0,0,0,"",null,null,"",null,0,0,0,0,"",0,0,""]
[427,null,null,null,null,null,"",null,0,0,0,0,"",null,null,"",null,0,0,0,0,"",null,null,"",null,0,0,0,0,"",null,null,"",null,0,0,0,0,"",null,null,"",null,0,0,0,0,"",null,null,"",null,0,0,0,0,"",0,0,""]
[428,null,null,null,null,null,"",null,0,0,0,0,"",null,null,"",null,0,0,0,0,"",null,null,"",null,0,0,0,0,"",null,null,"",null,0,0,0,0,"",null,null,"",null,0,0,0,0,"",null,null,"",null,0,0,0,0,"",0,0,""]
[429,null,null,null,null,null,"",null,0,0,0,0,"",null,null,"",null,0,0,0,0,"",null,null,"",null,0,0,0,0,"",null,null,"",null,0,0,0,0,"",null,null,"",null,0,0,0,0,"",null,null,"",null,0,0,0,0,"",0,0,""]
[430,null,null,null,null,null,"",null,0,0,0,0,"",null,null,"",null,0,0,0,0,"",null,null,"",null,0,0,0,0,"",null,null,"",null,0,0,0,0,"",null,null,"",null,0,0,0,0,"",null,null,"",null,0,0,0,0,"",0,0,""]
[431,null,null,null,null,null,"",null,0,0,0,0,"",null,null,"",null,0,0,0,0,"",null,null,"",null,0,0,0,0,"",null,null,"",null,0,0,0,0,"",null,null,"",null,0,0,0,0,"",null,null,"",null,0,0,0,0,"",0,0,""]
[432,null,null,null,null,null,"",null,0,0,0,0,"",null,null,"",null,0,0,0,0,"",null,null,"",null,0,0,0,0,"",null,null,"",null,0,0,0,0,"",null,null,"",null,0,0,0,0,"",null,null,"",null,0,0,0,0,"",0,0,""]
[433,null,null,null,null,null,"",null,0,0,0,0,"",null,null,"",null,0,0,0,0,"",null,null,"",null,0,0,0,0,"",null,null,"",null,0,0,0,0,"",null,null,"",null,0,0,0,0,"",null,null,"",null,0,0,0,0,"",0,0,""]
[434,null,null,null,null,null,"",null,0,0,0,0,"",null,null,"",null,0,0,0,0,"",null,null,"",null,0,0,0,0,"",null,null,"",null,0,0,0,0,"",null,null,"",null,0,0,0,0,"",null,null,"",null,0,0,0,0,"",0,0,""]
[435,null,null,null,null,null,"",null,0,0,0,0,"",null,null,"",null,0,0,0,0,"",null,null,"",null,0,0,0,0,"",null,null,"",null,0,0,0,0,"",null,null,"",null,0,0,0,0,"",null,null,"",null,0,0,0,0,"",0,0,""]
[436,null,null,null,null,null,"",null,0,0,0,0,"",null,null,"",null,0,0,0,0,"",null,null,"",null,0,0,0,0,"",null,null,"",null,0,0,0,0,"",null,null,"",null,0,0,0,0,"",null,null,"",null,0,0,0,0,"",0,0,""]
[437,null,null,null,null,null,"",null,0,0,0,0,"",null,null,"",null,0,0,0,0,"",null,null,"",null,0,0,0,0,"",null,null,"",null,0,0,0,0,"",null,null,"",null,0,0,0,0,"",null,null,"",null,0,0,0,0,"",0,0,""]
[438,null,null,null,null,null,"",null,0,0,0,0,"",null,null,"",null,0,0,0,0,"",null,null,"",null,0,0,0,0,"",null,null,"",null,0,0,0,0,"",null,null,"",null,0,0,0,0,"",null,null,"",null,0,0,0,0,"",0,0,""]
[439,null,null,null,null,null,"",null,0,0,0,0,"",null,null,"",null,0,0,0,0,"",null,null,"",null,0,0,0,0,"",null,null,"",null,0,0,0,0,"",null,null,"",null,0,0,0,0,"",null,null,"",null,0,0,0,0,"",0,0,""]
[440,null,null,null,null,null,"",null,0,0,0,0,"",null,null,"",null,0,0,0,0,"",null,null,"",null,0,0,0,0,"",null,null,"",null,0,0,0,0,"",null,null,"",null,0,0,0,0,"",null,null,"",null,0,0,0,0,"",0,0,""]
[441,null,null,null,null,null,"",null,0,0,0,0,"",null,null,"",null,0,0,0,0,"",null,null,"",null,0,0,0,0,"",null,null,"",null,0,0,0,0,"",null,null,"",null,0,0,0,0,"",null,null,"",null,0,0,0,0,"",0,0,""]
[442,null,null,null,null,null,"",null,0,0,0,0,"",null,null,"",null,0,0,0,0,"",null,null,"",null,0,0,0,0,"",null,null,"",null,0,0,0,0,"",null,null,"",null,0,0,0,0,"",null,null,"",null,0,0,0,0,"",0,0,""]
[443,null,null,null,null,null,"",null,0,0,0,0,"",null,null,"",null,0,0,0,0,"",null,null,"",null,0,0,0,0,"",null,null,"",null,0,0,0,0,"",null,null,"",null,0,0,0,0,"",null,null,"",null,0,0,0,0,"",0,0,""]
[444,null,null,null,null,null,"",null,0,0,0,0,"",null,null,"",null,0,0,0,0,"",null,null,"",null,0,0,0,0,"",null,null,"",null,0,0,0,0,"",null,null,"",null,0,0,0,0,"",null,null,"",null,0,0,0,0,"",0,0,""]
[445,null,null,null,null,null,"",null,0,0,0,0,"",null,null,"",null,0,0,0,0,"",null,null,"",null,0,0,0,0,"",null,null,"",null,0,0,0,0,"",null,null,"",null,0,0,0,0,"",null,null,"",null,0,0,0,0,"",0,0,""]
[446,null,null,null,null,null,"",null,0,0,0,0,"",null,null,"",null,0,0,0,0,"",null,null,"",null,0,0,0,0,"",null,null,"",null,0,0,0,0,"",null,null,"",null,0,0,0,0,"",null,null,"",null,0,0,0,0,"",0,0,""]
[447,null,null,null,null,null,"",null,0,0,0,0,"",null,null,"",null,0,0,0,0,"",null,null,"",null,0,0,0,0,"",null,null,"",null,0,0,0,0,"",null,null,"",null,0,0,0,0,"",null,null,"",null,0,0,0,0,"",0,0,""]
[448,null,null,null,null,null,"",null,0,0,0,0,"",null,null,"",null,0,0,0,0,"",null,null,"",null,0,0,0,0,"",null,null,"",null,0,0,0,0,"",null,null,"",null,0,0,0,0,"",null,null,"",null,0,0,0,0,"",0,0,""]
[449,null,null,null,null,null,{"$f":"IFERROR(F456/E456,\"\")","v":""},null,{"$f":"+F456+H456","v":0},{"$f":"+E456-I456","v":0},{"$f":"+I456*0.1","v":0},{"$f":"+J456+K456","v":0},{"$f":"IFERROR(+L456/E456,\"\")","v":""},null,null,"",null,0,0,0,0,"",null,null,"",null,0,0,0,0,"",null,null,"",null,0,0,0,0,"",null,null,"",null,0,0,0,0,"",null,null,"",null,0,0,0,0,"",0,0,""]
[450,null,null,null,null,null,"",null,0,0,0,0,"",null,null,{"$f":"IFERROR(O457/N457,\"\")","v":""},null,{"$f":"+O457+Q457","v":0},{"$f":"+N457-R457","v":0},{"$f":"+R457*0.1","v":0},{"$f":"+S457+T457","v":0},{"$f":"IFERROR(+U457/N457,\"\")","v":""},null,null,{"$f":"IFERROR(X457/W457,\"\")","v":""},null,{"$f":"+X457+Z457","v":0},{"$f":"+W457-AA457","v":0},{"$f":"+AA457*0.1","v":0},{"$f":"+AB457+AC457","v":0},{"$f":"IFERROR(+AD457/W457,\"\")","v":""},null,null,{"$f":"IFERROR(AG457/AF457,\"\")","v":""},null,{"$f":"+AG457+AI457","v":0},{"$f":"+AF457-AJ457","v":0},{"$f":"+AJ457*0.1","v":0},{"$f":"+AK457+AL457","v":0},{"$f":"IFERROR(+AM457/AF457,\"\")","v":""},null,null,{"$f":"IFERROR(AP457/AO457,\"\")","v":""},null,{"$f":"+AP457+AR457","v":0},{"$f":"+AO457-AS457","v":0},{"$f":"+AS457*0.1","v":0},{"$f":"+AT457+AU457","v":0},{"$f":"IFERROR(+AV457/AO457,\"\")","v":""},null,null,{"$f":"IFERROR(AY457/AX457,\"\")","v":""},null,{"$f":"+AY457+BA457","v":0},{"$f":"+AX457-BB457","v":0},{"$f":"+BB457*0.1","v":0},{"$f":"+BC457+BD457","v":0},{"$f":"IFERROR(+BE457/AX457,\"\")","v":""},{"$f":"+W457+AF457+AO457+AX457","v":0},{"$f":"U457+AD457+AM457+AV457+BE457","v":0},{"$f":"IFERROR(BH457/BJ457,\"\")","v":""}]
[451,null,null,null,null,null,"",null,0,0,0,0,"",null,null,"",null,0,0,0,0,"",null,null,"",null,0,0,0,0,"",null,null,"",null,0,0,0,0,"",null,null,"",null,0,0,0,0,"",null,null,"",null,0,0,0,0,"",0,0,""]
[452,null,null,null,null,null,"",null,0,0,0,0,"",null,null,"",null,0,0,0,0,"",null,null,"",null,0,0,0,0,"",null,null,"",null,0,0,0,0,"",null,null,"",null,0,0,0,0,"",null,null,"",null,0,0,0,0,"",0,0,""]
[453,null,null,null,null,null,"",null,0,0,0,0,"",null,null,"",null,0,0,0,0,"",null,null,"",null,0,0,0,0,"",null,null,"",null,0,0,0,0,"",null,null,"",null,0,0,0,0,"",null,null,"",null,0,0,0,0,"",0,0,""]
[454,null,null,null,null,null,"",null,0,0,0,0,"",null,null,"",null,0,0,0,0,"",null,null,"",null,0,0,0,0,"",null,null,"",null,0,0,0,0,"",null,null,"",null,0,0,0,0,"",null,null,"",null,0,0,0,0,"",0,0,""]
[455,null,null,null,null,null,"",null,0,0,0,0,"",null,null,"",null,0,0,0,0,"",null,null,"",null,0,0,0,0,"",null,null,"",null,0,0,0,0,"",null,null,"",null,0,0,0,0,"",null,null,"",null,0,0,0,0,"",0,0,""]
[456,null,null,null,null,null,"",null,0,0,0,0,"",null,null,"",null,0,0,0,0,"",null,null,"",null,0,0,0,0,"",null,null,"",null,0,0,0,0,"",null,null,"",null,0,0,0,0,"",null,null,"",null,0,0,0,0,"",0,0,""]
[457,null,null,null,null,null,"",null,0,0,0,0,"",null,null,"",null,0,0,0,0,"",null,null,"",null,0,0,0,0,"",null,null,"",null,0,0,0,0,"",null,null,"",null,0,0,0,0,"",null,null,"",null,0,0,0,0,"",0,0,""]
[458,null,null,null,null,null,"",null,0,0,0,0,"",null,null,"",null,0,0,0,0,"",null,null,"",null,0,0,0,0,"",null,null,"",null,0,0,0,0,"",null,null,"",null,0,0,0,0,"",null,null,"",null,0,0,0,0,"",0,0,""]
[459,null,null,null,null,null,"",null,0,0,0,0,"",null,null,"",null,0,0,0,0,"",null,null,"",null,0,0,0,0,"",null,null,"",null,0,0,0,0,"",null,null,"",null,0,0,0,0,"",null,null,"",null,0,0,0,0,"",0,0,""]
[460,null,null,null,null,null,"",null,0,0,0,0,"",null,null,"",null,0,0,0,0,"",null,null,"",null,0,0,0,0,"",null,null,"",null,0,0,0,0,"",null,null,"",null,0,0,0,0,"",null,null,"",null,0,0,0,0,"",0,0,""]
[461,null,null,null,null,null,"",null,0,0,0,0,"",null,null,"",null,0,0,0,0,"",null,null,"",null,0,0,0,0,"",null,null,"",null,0,0,0,0,"",null,null,"",null,0,0,0,0,"",null,null,"",null,0,0,0,0,"",0,0,""]
[462,null,null,null,null,null,"",null,0,0,0,0,"",null,null,"",null,0,0,0,0,"",null,null,"",null,0,0,0,0,"",null,null,"",null,0,0,0,0,"",null,null,"",null,0,0,0,0,"",null,null,"",null,0,0,0,0,"",0,0,""]
[463,null,null,null,null,null,"",null,0,0,0,0,"",null,null,"",null,0,0,0,0,"",null,null,"",null,0,0,0,0,"",null,null,"",null,0,0,0,0,"",null,null,"",null,0,0,0,0,"",null,null,"",null,0,0,0,0,"",0,0,""]
[464,null,null,null,null,null,"",null,0,0,0,0,"",null,null,"",null,0,0,0,0,"",null,null,"",null,0,0,0,0,"",null,null,"",null,0,0,0,0,"",null,null,"",null,0,0,0,0,"",null,null,"",null,0,0,0,0,"",0,0,""]
[465,null,null,null,null,null,"",null,0,0,0,0,"",null,null,"",null,0,0,0,0,"",null,null,"",null,0,0,0,0,"",null,null,"",null,0,0,0,0,"",null,null,"",null,0,0,0,0,"",null,null,"",null,0,0,0,0,"",0,0,""]
[466,null,null,null,null,null,"",null,0,0,0,0,"",null,null,"",null,0,0,0,0,"",null,null,"",null,0,0,0,0,"",null,null,"",null,0,0,0,0,"",null,null,"",null,0,0,0,0,"",null,null,"",null,0,0,0,0,"",0,0,""]
[467,null,null,null,null,null,"",null,0,0,0,0,"",null,null,"",null,0,0,0,0,"",null,null,"",null,0,0,0,0,"",null,null,"",null,0,0,0,0,"",null,null,"",null,0,0,0,0,"",null,null,"",null,0,0,0,0,"",0,0,""]
[468,null,null,null,null,null,"",null,0,0,0,0,"",null,null,"",null,0,0,0,0,"",null,null,"",null,0,0,0,0,"",null,null,"",null,0,0,0,0,"",null,null,"",null,0,0,0,0,"",null,null,"",null,0,0,0,0,"",0,0,""]
[469,null,null,null,null,null,"",null,0,0,0,0,"",null,null,"",null,0,0,0,0,"",null,null,"",null,0,0,0,0,"",null,null,"",null,0,0,0,0,"",null,null,"",null,0,0,0,0,"",null,null,"",null,0,0,0,0,"",0,0,""]
[470,null,null,null,null,null,"",null,0,0,0,0,"",null,null,"",null,0,0,0,0,"",null,null,"",null,0,0,0,0,"",null,null,"",null,0,0,0,0,"",null,null,"",null,0,0,0,0,"",null,null,"",null,0,0,0,0,"",0,0,""]
[471,null,null,null,null,null,"",null,0,0,0,0,"",null,null,"",null,0,0,0,0,"",null,null,"",null,0,0,0,0,"",null,null,"",null,0,0,0,0,"",null,null,"",null,0,0,0,0,"",null,null,"",null,0,0,0,0,"",0,0,""]
[472,null,null,null,null,null,"",null,0,0,0,0,"",null,null,"",null,0,0,0,0,"",null,null,"",null,0,0,0,0,"",null,null,"",null,0,0,0,0,"",null,null,"",null,0,0,0,0,"",null,null,"",null,0,0,0,0,"",0,0,""]
[473,null,null,null,null,null,"",null,0,0,0,0,"",null,null,"",null,0,0,0,0,"",null,null,"",null,0,0,0,0,"",null,null,"",null,0,0,0,0,"",null,null,"",null,0,0,0,0,"",null,null,"",null,0,0,0,0,"",0,0,""]
[474,null,null,null,null,null,"",null,0,0,0,0,"",null,null,"",null,0,0,0,0,"",null,null,"",null,0,0,0,0,"",null,null,"",null,0,0,0,0,"",null,null,"",null,0,0,0,0,"",null,null,"",null,0,0,0,0,"",0,0,""]
[475,null,null,null,null,null,"",null,0,0,0,0,"",null,null,"",null,0,0,0,0,"",null,null,"",null,0,0,0,0,"",null,null,"",null,0,0,0,0,"",null,null,"",null,0,0,0,0,"",null,null,"",null,0,0,0,0,"",0,0,""]
[476,null,null,null,null,null,"",null,0,0,0,0,"",null,null,"",null,0,0,0,0,"",null,null,"",null,0,0,0,0,"",null,null,"",null,0,0,0,0,"",null,null,"",null,0,0,0,0,"",null,null,"",null,0,0,0,0,"",0,0,""]
[477,null,null,null,null,null,"",null,0,0,0,0,"",null,null,"",null,0,0,0,0,"",null,null,"",null,0,0,0,0,"",null,null,"",null,0,0,0,0,"",null,null,"",null,0,0,0,0,"",null,null,"",null,0,0,0,0,"",0,0,""]
[478,null,null,null,null,null,"",null,0,0,0,0,"",null,null,"",null,0,0,0,0,"",null,null,"",null,0,0,0,0,"",null,null,"",null,0,0,0,0,"",null,null,"",null,0,0,0,0,"",null,null,"",null,0,0,0,0,"",0,0,""]
[479,null,null,null,null,null,"",null,0,0,0,0,"",null,null,"",null,0,0,0,0,"",null,null,"",null,0,0,0,0,"",null,null,"",null,0,0,0,0,"",null,null,"",null,0,0,0,0,"",null,null,"",null,0,0,0,0,"",0,0,""]
[480,null,null,null,null,null,"",null,0,0,0,0,"",null,null,"",null,0,0,0,0,"",null,null,"",null,0,0,0,0,"",null,null,"",null,0,0,0,0,"",null,null,"",null,0,0,0,0,"",null,null,"",null,0,0,0,0,"",0,0,""]
[481,null,null,null,null,null,"",null,0,0,0,0,"",null,null,"",null,0,0,0,0,"",null,null,"",null,0,0,0,0,"",null,null,"",null,0,0,0,0,"",null,null,"",null,0,0,0,0,"",null,null,"",null,0,0,0,0,"",0,0,""]
[482,null,null,null,null,null,"",null,0,0,0,0,"",null,null,"",null,0,0,0,0,"",null,null,"",null,0,0,0,0,"",null,null,"",null,0,0,0,0,"",null,null,"",null,0,0,0,0,"",null,null,"",null,0,0,0,0,"",0,0,""]
[483,null,null,null,null,null,"",null,0,0,0,0,"",null,null,"",null,0,0,0,0,"",null,null,"",null,0,0,0,0,"",null,null,"",null,0,0,0,0,"",null,null,"",null,0,0,0,0,"",null,null,"",null,0,0,0,0,"",0,0,""]
[484,null,null,null,null,null,"",null,0,0,0,0,"",null,null,"",null,0,0,0,0,"",null,null,"",null,0,0,0,0,"",null,null,"",null,0,0,0,0,"",null,null,"",null,0,0,0,0,"",null,null,"",null,0,0,0,0,"",0,0,""]
[485,null,null,null,null,null,"",null,0,0,0,0,"",null,null,"",null,0,0,0,0,"",null,null,"",null,0,0,0,0,"",null,null,"",null,0,0,0,0,"",null,null,"",null,0,0,0,0,"",null,null,"",null,0,0,0,0,"",0,0,""]
[486,null,null,null,null,null,"",null,0,0,0,0,"",null,null,"",null,0,0,0,0,"",null,null,"",null,0,0,0,0,"",null,null,"",null,0,0,0,0,"",null,null,"",null,0,0,0,0,"",null,null,"",null,0,0,0,0,"",0,0,""]
[487,null,null,null,null,null,"",null,0,0,0,0,"",null,null,"",null,0,0,0,0,"",null,null,"",null,0,0,0,0,"",null,null,"",null,0,0,0,0,"",null,null,"",null,0,0,0,0,"",null,null,"",null,0,0,0,0,"",0,0,""]
[488,null,null,null,null,null,"",null,0,0,0,0,"",null,null,"",null,0,0,0,0,"",null,null,"",null,0,0,0,0,"",null,null,"",null,0,0,0,0,"",null,null,"",null,0,0,0,0,"",null,null,"",null,0,0,0,0,"",0,0,""]
[489,null,null,null,null,null,"",null,0,0,0,0,"",null,null,"",null,0,0,0,0,"",null,null,"",null,0,0,0,0,"",null,null,"",null,0,0,0,0,"",null,null,"",null,0,0,0,0,"",null,null,"",null,0,0,0,0,"",0,0,""]
[490,null,null,null,null,null,"",null,0,0,0,0,"",null,null,"",null,0,0,0,0,"",null,null,"",null,0,0,0,0,"",null,null,"",null,0,0,0,0,"",null,null,"",null,0,0,0,0,"",null,null,"",null,0,0,0,0,"",0,0,""]
[491,null,null,null,null,null,"",null,0,0,0,0,"",null,null,"",null,0,0,0,0,"",null,null,"",null,0,0,0,0,"",null,null,"",null,0,0,0,0,"",null,null,"",null,0,0,0,0,"",null,null,"",null,0,0,0,0,"",0,0,""]
[492,null,null,null,null,null,"",null,0,0,0,0,"",null,null,"",null,0,0,0,0,"",null,null,"",null,0,0,0,0,"",null,null,"",null,0,0,0,0,"",null,null,"",null,0,0,0,0,"",null,null,"",null,0,0,0,0,"",0,0,""]
[493,null,null,null,null,null,"",null,0,0,0,0,"",null,null,"",null,0,0,0,0,"",null,null,"",null,0,0,0,0,"",null,null,"",null,0,0,0,0,"",null,null,"",null,0,0,0,0,"",null,null,"",null,0,0,0,0,"",0,0,""]
[494,null,null,null,null,null,"",null,0,0,0,0,"",null,null,"",null,0,0,0,0,"",null,null,"",null,0,0,0,0,"",null,null,"",null,0,0,0,0,"",null,null,"",null,0,0,0,0,"",null,null,"",null,0,0,0,0,"",0,0,""]
[495,null,null,null,null,null,"",null,0,0,0,0,"",null,null,"",null,0,0,0,0,"",null,null,"",null,0,0,0,0,"",null,null,"",null,0,0,0,0,"",null,null,"",null,0,0,0,0,"",null,null,"",null,0,0,0,0,"",0,0,""]
[496,null,null,null,null,null,"",null,0,0,0,0,"",null,null,"",null,0,0,0,0,"",null,null,"",null,0,0,0,0,"",null,null,"",null,0,0,0,0,"",null,null,"",null,0,0,0,0,"",null,null,"",null,0,0,0,0,"",0,0,""]
[497,null,null,null,null,null,"",null,0,0,0,0,"",null,null,"",null,0,0,0,0,"",null,null,"",null,0,0,0,0,"",null,null,"",null,0,0,0,0,"",null,null,"",null,0,0,0,0,"",null,null,"",null,0,0,0,0,"",0,0,""]
[498,null,null,null,null,null,"",null,0,0,0,0,"",null,null,"",null,0,0,0,0,"",null,null,"",null,0,0,0,0,"",null,null,"",null,0,0,0,0,"",null,null,"",null,0,0,0,0,"",null,null,"",null,0,0,0,0,"",0,0,""]
[499,null,null,null,null,null,"",null,0,0,0,0,"",null,null,"",null,0,0,0,0,"",null,null,"",null,0,0,0,0,"",null,null,"",null,0,0,0,0,"",null,null,"",null,0,0,0,0,"",null,null,"",null,0,0,0,0,"",0,0,""]
[500,null,null,null,null,null,"",null,0,0,0,0,"",null,null,"",null,0,0,0,0,"",null,null,"",null,0,0,0,0,"",null,null,"",null,0,0,0,0,"",null,null,"",null,0,0,0,0,"",null,null,"",null,0,0,0,0,"",0,0,""]
[501,null,null,null,null,null,"",null,0,0,0,0,"",null,null,"",null,0,0,0,0,"",null,null,"",null,0,0,0,0,"",null,null,"",null,0,0,0,0,"",null,null,"",null,0,0,0,0,"",null,null,"",null,0,0,0,0,"",0,0,""]
[502,null,null,null,null,null,"",null,0,0,0,0,"",null,null,"",null,0,0,0,0,"",null,null,"",null,0,0,0,0,"",null,null,"",null,0,0,0,0,"",null,null,"",null,0,0,0,0,"",null,null,"",null,0,0,0,0,"",0,0,""]
[503,null,null,null,null,null,"",null,0,0,0,0,"",null,null,"",null,0,0,0,0,"",null,null,"",null,0,0,0,0,"",null,null,"",null,0,0,0,0,"",null,null,"",null,0,0,0,0,"",null,null,"",null,0,0,0,0,"",0,0,""]
[504,null,null,null,null,null,"",null,0,0,0,0,"",null,null,"",null,0,0,0,0,"",null,null,"",null,0,0,0,0,"",null,null,"",null,0,0,0,0,"",null,null,"",null,0,0,0,0,"",null,null,"",null,0,0,0,0,"",0,0,""]
[505,null,null,null,null,null,"",null,0,0,0,0,"",null,null,"",null,0,0,0,0,"",null,null,"",null,0,0,0,0,"",null,null,"",null,0,0,0,0,"",null,null,"",null,0,0,0,0,"",null,null,"",null,0,0,0,0,"",0,0,""]
[506,null,null,null,null,null,"",null,0,0,0,0,"",null,null,"",null,0,0,0,0,"",null,null,"",null,0,0,0,0,"",null,null,"",null,0,0,0,0,"",null,null,"",null,0,0,0,0,"",null,null,"",null,0,0,0,0,"",0,0,""]
[507,null,null,null,null,null,"",null,0,0,0,0,"",null,null,"",null,0,0,0,0,"",null,null,"",null,0,0,0,0,"",null,null,"",null,0,0,0,0,"",null,null,"",null,0,0,0,0,"",null,null,"",null,0,0,0,0,"",0,0,""]
[508,null,null,null,null,null,"",null,0,0,0,0,"",null,null,"",null,0,0,0,0,"",null,null,"",null,0,0,0,0,"",null,null,"",null,0,0,0,0,"",null,null,"",null,0,0,0,0,"",null,null,"",null,0,0,0,0,"",0,0,""]
[509,null,null,null,null,null,"",null,0,0,0,0,"",null,null,"",null,0,0,0,0,"",null,null,"",null,0,0,0,0,"",null,null,"",null,0,0,0,0,"",null,null,"",null,0,0,0,0,"",null,null,"",null,0,0,0,0,"",0,0,""]
[510,null,null,null,null,null,"",null,0,0,0,0,"",null,null,"",null,0,0,0,0,"",null,null,"",null,0,0,0,0,"",null,null,"",null,0,0,0,0,"",null,null,"",null,0,0,0,0,"",null,null,"",null,0,0,0,0,"",0,0,""]
[511,null,null,null,null,null,"",null,0,0,0,0,"",null,null,"",null,0,0,0,0,"",null,null,"",null,0,0,0,0,"",null,null,"",null,0,0,0,0,"",null,null,"",null,0,0,0,0,"",null,null,"",null,0,0,0,0,"",0,0,""]
[512,null,null,null,null,null,"",null,0,0,0,0,"",null,null,"",null,0,0,0,0,"",null,null,"",null,0,0,0,0,"",null,null,"",null,0,0,0,0,"",null,null,"",null,0,0,0,0,"",null,null,"",null,0,0,0,0,"",0,0,""]
[513,null,null,null,null,null,{"$f":"IFERROR(F520/E520,\"\")","v":""},null,{"$f":"+F520+H520","v":0},{"$f":"+E520-I520","v":0},{"$f":"+I520*0.1","v":0},{"$f":"+J520+K520","v":0},{"$f":"IFERROR(+L520/E520,\"\")","v":""},null,null,"",null,0,0,0,0,"",null,null,"",null,0,0,0,0,"",null,null,"",null,0,0,0,0,"",null,null,"",null,0,0,0,0,"",null,null,"",null,0,0,0,0,"",0,0,""]
[514,null,null,null,null,null,"",null,0,0,0,0,"",null,null,{"$f":"IFERROR(O521/N521,\"\")","v":""},null,{"$f":"+O521+Q521","v":0},{"$f":"+N521-R521","v":0},{"$f":"+R521*0.1","v":0},{"$f":"+S521+T521","v":0},{"$f":"IFERROR(+U521/N521,\"\")","v":""},null,null,{"$f":"IFERROR(X521/W521,\"\")","v":""},null,{"$f":"+X521+Z521","v":0},{"$f":"+W521-AA521","v":0},{"$f":"+AA521*0.1","v":0},{"$f":"+AB521+AC521","v":0},{"$f":"IFERROR(+AD521/W521,\"\")","v":""},null,null,{"$f":"IFERROR(AG521/AF521,\"\")","v":""},null,{"$f":"+AG521+AI521","v":0},{"$f":"+AF521-AJ521","v":0},{"$f":"+AJ521*0.1","v":0},{"$f":"+AK521+AL521","v":0},{"$f":"IFERROR(+AM521/AF521,\"\")","v":""},null,null,{"$f":"IFERROR(AP521/AO521,\"\")","v":""},null,{"$f":"+AP521+AR521","v":0},{"$f":"+AO521-AS521","v":0},{"$f":"+AS521*0.1","v":0},{"$f":"+AT521+AU521","v":0},{"$f":"IFERROR(+AV521/AO521,\"\")","v":""},null,null,{"$f":"IFERROR(AY521/AX521,\"\")","v":""},null,{"$f":"+AY521+BA521","v":0},{"$f":"+AX521-BB521","v":0},{"$f":"+BB521*0.1","v":0},{"$f":"+BC521+BD521","v":0},{"$f":"IFERROR(+BE521/AX521,\"\")","v":""},{"$f":"+W521+AF521+AO521+AX521","v":0},{"$f":"U521+AD521+AM521+AV521+BE521","v":0},{"$f":"IFERROR(BH521/BJ521,\"\")","v":""}]
[515,null,null,null,null,null,"",null,0,0,0,0,"",null,null,"",null,0,0,0,0,"",null,null,"",null,0,0,0,0,"",null,null,"",null,0,0,0,0,"",null,null,"",null,0,0,0,0,"",null,null,"",null,0,0,0,0,"",0,0,""]
[516,null,null,null,null,null,"",null,0,0,0,0,"",null,null,"",null,0,0,0,0,"",null,null,"",null,0,0,0,0,"",null,null,"",null,0,0,0,0,"",null,null,"",null,0,0,0,0,"",null,null,"",null,0,0,0,0,"",0,0,""]
[517,null,null,null,null,null,"",null,0,0,0,0,"",null,null,"",null,0,0,0,0,"",null,null,"",null,0,0,0,0,"",null,null,"",null,0,0,0,0,"",null,null,"",null,0,0,0,0,"",null,null,"",null,0,0,0,0,"",0,0,""]
[518,null,null,null,null,null,"",null,0,0,0,0,"",null,null,"",null,0,0,0,0,"",null,null,"",null,0,0,0,0,"",null,null,"",null,0,0,0,0,"",null,null,"",null,0,0,0,0,"",null,null,"",null,0,0,0,0,"",0,0,""]
[519,null,null,null,null,null,"",null,0,0,0,0,"",null,null,"",null,0,0,0,0,"",null,null,"",null,0,0,0,0,"",null,null,"",null,0,0,0,0,"",null,null,"",null,0,0,0,0,"",null,null,"",null,0,0,0,0,"",0,0,""]
[520,null,null,null,null,null,"",null,0,0,0,0,"",null,null,"",null,0,0,0,0,"",null,null,"",null,0,0,0,0,"",null,null,"",null,0,0,0,0,"",null,null,"",null,0,0,0,0,"",null,null,"",null,0,0,0,0,"",0,0,""]
[521,null,null,null,null,null,"",null,0,0,0,0,"",null,null,"",null,0,0,0,0,"",null,null,"",null,0,0,0,0,"",null,null,"",null,0,0,0,0,"",null,null,"",null,0,0,0,0,"",null,null,"",null,0,0,0,0,"",0,0,""]
[522,null,null,null,null,null,"",null,0,0,0,0,"",null,null,"",null,0,0,0,0,"",null,null,"",null,0,0,0,0,"",null,null,"",null,0,0,0,0,"",null,null,"",null,0,0,0,0,"",null,null,"",null,0,0,0,0,"",0,0,""]
[523,null,null,null,null,null,"",null,0,0,0,0,"",null,null,"",null,0,0,0,0,"",null,null,"",null,0,0,0,0,"",null,null,"",null,0,0,0,0,"",null,null,"",null,0,0,0,0,"",null,null,"",null,0,0,0,0,"",0,0,""]
[524,null,null,null,null,null,"",null,0,0,0,0,"",null,null,"",null,0,0,0,0,"",null,null,"",null,0,0,0,0,"",null,null,"",null,0,0,0,0,"",null,null,"",null,0,0,0,0,"",null,null,"",null,0,0,0,0,"",0,0,""]
[525,null,null,null,null,null,"",null,0,0,0,0,"",null,null,"",null,0,0,0,0,"",null,null,"",null,0,0,0,0,"",null,null,"",null,0,0,0,0,"",null,null,"",null,0,0,0,0,"",null,null,"",null,0,0,0,0,"",0,0,""]
[526,null,null,null,null,null,"",null,0,0,0,0,"",null,null,"",null,0,0,0,0,"",null,null,"",null,0,0,0,0,"",null,null,"",null,0,0,0,0,"",null,null,"",null,0,0,0,0,"",null,null,"",null,0,0,0,0,"",0,0,""]
[527,null,null,null,null,null,"",null,0,0,0,0,"",null,null,"",null,0,0,0,0,"",null,null,"",null,0,0,0,0,"",null,null,"",null,0,0,0,0,"",null,null,"",null,0,0,0,0,"",null,null,"",null,0,0,0,0,"",0,0,""]
[528,null,null,null,null,null,"",null,0,0,0,0,"",null,null,"",null,0,0,0,0,"",null,null,"",null,0,0,0,0,"",null,null,"",null,0,0,0,0,"",null,null,"",null,0,0,0,0,"",null,null,"",null,0,0,0,0,"",0,0,""]
[529,null,null,null,null,null,"",null,0,0,0,0,"",null,null,"",null,0,0,0,0,"",null,null,"",null,0,0,0,0,"",null,null,"",null,0,0,0,0,"",null,null,"",null,0,0,0,0,"",null,null,"",null,0,0,0,0,"",0,0,""]
[530,null,null,null,null,null,"",null,0,0,0,0,"",null,null,"",null,0,0,0,0,"",null,null,"",null,0,0,0,0,"",null,null,"",null,0,0,0,0,"",null,null,"",null,0,0,0,0,"",null,null,"",null,0,0,0,0,"",0,0,""]
[531,null,null,null,null,null,"",null,0,0,0,0,"",null,null,"",null,0,0,0,0,"",null,null,"",null,0,0,0,0,"",null,null,"",null,0,0,0,0,"",null,null,"",null,0,0,0,0,"",null,null,"",null,0,0,0,0,"",0,0,""]
[532,null,null,null,null,null,"",null,0,0,0,0,"",null,null,"",null,0,0,0,0,"",null,null,"",null,0,0,0,0,"",null,null,"",null,0,0,0,0,"",null,null,"",null,0,0,0,0,"",null,null,"",null,0,0,0,0,"",0,0,""]
[533,null,null,null,null,null,"",null,0,0,0,0,"",null,null,"",null,0,0,0,0,"",null,null,"",null,0,0,0,0,"",null,null,"",null,0,0,0,0,"",null,null,"",null,0,0,0,0,"",null,null,"",null,0,0,0,0,"",0,0,""]
[534,null,null,null,null,null,"",null,0,0,0,0,"",null,null,"",null,0,0,0,0,"",null,null,"",null,0,0,0,0,"",null,null,"",null,0,0,0,0,"",null,null,"",null,0,0,0,0,"",null,null,"",null,0,0,0,0,"",0,0,""]
[535,null,null,null,null,null,"",null,0,0,0,0,"",null,null,"",null,0,0,0,0,"",null,null,"",null,0,0,0,0,"",null,null,"",null,0,0,0,0,"",null,null,"",null,0,0,0,0,"",null,null,"",null,0,0,0,0,"",0,0,""]
[536,null,null,null,null,null,"",null,0,0,0,0,"",null,null,"",null,0,0,0,0,"",null,null,"",null,0,0,0,0,"",null,null,"",null,0,0,0,0,"",null,null,"",null,0,0,0,0,"",null,null,"",null,0,0,0,0,"",0,0,""]
[537,null,null,null,null,null,"",null,0,0,0,0,"",null,null,"",null,0,0,0,0,"",null,null,"",null,0,0,0,0,"",null,null,"",null,0,0,0,0,"",null,null,"",null,0,0,0,0,"",null,null,"",null,0,0,0,0,"",0,0,""]
[538,null,null,null,null,null,"",null,0,0,0,0,"",null,null,"",null,0,0,0,0,"",null,null,"",null,0,0,0,0,"",null,null,"",null,0,0,0,0,"",null,null,"",null,0,0,0,0,"",null,null,"",null,0,0,0,0,"",0,0,""]
[539,null,null,null,null,null,"",null,0,0,0,0,"",null,null,"",null,0,0,0,0,"",null,null,"",null,0,0,0,0,"",null,null,"",null,0,0,0,0,"",null,null,"",null,0,0,0,0,"",null,null,"",null,0,0,0,0,"",0,0,""]
[540,null,null,null,null,null,"",null,0,0,0,0,"",null,null,"",null,0,0,0,0,"",null,null,"",null,0,0,0,0,"",null,null,"",null,0,0,0,0,"",null,null,"",null,0,0,0,0,"",null,null,"",null,0,0,0,0,"",0,0,""]
[541,null,null,null,null,null,"",null,0,0,0,0,"",null,null,"",null,0,0,0,0,"",null,null,"",null,0,0,0,0,"",null,null,"",null,0,0,0,0,"",null,null,"",null,0,0,0,0,"",null,null,"",null,0,0,0,0,"",0,0,""]
[542,null,null,null,null,null,"",null,0,0,0,0,"",null,null,"",null,0,0,0,0,"",null,null,"",null,0,0,0,0,"",null,null,"",null,0,0,0,0,"",null,null,"",null,0,0,0,0,"",null,null,"",null,0,0,0,0,"",0,0,""]
[543,null,null,null,null,null,"",null,0,0,0,0,"",null,null,"",null,0,0,0,0,"",null,null,"",null,0,0,0,0,"",null,null,"",null,0,0,0,0,"",null,null,"",null,0,0,0,0,"",null,null,"",null,0,0,0,0,"",0,0,""]
[544,null,null,null,null,null,"",null,0,0,0,0,"",null,null,"",null,0,0,0,0,"",null,null,"",null,0,0,0,0,"",null,null,"",null,0,0,0,0,"",null,null,"",null,0,0,0,0,"",null,null,"",null,0,0,0,0,"",0,0,""]
[545,null,null,null,null,null,"",null,0,0,0,0,"",null,null,"",null,0,0,0,0,"",null,null,"",null,0,0,0,0,"",null,null,"",null,0,0,0,0,"",null,null,"",null,0,0,0,0,"",null,null,"",null,0,0,0,0,"",0,0,""]
[546,null,null,null,null,null,"",null,0,0,0,0,"",null,null,"",null,0,0,0,0,"",null,null,"",null,0,0,0,0,"",null,null,"",null,0,0,0,0,"",null,null,"",null,0,0,0,0,"",null,null,"",null,0,0,0,0,"",0,0,""]
[547,null,null,null,null,null,"",null,0,0,0,0,"",null,null,"",null,0,0,0,0,"",null,null,"",null,0,0,0,0,"",null,null,"",null,0,0,0,0,"",null,null,"",null,0,0,0,0,"",null,null,"",null,0,0,0,0,"",0,0,""]
[548,null,null,null,null,null,"",null,0,0,0,0,"",null,null,"",null,0,0,0,0,"",null,null,"",null,0,0,0,0,"",null,null,"",null,0,0,0,0,"",null,null,"",null,0,0,0,0,"",null,null,"",null,0,0,0,0,"",0,0,""]
[549,null,null,null,null,null,"",null,0,0,0,0,"",null,null,"",null,0,0,0,0,"",null,null,"",null,0,0,0,0,"",null,null,"",null,0,0,0,0,"",null,null,"",null,0,0,0,0,"",null,null,"",null,0,0,0,0,"",0,0,""]
[550,null,null,null,null,null,"",null,0,0,0,0,"",null,null,"",null,0,0,0,0,"",null,null,"",null,0,0,0,0,"",null,null,"",null,0,0,0,0,"",null,null,"",null,0,0,0,0,"",null,null,"",null,0,0,0,0,"",0,0,""]
["TOTAL",null,null,null,{"$f":"SUM(E8:E557)","v":0},{"$f":"SUM(F8:F557)","v":0},"",{"$f":"SUM(H8:H557)","v":0},0,0,0,0,"",{"$f":"SUM(N8:N557)","v":0},{"$f":"SUM(O8:O557)","v":0},{"$f":"IFERROR(O558/N558,\"\")","v":""},{"$f":"SUM(Q8:Q557)","v":0},0,0,0,0,"",{"$f":"SUM(W8:W557)","v":0},{"$f":"SUM(X8:X557)","v":0},{"$f":"IFERROR(X558/W558,\"\")","v":""},{"$f":"SUM(Z8:Z557)","v":0},{"$f":"+X558+Z558","v":0},{"$f":"+W558-AA558","v":0},{"$f":"+AA558*0.05","v":0},{"$f":"SUM(AD8:AD557)","v":0},"",{"$f":"SUM(AF8:AF557)","v":0},{"$f":"SUM(AG8:AG557)","v":0},"",{"$f":"SUM(AI8:AI557)","v":0},0,{"$f":"+AF558-AJ558","v":0},{"$f":"+AJ558*0.05","v":0},{"$f":"SUM(AM8:AM557)","v":0},"",{"$f":"SUM(AO8:AO557)","v":0},{"$f":"SUM(AP8:AP557)","v":0},"",{"$f":"SUM(AR8:AR557)","v":0},0,{"$f":"+AO558-AS558","v":0},{"$f":"+AS558*0.05","v":0},{"$f":"SUM(AV8:AV557)","v":0},"",{"$f":"SUM(AX8:AX557)","v":0},{"$f":"SUM(AY8:AY557)","v":0},"",{"$f":"SUM(BA8:BA557)","v":0},0,{"$f":"+AX558-BB558","v":0},{"$f":"+BB558*0.05","v":0},{"$f":"SUM(BE8:BE557)","v":0},"",{"$f":"SUM(BG8:BG557)","v":0},{"$f":"SUM(BH8:BH557)","v":0},"",{"$f":"SUM(BJ8:BJ557)","v":0}]

{"sheet":"2. Susceptibles x Nivel","index":5,"n_rows":10,"n_cols":11,"rows_kept":10,"cut":false,"hidden":false,"merged":[[5,2,5,10],[6,2,6,10],[7,2,7,10],[8,1,9,2],[8,3,9,3],[8,4,8,9],[8,10,9,10]]}
[]
[null,null,null,null,null,null,"RIESGO","% COBERTURA",null,"RIESGO","%  DE SUSCEPTIBLES"]
[null,null,null,null,null,null,"ALTO","<90%",null,"ALTO","80-100%"]
[null,null,null,null,null,null,"MEDIO","90-94%",null,"MEDIO","50-79%"]
[null,null,null,null,null,null,"BAJO","95-100%",null,"BAJO","<50%"]
[null,null,"CÁLCULO DE SUSCEPTIBLES POR  ESTADO/PROVINCIA Y MUNICIPIO/REGIÓN SANITARIA"]
[null,null,"CAMPAÑA DE VACUNACIÓN DE SEGUIMIENTO DE POLIO,  SARAMPIÓN RUBEOLA DE ALTA CALIDAD (CVS) "]
[]
[null,null,null,"Variables","Población de 1 a 6 años",null,null,null,null,null,"Total"]
[null,null,null,null,"2015\n(6 Años)","2016\n(5 Años)","2017\n(4 Años)","2018\n(3 Años)","2019\n(2 Años)","2020\n(1 Años)"]

{"sheet":"3. Susceptibles","index":6,"n_rows":20,"n_cols":11,"rows_kept":20,"cut":false,"hidden":false,"merged":[[11,1,19,2],[6,2,6,10],[7,2,7,10],[8,2,8,10],[9,1,10,2],[9,3,10,3],[9,4,9,9],[9,10,10,10]]}
[]
[null,null,null,null,null,null,"RIESGO","% COBERTURA",null,"RIESGO","%  DE SUSCEPTIBLES"]
[null,null,null,null,null,null,"ALTO","<90%",null,"ALTO","80-100%"]
[null,null,null,null,null,null,"MEDIO","90-94%",null,"MEDIO","50-79%"]
[null,null,null,null,null,null,"BAJO","95-100%",null,"BAJO","<50%"]
[]
[null,null,"CÁLCULO DE SUSCEPTIBLES"]
[null,null,"CAMPAÑA DE VACUNACIÓN DE SEGUIMIENTO DE POLIO,  SARAMPIÓN RUBEOLA DE ALTA CALIDAD (CVS) "]
[]
[null,null,null,"Variables","Población de 1 a 6 años",null,null,null,null,null,"Total"]
[null,null,null,null,"2015\n(6 Años)","2016\n(5 Años)","2017\n(4 Años)","2018\n(3 Años)","2019\n(2 Años)","2020\n(1 Años)"]
[null,null,null,"Población de 12 a 23 meses",{"$f":"'1. Lista Consolidado Susceptibl'!$E$558","v":0},{"$f":"'1. Lista Consolidado Susceptibl'!$N$558","v":0},{"$f":"'1. Lista Consolidado Susceptibl'!W$558","v":0},{"$f":"'1. Lista Consolidado Susceptibl'!$AF$558","v":0},{"$f":"'1. Lista Consolidado Susceptibl'!$AO$558","v":0},{"$f":"'1. Lista Consolidado Susceptibl'!$AX$558","v":0},{"$f":"SUM(E12:J12)","v":0}]
[null,null,null,"Número de niños vacunados con SRP1 de 12 a 23 meses",{"$f":"'1. Lista Consolidado Susceptibl'!$F$558","v":0},{"$f":"'1. Lista Consolidado Susceptibl'!$O$558","v":0},{"$f":"'1. Lista Consolidado Susceptibl'!X$558","v":0},{"$f":"'1. Lista Consolidado Susceptibl'!$AG$558","v":0},{"$f":"'1. Lista Consolidado Susceptibl'!$AP$558","v":0},{"$f":"'1. Lista Consolidado Susceptibl'!$AY$558","v":0},{"$f":"SUM(E13:J13)","v":0}]
[null,null,null,"% de Cobertura",{"$f":"E13/E12","v":{"$error":"#DIV/0!"}},{"$f":"F13/F12","v":{"$error":"#DIV/0!"}},{"$f":"G13/G12","v":{"$error":"#DIV/0!"}},{"$error":"#DIV/0!"},{"$error":"#DIV/0!"},{"$error":"#DIV/0!"},{"$error":"#DIV/0!"}]
[null,null,null,"Número de niños vacunados con SRP de 2 a 4 años (Esquema tardío)",{"$f":"'1. Lista Consolidado Susceptibl'!$H$558","v":0},{"$f":"'1. Lista Consolidado Susceptibl'!$Q$558","v":0},{"$f":"'1. Lista Consolidado Susceptibl'!$Z$558","v":0},{"$f":"'1. Lista Consolidado Susceptibl'!$AI$558","v":0},{"$f":"'1. Lista Consolidado Susceptibl'!$AR$558","v":0},{"$f":"'1. Lista Consolidado Susceptibl'!$BA$558","v":0},{"$f":"SUM(E15:J15)","v":0}]
[null,null,null,"Total de niños vacunados",{"$f":"E15+E13","v":0},{"$f":"F15+F13","v":0},{"$f":"G15+G13","v":0},0,0,0,{"$f":"K15+K13","v":0}]
[null,null,null,"Número de niños no vacunados con SRP",{"$f":"E12-E16","v":0},{"$f":"F12-F16","v":0},{"$f":"G12-G16","v":0},0,0,0,{"$f":"K12-K16","v":0}]
[null,null,null,"Vacunados y no inmunizados (10% de los vacunados)",{"$f":"E16*10/100","v":0},{"$f":"F16*10/100","v":0},{"$f":"G16*10/100","v":0},0,0,0,{"$f":"K16*10/100","v":0}]
[null,null,null,"Total de susceptibles",{"$f":"E18+E17","v":0},{"$f":"F18+F17","v":0},{"$f":"G18+G17","v":0},0,0,0,0]
[null,null,null,"% de susceptibles por cohorte anual",{"$f":"E19/E12","v":{"$error":"#DIV/0!"}},{"$f":"F19/F12","v":{"$error":"#DIV/0!"}},{"$f":"G19/G12","v":{"$error":"#DIV/0!"}},{"$error":"#DIV/0!"},{"$error":"#DIV/0!"},{"$error":"#DIV/0!"},{"$error":"#DIV/0!"}]